BEGIN:VCALENDAR
VERSION:2.0
PRODID:-//Handmade Hong Kong - ECPv6.15.20//NONSGML v1.0//EN
CALSCALE:GREGORIAN
METHOD:PUBLISH
X-WR-CALNAME:Handmade Hong Kong
X-ORIGINAL-URL:https://www.handmadehongkong.com/zh
X-WR-CALDESC:Handmade Hong Kong的活动
REFRESH-INTERVAL;VALUE=DURATION:PT1H
X-Robots-Tag:noindex
X-PUBLISHED-TTL:PT1H
BEGIN:VTIMEZONE
TZID:Asia/Hong_Kong
BEGIN:STANDARD
TZOFFSETFROM:+0800
TZOFFSETTO:+0800
TZNAME:HKT
DTSTART:20250101T000000
END:STANDARD
END:VTIMEZONE
BEGIN:VEVENT
DTSTART;TZID=Asia/Hong_Kong:20260314T110000
DTEND;TZID=Asia/Hong_Kong:20260315T180000
DTSTAMP:20260424T074804
CREATED:20250924T063759Z
LAST-MODIFIED:20260314T145817Z
UID:11109-1773486000-1773597600@www.handmadehongkong.com
SUMMARY:Discovery Bay Weekend Market – March 2026
DESCRIPTION:Join us for our 2-day / full-weekend March DB Market \nIf you would like to join us as a vendor at this market\, please email us on register@handmadehongkong.com for more information. \nHere are the vendor maps for our 14th-15th March 2026 DB Weekend Market: \n \n \nSee below for a list of all of the vendors who will be at this market\, please click on the name to reach their website: \n2ndbloom.studio\na collective Space\nAmber & Coral\nAmberstone Candles\nAngel Wong Image\nArt By Pip\nas_april_accessories\nAxis Performance\nBetter Bean x ECFood x Rudy’s Kombucha x Tempehola\nBlessVision\nBoBo Face painting\nBuster Barks\ncc.lia\nColors of Asia\nContinental Pollen Screen & Blinds\nCyborgThingy\nDB BREW BEER\nDorsia Decor\nDwaMucHandMade\nEat-ate-Eaten Trading\nECLAT\nElissandro Fashion & Sewing School\nfelix & Mina\nGloBilly\nGood Pet Naturally\nGreenpeace East Asia\nHandmade Hong Kong\nHappy Baton\nHealthy Living\nHK Paws Foundation\nHuggie Garden\nImperfect Tools\nIMS CAS Teams\nIndie Global\nJade & Joy\nJellyfish Face Painting\nJoni Handmade + shmystudio\nKgari studio\nLabels Plus\nLeatherLabo\nLelejewelz\nLilly&Co.\nLisatan Pearls\nLIVO\nLove the Self\nLUCAS EARRINGS\nMarakuja\nMeals For Change\nMOROPAIN HK\nMorshiedah\nNAJEL\nNamnam Swedish Candy\nNeon Athletica\nNilu’s henna and products\nnoworryshop\nOMJ Premium Homemade Dried Dog Food\nOver The Ocean\npaperplease\nPersian Carpets and Crafts\nPetsona Limited\nPhotoMagnets.HK\nPinned by ri\nPorch – The Coffee Merchants\npurelySoap.HK\nRaelin Sun\nRichard Crosbie Art\nROLLING BOOKS\nSaffron Drops\nShanti Moganti\nSlofloe\nSnail Workshop\nSound Bath Sessions\nSTEAK KING HOLDINGS LIMITED\nString thing\nSuphia’s functional foods\nThe Jocosus\nThe Little Nook\nTheHan_accessories\nTianseed Art\nTiny Island\nTORENIA\nTreasure Chest Theatre\nVanilla Dreams\nVelvet wines\nVenture Studios\nWM COMPANY\nYoPo Chili\n啡佬\n鳴溢上映 HK Film Echoes
URL:https://www.handmadehongkong.com/zh/event/discovery-bay-weekend-market-march-2026/
LOCATION:DB Plaza\, Discovery Bay Plaza\, Discovery Bay Road\, Discovery Bay\, Hong Kong
CATEGORIES:Discovery Bay Main Plaza,Markets
ATTACH;FMTTYPE=image/jpeg:https://www.handmadehongkong.com/wp-content/uploads/2025/09/2026_03_Master_ENG_KV-scaled.jpg
ORGANIZER;CN="Handmade Hong Kong":MAILTO:connect@handmadehongkong.com
END:VEVENT
BEGIN:VEVENT
DTSTART;TZID=Asia/Hong_Kong:20260411T110000
DTEND;TZID=Asia/Hong_Kong:20260412T180000
DTSTAMP:20260424T074804
CREATED:20250924T064008Z
LAST-MODIFIED:20260410T055126Z
UID:11111-1775905200-1776016800@www.handmadehongkong.com
SUMMARY:Discovery Bay Weekend Market – April 2026
DESCRIPTION:Join us for our 2-day / full-weekend April DB Market \nIf you would like to join us as a vendor at this market\, please email us on register@handmadehongkong.com for more information. \nHere are the vendor maps for our 11th-12th April 2026 DB Weekend Market: \n \n \nSee below for a list of all of the vendors who will be at this market\, please click on the name to reach their website: \nAASTA Heart Roast Coffee\nAlchemi\nAmala\nAnsu Activewear\nAwstore\nBANDIT COFFEE\nBlooming smile\nc.mn.chow.\ncc.lia\nChildren 4 Children\nCœur de beurre\nCOLE COOL\nCONTINENTAL POLLEN SCREEN & BLINDS\nCrafted Artistry\nCrochetchou\nDoors To Freedom\nDwaMucHandMade\nElm.handicraft\nFacePainterHK\nfankaar Living\nfelix & Mina\nGemtique X Lilyhana\nGraceful Quills\nGratitudesprings\nGREENMONT KIDS\nGreenpeace East Asia\nHandmade Hong Kong\nHealthy Living\nHK Paws Foundation\niMandarinChinese\nIndie Global\nJade\nJade&Joy\nJellyfish Face Painting\nJelowie\nKC’s Bakery\nKnitsknotsknits\nL’AMOUR AMOUR\nLamsOpal Jewellery\nLelejewelz\nLovesewmami\nLS Family Handicrafts\nMan man buns\nMarakuja\nMarissa\, Claire & Vera\nMeals for change\nMOROPAIN HK\nMorshiedah\nMount Hermon Produce\nNamnam Swedish Candy\nnasa leather atelier\nNature Mushrooms\nNeon athleletica\nNG KWAI WING\nNiks & Tiks Collection\nNilu’s henna and products\nnoworryshop\nOCEAN BLISS\nOlf-lab\nOMJ Premium Homemade Dried Dog Food\nOn Tables Trading\nPARTY PAINT CIRCUS\nPehnaawa.my\nPersian Rugs Gallery\nphenix creation limited\nPhotomagnets.HK\nProject.Key2E\nQscreations_hk\nRaelin Sun\nReeds in GOD\nRichard Crosbie Art\nROLLING BOOKS\nRunah\nSa77a (saha)\nSanto\nSea and bloom\nSewfa.V\nSolevenir\nSpaceinspace\nSTEAK KING HOLDINGS LIMITED\nSuphia’s Functional Foods\nSupport The Youth Crafts\nThe Jocosus\nThe Peak 老襯亭\nThe Wine Guild\nTheHan_accessories\nTs Brand Collective\nUnnie’s Cookies\nVelvet Wines\nVenture Studios\nWalk&talk®️ / Dl_handmade Dog Wear
URL:https://www.handmadehongkong.com/zh/event/discovery-bay-weekend-market-april-2026/
LOCATION:DB Plaza\, Discovery Bay Plaza\, Discovery Bay Road\, Discovery Bay\, Hong Kong
CATEGORIES:Discovery Bay Main Plaza,Markets
ATTACH;FMTTYPE=image/jpeg:https://www.handmadehongkong.com/wp-content/uploads/2025/09/2026_DB_FullYearFullWeekend_KV_1000x1000-scaled.jpg
ORGANIZER;CN="Handmade Hong Kong":MAILTO:connect@handmadehongkong.com
END:VEVENT
BEGIN:VEVENT
DTSTART;TZID=Asia/Hong_Kong:20260509T110000
DTEND;TZID=Asia/Hong_Kong:20260510T180000
DTSTAMP:20260424T074804
CREATED:20250924T064406Z
LAST-MODIFIED:20260423T085355Z
UID:11114-1778324400-1778436000@www.handmadehongkong.com
SUMMARY:Discovery Bay Mothers Day Market - May 2026
DESCRIPTION:Join us for our 2-day / full-weekend May DB Market \nIf you would like to join us as a vendor at this market\, please email us on register@handmadehongkong.com for more information. \nHere are the vendor maps for our 9th-10th May 2026 DB Weekend Market: \n  \nSee below for a list of all of the vendors who will be at this market\, please click on the name to reach their website: \nAfrikBlend Concept\nAgapi.cer x Born in june\nAmber & Coral\nAnsu Activewear\nARTwithHEART\nBeWi Facepainting\nBleisy Yanguez\nBone China Lovers\ncc.lia\ncollective Hysteria\ncontinental Pollen Screen & blinds\nCrafter Palace\nCuddle Safe\nDora & Lydia’s Jewelry Shop\nDwaMucHandMade\nEmily & Mizuhiki & e face Painting\nEW Handmade\nE花 Design\nFUSION SPARK + Soulceramics_Studio\nGiggle and Glow\nGreen Skies\nGreenmont Kids\nGustoso Limited Shmystudio shmymagic Joni handmade\nHAI HAI DESIGN MOROCCO\nHandmade Hong Kong\nHealthy Living\nHK Paws Foundation\nHK RECORDING STUDIO\nHKCN – IDEA\nHook and Needle\nIndie Global\nInstaMagnet\nInvisalign hK limited\nJade\nJellyfish Face Painting\nJollyCraft\nKAORU Handmade X Dense sewing\nKC’s Bakery\nKYA EDITIONS\nLa Vague\nLam’s Work 藍家手藝\nLamoon Fashion Limited\nLelejewelz\nLittle Jane\nLittle Miss Shepherd\nLOGIN HAPPY GATHERING   樂然雅聚\nLUCAS EARRINGS\nMarakuja\nMeenal Chhugani Bhagwan\nMerch.\nMilan Designs\nMoonytale\nMorshiedah\nNature’s Healing\nNeon Athletica\nNilu’s henna and products\nOMJ Premium Homemade Dried Dog Food\nOne Small Step\nPackwise_RTE\nPahari Nepal Cashmere\nPiggy’s Harvest\nPinned By Ri\nPondering Collective\nQscreations_hk\nRaelin Sun\nRichard Crosbie Art\nROLILNG BOOKS\nSEAnergy Studio\nSmart Paws.\nSOULRELLE\nSpontaneous Creation\nSTEAK KING HOLDINGS LIMITED\nStrings Camerata\nTatia\nThe Jocosus\nThe Wine Guild\nTheHan_accessories\nTina’s Delight\nUrbanPawz\nVelvet wines\nVenture Studios\nWasai H&n\nYo Weave\nYoPo Chili\nYouth and Politics\nzetta imagination\n龜殼文化 Black Tortoise
URL:https://www.handmadehongkong.com/zh/event/discovery-bay-mothers-day-market-may-2026/
LOCATION:DB Plaza\, Discovery Bay Plaza\, Discovery Bay Road\, Discovery Bay\, Hong Kong
CATEGORIES:Discovery Bay Main Plaza,Markets
ATTACH;FMTTYPE=image/jpeg:https://www.handmadehongkong.com/wp-content/uploads/2025/09/2026_DB_MothersDay_1080x1080-scaled.jpg
ORGANIZER;CN="Handmade Hong Kong":MAILTO:connect@handmadehongkong.com
END:VEVENT
BEGIN:VEVENT
DTSTART;TZID=Asia/Hong_Kong:20260613T140000
DTEND;TZID=Asia/Hong_Kong:20260613T210000
DTSTAMP:20260424T074804
CREATED:20250924T064901Z
LAST-MODIFIED:20260325T055122Z
UID:11116-1781359200-1781384400@www.handmadehongkong.com
SUMMARY:Discovery Bay Night Market - June 2026
DESCRIPTION:Vendor application period now open until 4th May 2026 \nAPPLY TO BE A VENDOR
URL:https://www.handmadehongkong.com/zh/event/discovery-bay-night-market-june-2026/
LOCATION:DB Plaza\, Discovery Bay Plaza\, Discovery Bay Road\, Discovery Bay\, Hong Kong
CATEGORIES:Discovery Bay Main Plaza,Markets
ATTACH;FMTTYPE=image/jpeg:https://www.handmadehongkong.com/wp-content/uploads/2025/09/2026_DB_NIGHTMARKET_KV_Pink-scaled.jpg
ORGANIZER;CN="Handmade Hong Kong":MAILTO:connect@handmadehongkong.com
END:VEVENT
BEGIN:VEVENT
DTSTART;TZID=Asia/Hong_Kong:20260912T110000
DTEND;TZID=Asia/Hong_Kong:20260913T180000
DTSTAMP:20260424T074804
CREATED:20250924T065101Z
LAST-MODIFIED:20260123T032252Z
UID:11119-1789210800-1789322400@www.handmadehongkong.com
SUMMARY:Discovery Bay Weekend Market - September 2026
DESCRIPTION:Vendor application period = 12th July-2nd August 2026
URL:https://www.handmadehongkong.com/zh/event/discovery-bay-weekend-market-september-2026/
LOCATION:DB Plaza\, Discovery Bay Plaza\, Discovery Bay Road\, Discovery Bay\, Hong Kong
CATEGORIES:Discovery Bay Main Plaza,Markets
ATTACH;FMTTYPE=image/jpeg:https://www.handmadehongkong.com/wp-content/uploads/2024/06/Handmade-HK-60-25.jpg
ORGANIZER;CN="Handmade Hong Kong":MAILTO:connect@handmadehongkong.com
END:VEVENT
BEGIN:VEVENT
DTSTART;TZID=Asia/Hong_Kong:20261010T110000
DTEND;TZID=Asia/Hong_Kong:20261011T180000
DTSTAMP:20260424T074804
CREATED:20250924T065331Z
LAST-MODIFIED:20260123T032320Z
UID:11121-1791630000-1791741600@www.handmadehongkong.com
SUMMARY:Discovery Bay Weekend Market - 10th-11th October 2026
DESCRIPTION:Vendor application period = 10th-31st August 2026
URL:https://www.handmadehongkong.com/zh/event/discovery-bay-weekend-market-10th-october-2026/
LOCATION:DB Plaza\, Discovery Bay Plaza\, Discovery Bay Road\, Discovery Bay\, Hong Kong
CATEGORIES:Discovery Bay Main Plaza,Markets
ATTACH;FMTTYPE=image/jpeg:https://www.handmadehongkong.com/wp-content/uploads/2024/06/Handmade-HK-60-29.jpg
ORGANIZER;CN="Handmade Hong Kong":MAILTO:connect@handmadehongkong.com
END:VEVENT
BEGIN:VEVENT
DTSTART;TZID=Asia/Hong_Kong:20261031T140000
DTEND;TZID=Asia/Hong_Kong:20261031T210000
DTSTAMP:20260424T074804
CREATED:20250924T065508Z
LAST-MODIFIED:20250924T101300Z
UID:11123-1793455200-1793480400@www.handmadehongkong.com
SUMMARY:Discovery Bay Halloween Night Market - 31st October 2026
DESCRIPTION:Vendor application period = 31st August-21st September 2026
URL:https://www.handmadehongkong.com/zh/event/discovery-bay-halloween-market-31st-october-2026/
LOCATION:DB Plaza\, Discovery Bay Plaza\, Discovery Bay Road\, Discovery Bay\, Hong Kong
CATEGORIES:Discovery Bay Main Plaza,Markets
ATTACH;FMTTYPE=image/jpeg:https://www.handmadehongkong.com/wp-content/uploads/2023/09/Halloween.jpg
ORGANIZER;CN="Handmade Hong Kong":MAILTO:connect@handmadehongkong.com
END:VEVENT
BEGIN:VEVENT
DTSTART;TZID=Asia/Hong_Kong:20261114T110000
DTEND;TZID=Asia/Hong_Kong:20261115T180000
DTSTAMP:20260424T074804
CREATED:20250924T065733Z
LAST-MODIFIED:20260123T032352Z
UID:11126-1794654000-1794765600@www.handmadehongkong.com
SUMMARY:Discovery Bay Christmas Market - 14th-15th November 2026
DESCRIPTION:Vendor application period = 14th September-5th October 2026
URL:https://www.handmadehongkong.com/zh/event/discovery-bay-christmas-market-14th-november-2026/
LOCATION:DB Plaza\, Discovery Bay Plaza\, Discovery Bay Road\, Discovery Bay\, Hong Kong
CATEGORIES:Discovery Bay Main Plaza,Markets
ATTACH;FMTTYPE=image/jpeg:https://www.handmadehongkong.com/wp-content/uploads/2023/11/Handmade-HK-60-38.jpg
ORGANIZER;CN="Handmade Hong Kong":MAILTO:connect@handmadehongkong.com
END:VEVENT
BEGIN:VEVENT
DTSTART;TZID=Asia/Hong_Kong:20261128T110000
DTEND;TZID=Asia/Hong_Kong:20261129T180000
DTSTAMP:20260424T074804
CREATED:20250924T065854Z
LAST-MODIFIED:20260123T032429Z
UID:11128-1795863600-1795975200@www.handmadehongkong.com
SUMMARY:Discovery Bay Christmas Market - 28th-29th November 2026
DESCRIPTION:Vendor application period = 28th September-19th October 2026
URL:https://www.handmadehongkong.com/zh/event/discovery-bay-christmas-market-28th-november-2026/
LOCATION:DB Plaza\, Discovery Bay Plaza\, Discovery Bay Road\, Discovery Bay\, Hong Kong
CATEGORIES:Discovery Bay Main Plaza,Markets
ATTACH;FMTTYPE=image/jpeg:https://www.handmadehongkong.com/wp-content/uploads/2023/09/Christmas-1.jpg
ORGANIZER;CN="Handmade Hong Kong":MAILTO:connect@handmadehongkong.com
END:VEVENT
BEGIN:VEVENT
DTSTART;TZID=Asia/Hong_Kong:20261212T110000
DTEND;TZID=Asia/Hong_Kong:20261213T180000
DTSTAMP:20260424T074804
CREATED:20250924T070005Z
LAST-MODIFIED:20250924T101428Z
UID:11130-1797073200-1797184800@www.handmadehongkong.com
SUMMARY:Discovery Bay Christmas Market - December 2026
DESCRIPTION:Vendor application period = 12th October-2nd November 2026
URL:https://www.handmadehongkong.com/zh/event/discovery-bay-christmas-market-12th-13th-december-2026/
LOCATION:DB Plaza\, Discovery Bay Plaza\, Discovery Bay Road\, Discovery Bay\, Hong Kong
CATEGORIES:Discovery Bay Main Plaza,Markets
ATTACH;FMTTYPE=image/jpeg:https://www.handmadehongkong.com/wp-content/uploads/2023/09/Christmas-2.jpg
ORGANIZER;CN="Handmade Hong Kong":MAILTO:connect@handmadehongkong.com
END:VEVENT
END:VCALENDAR