BEGIN:VCALENDAR
VERSION:2.0
PRODID:-//Handmade Hong Kong - ECPv6.15.20//NONSGML v1.0//EN
CALSCALE:GREGORIAN
METHOD:PUBLISH
X-WR-CALNAME:Handmade Hong Kong
X-ORIGINAL-URL:https://www.handmadehongkong.com/zh
X-WR-CALDESC:Handmade Hong Kong的活动
REFRESH-INTERVAL;VALUE=DURATION:PT1H
X-Robots-Tag:noindex
X-PUBLISHED-TTL:PT1H
BEGIN:VTIMEZONE
TZID:Asia/Hong_Kong
BEGIN:STANDARD
TZOFFSETFROM:+0800
TZOFFSETTO:+0800
TZNAME:HKT
DTSTART:20230101T000000
END:STANDARD
END:VTIMEZONE
BEGIN:VEVENT
DTSTART;TZID=Asia/Hong_Kong:20240127T110000
DTEND;TZID=Asia/Hong_Kong:20240127T180000
DTSTAMP:20260424T004837
CREATED:20231016T054323Z
LAST-MODIFIED:20240126T070529Z
UID:9915-1706353200-1706378400@www.handmadehongkong.com
SUMMARY:The Repulse Bay Handmade Hong Kong Chinese New Year Market
DESCRIPTION:We are delighted to be hosting a Chinese New Year Market at The Repulse Bay! On January 27th from 11am – 6pm the Seaview Terrace will be filled with Hong Kong’s finest crafters and artisans! \nYou can see more information regarding The Repulse Bay and their Seaview Terrace here. \nVendor applications are now closed and this market is already fully booked.  If you would like to join the waitlist\, please email us on register@handmadehongkong.com for more information. \nHere is the vendor map for our 27th January 2024 The Repulse Bay Chinese New Year market: \n \nSee below for a list of all of the vendors who will be at this market\, please click on the name to reach their website: \n6 Scents\nA Messenger’s Design\nAITCH’S BILTONG\nAmber Projects\nAngel Wong Image\nAnka Taste\nAnkyra Home\nAnvi Candles\nAriestone\nAVRA\nBAO Baby Wear\nBig Bang Incorporation Limited\nBlack Cat Badges\nBlooms.Forever\nBluesource & Co (Brand: Exclusive J)\nBluey Maniac\nBotaniumcare x Doodlerashi\nBuster Barks\nBusy Mat HK\nCalligraphy At Jane\nCandle Up\nCommon Lotus x iris Gioielli\nCrafted Creations\nDASK Leathercraft\nDeen Deen Dei\nDL handmade dog wear / walk n talk\nDorsia.decor\nEmilia Gomez\nEMS Fitness Limited\nENOTECA ITALIANA\nFrom_thewinecellar\nGoosebump\nGraspberry Chia\nHana by Yuzuki Murakami\nHandmade Hong Kong\nHealthy Living\nHEINGA\nHILX EYEWEAR CO. LTD.\nHimalayas craft Limited\nItyaadi Home\nJ.I Studio\nJane Eve Interiors\nJennifer Pollock Accessories + Esme Parish Silver\njoe N. Brown Art\nKampot’s Choice\nKiri\nKora.sense\nLabels Of Spain\nLergo The Label\nLimonade Candles\nLiz Fry Design + Alchemy Kitchen\nMALUT\nMiramiri Atelier\nMonarosa\nOfee\nOld HK Lights\nOMJ Premium Homemade Dried Dog Food\nOZZIE COZZIE\nPAU PAU accessories\nPtj studio\nSanatura\nSANTO\nSmart Mama\nSTOCKHOLM\nSTUDIO INGRID BURGOS\nSunday Brunch Club\nTea Said\nThe Bark and the Bite HK\nThis is Olivia Troublemaker\nTinny Art House\nToGJoJo\nTropikal Jewellery\nTsaoao Design Papercuttings\nUnion Star Int’l Holding Ltd\nVINO – Artisan Italian Wine\nWaaf\nWildalp Baby\nWoodbury Revival\nYerba Mates\nZare & Blomstre\nZunkeri\n大觀小文創
URL:https://www.handmadehongkong.com/zh/event/the-repulse-bay-chinese-new-year-market/
LOCATION:The Repulse Bay\, The Repulse Bay\, 109 Repulse Bay Road\, Hong Kong
CATEGORIES:Markets,The Repulse Bay
ATTACH;FMTTYPE=image/jpeg:https://www.handmadehongkong.com/wp-content/uploads/2023/10/Repulse-Bay-CNY-Sq-scaled.jpg
ORGANIZER;CN="Handmade Hong Kong":MAILTO:connect@handmadehongkong.com
END:VEVENT
END:VCALENDAR