BEGIN:VCALENDAR
VERSION:2.0
PRODID:-//Handmade Hong Kong - ECPv6.15.20//NONSGML v1.0//EN
CALSCALE:GREGORIAN
METHOD:PUBLISH
X-WR-CALNAME:Handmade Hong Kong
X-ORIGINAL-URL:https://www.handmadehongkong.com/zh
X-WR-CALDESC:Handmade Hong Kong的活动
REFRESH-INTERVAL;VALUE=DURATION:PT1H
X-Robots-Tag:noindex
X-PUBLISHED-TTL:PT1H
BEGIN:VTIMEZONE
TZID:Asia/Hong_Kong
BEGIN:STANDARD
TZOFFSETFROM:+0800
TZOFFSETTO:+0800
TZNAME:HKT
DTSTART:20230101T000000
END:STANDARD
END:VTIMEZONE
BEGIN:VEVENT
DTSTART;TZID=Asia/Hong_Kong:20240914T130000
DTEND;TZID=Asia/Hong_Kong:20240914T210000
DTSTAMP:20260424T032431
CREATED:20240510T031549Z
LAST-MODIFIED:20240910T134805Z
UID:10529-1726318800-1726347600@www.handmadehongkong.com
SUMMARY:K-Farm Mid-Autumn Festival Market
DESCRIPTION:With great joy we are pleased to announce another Handmade Hong Kong Market at K-Farm! Situated alongside the Belcher Bay Promenade in Kennedy Town\, our market will take place from 1pm – 9pm at the K-Plaza amidst the fantastic K-Farm gardens. \nWe look forward to seeing you there! \nLocation:\nK-Farm\nK-Plaza\nBelcher Bay Promenade\nKennedy Town \n14 September 2024 \n1:00pm – 9:00pm \nMore about K-Farm here \nIf you would like to join us as a vendor at this market\, please email us on register@handmadehongkong.com for more information. \nHere is the vendor map for our September K-Farm market: \n \nSee below for a list of all of the vendors who will be at this market\, please click on the name to reach their website: \nAlchemy kitchen\nAlice Randell\nAmreen Jewellery\nAnimals Asia Foundation\nAny Mo food Company Limited\nBlooms.Forever\nCarley Chiu\nCitiScent\nCultivating Classrooms\nDB ladies Club\nEssencial Moments\nETTERFLY\nGG artkalaa\nGloBilly\nGoosebump\nHandmade by Hatten\nHandmade Hong Kong\nhealthy Living\nHK Paws Foundation\nHOU LIVING\nJJIC Craft\nLelejewelz\nLieb\nLimonade Candles\nMake & Match\nMarkway Wealth creation Limited\nMilan\nMiloyeo\nNepcha\nNiks & Tiks Collection\nOMJ Premium Homemade Dried Dog Food\nOther..Worldly Candle\nPawlicious\nPicturebooktopia\nRahee’s Henna\nRecyCo Capsules\nShilpas masala mill\nShing Fook Jewelry\nSparkles & Joy\nSTUDIO INGRID BURGOS\nThe Nesbitt Centre\nVenture Studios\nWith Luv For You\nWWNN Studio\nYou Go & Glow
URL:https://www.handmadehongkong.com/zh/event/k-farm-mid-autumn-festival-market/
LOCATION:K-Farm\, 3 Shing Sai Road\, Hong Kong
CATEGORIES:K-Farm,Markets
ATTACH;FMTTYPE=image/jpeg:https://www.handmadehongkong.com/wp-content/uploads/2024/05/K-farm-sq.jpg
ORGANIZER;CN="Handmade Hong Kong":MAILTO:connect@handmadehongkong.com
END:VEVENT
END:VCALENDAR