BEGIN:VCALENDAR
VERSION:2.0
PRODID:-//Handmade Hong Kong - ECPv6.15.20//NONSGML v1.0//EN
CALSCALE:GREGORIAN
METHOD:PUBLISH
X-WR-CALNAME:Handmade Hong Kong
X-ORIGINAL-URL:https://www.handmadehongkong.com/zh
X-WR-CALDESC:Handmade Hong Kong的活动
REFRESH-INTERVAL;VALUE=DURATION:PT1H
X-Robots-Tag:noindex
X-PUBLISHED-TTL:PT1H
BEGIN:VTIMEZONE
TZID:Asia/Hong_Kong
BEGIN:STANDARD
TZOFFSETFROM:+0800
TZOFFSETTO:+0800
TZNAME:HKT
DTSTART:20230101T000000
END:STANDARD
END:VTIMEZONE
BEGIN:VEVENT
DTSTART;TZID=Asia/Hong_Kong:20240316T120000
DTEND;TZID=Asia/Hong_Kong:20240317T210000
DTSTAMP:20260424T015525
CREATED:20231219T232434Z
LAST-MODIFIED:20240311T031123Z
UID:10189-1710590400-1710709200@www.handmadehongkong.com
SUMMARY:Handmade Hong Kong at the Irish Festival
DESCRIPTION:We are so excited to be part of the Irish Festival taking place this year on March 16th & 17th 2024! Two full days of music\, traditional folk music and craft\, interactive workshops\, and of course amazing food & bev! Handmade Hong Kong will be hosting the craft market  – so we’re looking for all of you who would like to join in this unique event as craft vendors! \nFor more information about the Irish Festival visit: irishfestival.hk \nLocation:\nShun Tak  信德中心\n168-200 Connaught Road\nSheung Wan \n16 & 17 March 2024 \nIf you would like to join us as a vendor at this market\, please email us on register@handmadehongkong.com for more information. \nHere is the vendor map for our Irish Festival 2024 Market: \n \nSee below for a list of all of the vendors who will be at this market\, please click on the name to reach their website: \nAlini Bini\nCandle Up\nHandmade by Hatten\nHandmade Hong Kong\nHimalayas Craft Limited\nknot.me design\nSusu.beads\nTHE BLOMSTRE\nVenture Studios
URL:https://www.handmadehongkong.com/zh/event/handmade-hong-kong-at-irish-festival/
LOCATION:Shun Tak Centre\, Shun Tak Centre\, 168-200 Connaught Rd Central\,\, Hong Kong
CATEGORIES:Irish Festival,Markets
ATTACH;FMTTYPE=image/jpeg:https://www.handmadehongkong.com/wp-content/uploads/2023/12/Irish-Fest-Promo.jpg
ORGANIZER;CN="Handmade Hong Kong":MAILTO:connect@handmadehongkong.com
END:VEVENT
END:VCALENDAR