BEGIN:VCALENDAR
VERSION:2.0
PRODID:-//Handmade Hong Kong - ECPv6.15.20//NONSGML v1.0//EN
CALSCALE:GREGORIAN
METHOD:PUBLISH
X-WR-CALNAME:Handmade Hong Kong
X-ORIGINAL-URL:https://www.handmadehongkong.com/zh
X-WR-CALDESC:Handmade Hong Kong的活动
REFRESH-INTERVAL;VALUE=DURATION:PT1H
X-Robots-Tag:noindex
X-PUBLISHED-TTL:PT1H
BEGIN:VTIMEZONE
TZID:Asia/Hong_Kong
BEGIN:STANDARD
TZOFFSETFROM:+0800
TZOFFSETTO:+0800
TZNAME:HKT
DTSTART:20220101T000000
END:STANDARD
END:VTIMEZONE
BEGIN:VEVENT
DTSTART;TZID=Asia/Hong_Kong:20230910T110000
DTEND;TZID=Asia/Hong_Kong:20230910T180000
DTSTAMP:20260424T020140
CREATED:20221014T102023Z
LAST-MODIFIED:20230908T081521Z
UID:8578-1694343600-1694368800@www.handmadehongkong.com
SUMMARY:Discovery Bay Sunday Market – September 2023
DESCRIPTION:If you would like to join us as a vendor at this market\, please email us on register@handmadehongkong.com for more information. \nHere is the vendor map for our September 2023 DB market: \n \nSee below for a list of all of the vendors who will be at this market\, please click on the name to reach their website: \n18millilitres crochet\n2NU Sunglasses\n6 Scents\n852 & Beyond\nAitchs Biltong\nALICE RANDELL\nAnkyra Home\nBake the Sparkle\nBAO Baby Wear\nBaysiclove Resortwear\nBibish\nBig Bang Incorporation Limited\nBits & Bobs\nCa Lisa Jewellery\nCandle Up\nCASPAR HOUSE\nCheese Club\nCitiScent\nCommon Lotus x Valise Philosophy\nDASK Leathercraft\nDeen Deen Dei\nDeli Beauty\nDoodlerashi\nDwaMucHandMade\nETTERFLY\nEye Market\nFixie\nFlaunt your way\nFLEUR SUNDRY 花·草·雜·語\nFusion foundry by maria\nGinsanity\nGlobilly\nGolden Wood\nGoosebump\nGreenmont Kids\nHandmade Hong Kong\nHealthy Living\nIndie Global\nIsaliyana\nJanice Handcraft\nKampot’s Choice\nKarene Sharmila Fernandes\nKRSV\nLaurence Lai Gallery\nLavulous workshop\nLelejewelz\nLilly&Co.\nLiz Fry Design & Alchemy Kitchen\nMICHEL DE PARIS\nMOS Art Studio\nmycasadecor\nNick Gleitzman photographs\nNot Only Olives\nOm Dot dot dot\nOMJ Premium Homemade Dried Dog Food\nPassion For Pearls\nPetaa\nPinnacle Workshop Limited – AMMA\nPunique\nQicha Limited\nRutika Malpani\nSalti Fashion\nSara’s Henna\nSlobber Bakery\nSolidayz Hats & Scaves\nSOLTY\nSoo’s Doodle\nTea Said\nThe Candleman Hk\nThe Driven Mission\nthe organic collective\nThe Scentist HK\ntwenty twenty\nUnion Star Int’l Holdings Ltd.\nVenture Studios\nWALASONS\nYour Daily Muse
URL:https://www.handmadehongkong.com/zh/event/discovery-bay-sunday-market-september-2023/
LOCATION:DB Plaza\, Discovery Bay Plaza\, Discovery Bay Road\, Discovery Bay\, Hong Kong
CATEGORIES:Discovery Bay Main Plaza,Markets
ATTACH;FMTTYPE=image/jpeg:https://www.handmadehongkong.com/wp-content/uploads/2022/10/Sept-2023.jpg
ORGANIZER;CN="Handmade Hong Kong":MAILTO:connect@handmadehongkong.com
END:VEVENT
END:VCALENDAR