BEGIN:VCALENDAR
VERSION:2.0
PRODID:-//Handmade Hong Kong - ECPv6.15.20//NONSGML v1.0//EN
CALSCALE:GREGORIAN
METHOD:PUBLISH
X-WR-CALNAME:Handmade Hong Kong
X-ORIGINAL-URL:https://www.handmadehongkong.com/zh
X-WR-CALDESC:Handmade Hong Kong的活动
REFRESH-INTERVAL;VALUE=DURATION:PT1H
X-Robots-Tag:noindex
X-PUBLISHED-TTL:PT1H
BEGIN:VTIMEZONE
TZID:Asia/Hong_Kong
BEGIN:STANDARD
TZOFFSETFROM:+0800
TZOFFSETTO:+0800
TZNAME:HKT
DTSTART:20210101T000000
END:STANDARD
END:VTIMEZONE
BEGIN:VEVENT
DTSTART;TZID=Asia/Hong_Kong:20220911T110000
DTEND;TZID=Asia/Hong_Kong:20220911T180000
DTSTAMP:20260424T020139
CREATED:20210706T040112Z
LAST-MODIFIED:20220907T040358Z
UID:5770-1662894000-1662919200@www.handmadehongkong.com
SUMMARY:Discovery Bay Sunday Market – September 2022
DESCRIPTION:Please email register@handmadehongkong.com if you would like to be added to the vendor waitlist. \nPlease note that our market is covered by the HK government’s vaccine pass requirements.  More information can be found here. \nHere is the vendor map for our 11th September 2022 DB market: \n \nSee below for a list of all of the vendors who will be at this market\, please click on the name to reach their website: \n30 Degrees South\n852 & Beyond\nAcaruna\nAfrica to Asia Ltd\nAitch’s Biltong\nAlvin c.k. Lam Art + On The Wagon Kombucha\nAndas Living\nAnkyra Home\nAROMAA  BLENDSS\nASHNI\nAtelier Veey\nBARJOU/BROUSSE\nbeloved active\nBig Bang Incorporation Limited\nBlack Cat Badges\nbluyonda / Picture Finders\nBositos\nBotaniumcare x Blommstre x Quuen of Pentacles\nBrightday Marketing\nCa Lisa Jewellery\nCandle Up\nCask Master\nCHEESE CLUB\nChill Chill Country\nChill-I Temple\nChromatic Jewellery & Fashion\nCircle Walker 周圍行\nCommonLotus\nConceptu Home\nCopperstone Jewellery\nCRAFTY BITCH\nDASK leathercraft\nDoodlerashi\nDrover’s Thirst\nDwaMucHandMade\nEtterfly\nEye Market\nFixie Kombucha\nFiyah Heat Store\nFlow With Me HK\nFrancesca De Watts\nGarden of Ethnic Holic\nGinsanity\nGloBilly\nGolden Woods\nGreenmont Kids\nHana by Yuzuki Murakami\nHandmade by Hatten\nHandmade Hong Kong\nHealthy Living\nHinitan Coffee Plantation\nHiraya Scent & Co.\nHOLY CAP!\nhw2 creations\nIndie Global\nInStyle Handbags Company\nIsa-Bella-C\nItyaadi Home\nJuzze baby textile\nKapuhala Space Ltd\nKatha Jewelery\nKRSV\nLammaste\nLaurence Lai Gallery\nLectcha Kombucha\nLIEB\nLilly&Co.\nLing’s\nLittle Island Learning Co.\nLittle Petdators\nMangiapane + Puff Patisserie\nMilkyMooMoo Candles\nMini DaVinci HK\nMOBdaily Bakery\nMy Rooftop is Green\nNatural asia Pacific Ltd\nNavy Jones Ocean Art\nNet-0 Crafts\nNomsoftheday\nNot only olives\nnoworryshop\nohhellobruno\nOMJ Premium Homemade Dried Dog Food\nONLY Beverages\nOrange days\nPaper-Roses\nPegaway\nPetit Chat Noir\nPinky Swear Candle Studio\nPipigo\nPirta\nQAVAH\nQicha\nReadingpotato\nRejuved x Bubble Bliss\nRichard Crosbie Art\nROCK ATOLL\nRoyal Brunei Airlines\nSANTO\nScarflit\nShilpa’s Masala Mill\nSkinBath Ltd\nSlow. Handpoke\nSmall Potato Co. / Reformat Apparel\nSnoot Fren Studio\nSodacoo\nSohamna Organics\nSolidayz Hats and Scarves\nSoMe Cosmetics\nSOULRELLE\nspaceinspace\nStay Collapse\nSteps To The Future\nSugar Baby Body Products\nT.G.I.F x G.O.A.T Potters\nTahanan Crafts\nThe Bark and the Bite HK\nThe Candleman HK\nThe Chameleon Collective\nThe Flanders Tapestry Collection\nTiARA Cosmetics\nTie In Collection\nTimeless by Temmy\nTouchableembroidery\nVege Daily你蒜哪根葱\nVenture Studios\nVicycle Fun\nWildalp Baby\nYASS COOKIES\nYAY HONG KONG\nYuuzui\nZensation
URL:https://www.handmadehongkong.com/zh/event/discovery-bay-sunday-market-september-2022/
LOCATION:DB Plaza\, Discovery Bay Plaza\, Discovery Bay Road\, Discovery Bay\, Hong Kong
CATEGORIES:Discovery Bay Main Plaza,Markets
ATTACH;FMTTYPE=image/png:https://www.handmadehongkong.com/wp-content/uploads/2021/07/Screenshot-2021-07-06-at-11.31.30-AM.png
ORGANIZER;CN="Handmade Hong Kong":MAILTO:connect@handmadehongkong.com
END:VEVENT
END:VCALENDAR