BEGIN:VCALENDAR
VERSION:2.0
PRODID:-//Handmade Hong Kong - ECPv6.15.20//NONSGML v1.0//EN
CALSCALE:GREGORIAN
METHOD:PUBLISH
X-WR-CALNAME:Handmade Hong Kong
X-ORIGINAL-URL:https://www.handmadehongkong.com/zh
X-WR-CALDESC:Handmade Hong Kong的活动
REFRESH-INTERVAL;VALUE=DURATION:PT1H
X-Robots-Tag:noindex
X-PUBLISHED-TTL:PT1H
BEGIN:VTIMEZONE
TZID:Asia/Hong_Kong
BEGIN:STANDARD
TZOFFSETFROM:+0800
TZOFFSETTO:+0800
TZNAME:HKT
DTSTART:20200101T000000
END:STANDARD
END:VTIMEZONE
BEGIN:VEVENT
DTSTART;TZID=Asia/Hong_Kong:20210912T110000
DTEND;TZID=Asia/Hong_Kong:20210912T180000
DTSTAMP:20260424T032229
CREATED:20201210T095355Z
LAST-MODIFIED:20210908T075353Z
UID:4556-1631444400-1631469600@www.handmadehongkong.com
SUMMARY:Discovery Bay Sunday Market – September 2021
DESCRIPTION:Vendor applications now closed. \nPlease email register@handmadehongkong.com if you would like to be added to the vendor waitlist. \nHere is the vendor map for our September 2021 DB market: \n \nSee below for a list of all of the vendors who will be at this market\, please click on the name to reach their website: \n2NU Sunglasses\n8parkle\na.growingdiary\nA.MORE Collection\nAfrica to Asia Ltd\nAgnes & Yvonne\nAhavah Embroidery\nAitch’s Biltong\nAlvin c.k. Lam Art + On The Wagon Kombucha\nAnatolia Cultural Center\nAnkyra Home\nAnthea’s Face Painting\nAphrodite Mulberry Silk\nAromaa Blendss\nART BY MISBAH\nArts Cowork\nASHNI\nAurora Lifestyle Store\nAVRA\nBad Ass Coffee & BAKEYARD\nBamboozled\nBANDIT COFFEE CO\nbare.ecoliving\nBE MÔME\nBeerholics\nbekah studio\nBig Bang Incorporation Limited\nBlack Cat Badges\nBlooming_moment_handmade\nBook Wise and Sundara Collections\nBositos\nBowtasia\nBrae CBD\nBrArt.design\nBuddy Bites\nBy Mamalaterre\nCa Lisa Jewellery\nCandela\nCandle Up\nCharito Cards\nChatteriz\nCherishedToday\nColours of Soul\nCraftPandaHK\nDB Party Time\nDeli Beauty\nDougal’s Minerals & Crystals\nDTF x Woof Pack\nEmptiness Jewelry\nEspresso Blooms\nEtterfly\nEunicustoms\nEye Market\nFICO Wine & Cheese\nFirst Green Day Limited\nFiyah Heat Store\nFloralholic x Chillmeme\nFriends Valley Handmade Accessories\nFUNNN FLOWERS + BEADZ and HALIMA KHAN DESIGN\nFusion Foundry By Maria\nGlow naturally Glow\nGreenmont Kids\nHandmade Hong Kong\nHead-to-Socks Yoga Socks\nHealthy Living\nHinitan Coffee & Cocoa Plantation\nHKCOPPERBRASS\nHoopla for Essentials\nHong Kong CBD Limited\nHydeland\nINDIE GLOBAL\nInsomniacTextiles\nIRA Creation HK\nIsa-Bella-C\nItalian Foodie Corner\nKaiJai and Avoyoga\nKapuhala Space Ltd\nKIBO\nKool For Men\nKRSV\nLa Thea\nLaurels Jewellery\nLaurence Lai Gallery\nLike Food Like Gem\nLilly&Co.\nLittlemoliu\nLovely Handmade by Helen\nLuen Yuen Tea\nM station\nMade in Peru\nMamus Handmade\nMARILU DOLLS\nMayse artisan bakery\nMilk It Baby\nNick Gleitzman photographs\nNo Less Créateur\nNot only olives\nOIABM STONES\nOleum Cottage\nOMJ Premium Homemade Dried Dog Food\nOn Paper Lab\nOpal Candles\nPaper-Roses\nParamita Handpoke Tattoo\nPB Woodenware\nPetit Chat Noir\nPinyin Press\nPlayful Socks\npricked thumbs embroidery\nPsycheStd.co\nPure Elegance\nQICHA\nR M C Design\nReStore\nReverie Jewellery\nRicem Design\nrOyGyPsy\nSalseria.hk\nSam & Dots Personalised Dog Collars\nSANTO\nScribble & Scrawl\nScript + Sea\nSema Shop\nSeremiti\nShellvio\nShimmer & Shine\nSlofloe\nSolidayz Hats & Scarves\nSpaceinspace\nSpringbok Wines\nStyle Standard\nSunday Gems Project & Crystal Neptune HK\nSuphia’s Functional Snacks\nTempehola x Garden Hill\nThe Candleman HK\nThe Flanders Tapestry Collection\nThe Limonade Candles\nThe Lovely Things\nThe Summer Bay\nTHE WOOFYS\nTiny Island\nTruffle_18\nUNA\nUpcycled by Michal\nVanilla Dreams + Organic Touch\nVenture Studios\nVictor & Hugo Gourmet\nVintage & Pre-Loved Apparel\nVitamalt\nWayuu+MADE\nWHAT’sIN\nWildalp Baby\nWooFood\nYASS COOKIES\nyellow pear co.\nZASHA \, Handmade Designer Jewellery\nZoharz Artz\n盛醬 Toberserved\n陶販\n陶閒。置瓣
URL:https://www.handmadehongkong.com/zh/event/discovery-bay-sunday-market-september-2021/
LOCATION:DB Plaza\, Discovery Bay Plaza\, Discovery Bay Road\, Discovery Bay\, Hong Kong
CATEGORIES:Discovery Bay Main Plaza,Markets
ATTACH;FMTTYPE=image/jpeg:https://www.handmadehongkong.com/wp-content/uploads/2020/12/WhatsApp-Image-2020-12-19-at-10.44.39-1.jpeg
ORGANIZER;CN="Handmade Hong Kong":MAILTO:connect@handmadehongkong.com
END:VEVENT
END:VCALENDAR