BEGIN:VCALENDAR
VERSION:2.0
PRODID:-//Handmade Hong Kong - ECPv6.15.20//NONSGML v1.0//EN
CALSCALE:GREGORIAN
METHOD:PUBLISH
X-WR-CALNAME:Handmade Hong Kong
X-ORIGINAL-URL:https://www.handmadehongkong.com/zh
X-WR-CALDESC:Handmade Hong Kong的活动
REFRESH-INTERVAL;VALUE=DURATION:PT1H
X-Robots-Tag:noindex
X-PUBLISHED-TTL:PT1H
BEGIN:VTIMEZONE
TZID:Asia/Hong_Kong
BEGIN:STANDARD
TZOFFSETFROM:+0800
TZOFFSETTO:+0800
TZNAME:HKT
DTSTART:20220101T000000
END:STANDARD
END:VTIMEZONE
BEGIN:VEVENT
DTSTART;TZID=Asia/Hong_Kong:20231008T110000
DTEND;TZID=Asia/Hong_Kong:20231008T180000
DTSTAMP:20260424T031752
CREATED:20221014T102518Z
LAST-MODIFIED:20231006T021919Z
UID:8580-1696762800-1696788000@www.handmadehongkong.com
SUMMARY:POSTPONED : Discovery Bay Sunday Market – 8th October 2023
DESCRIPTION:***POSTPONED*** \nDue to the current weather conditions this market has been postponed.  It will now take place on 17th December 2023. \nHere is the vendor map for our 8th October 2023 DB market: \n \nSee below for a list of all of the vendors who will be at this market\, please click on the name to reach their website: \n2NI Sunglasses\n6 Scents\nA-MORE collection\nAitch’s Biltong\nAlchemy Kitchen / Liz Fry Design\nAlice Randell\nAlvin c.k. Lam Art + On The Wagon Kombucha\nAmber Projects\nAMBER’S CREATION\nANKA TASTE\nAnkyra Home\nArtwithheart Bykj\nAtelier Soemi X Teacher Ham\nBee Australian HK\nbelovedactivewear\nBIG BANG INCORPORATION LIMITED\nBlack Cat Badges\nBoyii International （Hong Kong）Limited\nBun Bun Vintage\nBy Mamalaterre\nCandle Up\nCarmen kwok studio\nCASPAR HOUSE\nChromatic Apparel & Jewellery\nCitiScent\nCOOKIE SMILES\nCopperstone Jewellery\nCRAFTY BITCH\nCristallo\nDASK Leathercraft\nDee Gogh\nDwaMucHandMade\nEearar\nEnjoy the moment\nEtterfly\nEversoap各有各皂\nFitness In Motion\nFluffy Terry\nGloBilly\nGlory Dough Bakery\nGoosebump\nGreenmont Kids\nHair Carnival\nHairosophy\nHandmade Hong Kong\nHAUS of MYO\nHealthy Living\nHiraya Scent & Co.\nIndie_global2016\nIndigoshima\nInfincotton\nIsaliyana Ltd.\nJANE EVE INTERIORS\nJanice Handcraft\nKalasiddhiart Concepts\nkanhode\nKhajane\nKRSV\nLamsOpal\nLaurence Lai Gallery\nLelejewelz\nLilly&Co.\nLimonade Candles\nLiquorles\nLittle Sketch Studio\nLittlemoliu\nLittleQnJuice\nMacraftastic\nMICHEL DE PARIS\nMiramiri\nMiss The Ocean\nMOSAIC ~ Fine Crafts by Su\nNick Gleitzman photographs\nNo Less Créateur\nNot Only Olives\nOld HK Lights Candles\nOMJ Premium Homemade Dried Dog Food\nOZZIE COZZIE\npassion For Pearls\nPauPau accessories\nPelican Haven\nPOPKOI\nPristine by monique\nQicha Kombucha\nRichard Crosbie Art\nROCK ATOLL\nRollercoaster\nRose Amelia Jewelry\nScarflit\nSeabee Gift Shop\nSlobber Bakery\nsmile Handmade\nSolidayz Hats & Scarves\nSoo’s Doodle\nStone and Phenomenon\nT.G.I.F. – Turn_girl_into_fabulous\nThe Candleman Hk\nThe Tramline Liquor Co.\nTiny Island\nUnion Star Int’l Holdings Ltd.\nVenture Studios\nWestgate\n鄰舍輔導會
URL:https://www.handmadehongkong.com/zh/event/discovery-bay-sunday-market-october-2023/
LOCATION:DB Plaza\, Discovery Bay Plaza\, Discovery Bay Road\, Discovery Bay\, Hong Kong
CATEGORIES:Discovery Bay Main Plaza,Markets
ATTACH;FMTTYPE=image/jpeg:https://www.handmadehongkong.com/wp-content/uploads/2022/10/PHOTO-2022-10-07-19-56-45.jpg
ORGANIZER;CN="Handmade Hong Kong":MAILTO:connect@handmadehongkong.com
END:VEVENT
END:VCALENDAR