BEGIN:VCALENDAR
VERSION:2.0
PRODID:-//Handmade Hong Kong - ECPv6.15.20//NONSGML v1.0//EN
CALSCALE:GREGORIAN
METHOD:PUBLISH
X-WR-CALNAME:Handmade Hong Kong
X-ORIGINAL-URL:https://www.handmadehongkong.com/zh
X-WR-CALDESC:Handmade Hong Kong的活动
REFRESH-INTERVAL;VALUE=DURATION:PT1H
X-Robots-Tag:noindex
X-PUBLISHED-TTL:PT1H
BEGIN:VTIMEZONE
TZID:Asia/Hong_Kong
BEGIN:STANDARD
TZOFFSETFROM:+0800
TZOFFSETTO:+0800
TZNAME:HKT
DTSTART:20190101T000000
END:STANDARD
END:VTIMEZONE
BEGIN:VEVENT
DTSTART;TZID=Asia/Hong_Kong:20200510T110000
DTEND;TZID=Asia/Hong_Kong:20200510T180000
DTSTAMP:20260424T074804
CREATED:20190522T230402Z
LAST-MODIFIED:20190522T230402Z
UID:3939-1589108400-1589133600@www.handmadehongkong.com
SUMMARY:CANCELLED : Discovery Bay Sunday Market - May 2020
DESCRIPTION:Unfortunately due to the current situation regarding the Covid-19 virus\, the May DB Sunday Market is cancelled.\n\nWe are deeply saddened to have to cancel one of our events. The cancellation has been carefully considered and was made in accordance with government recommendations\, advice from the FEHD\, and our venue partners Hong Kong Resorts International.\n\n\nYou can see a list of all of our upcoming events here. \nSee below for a list of all of the vendors who will be at this market\, please click on the name to reach their website: \n2NU Sunglasses\nAnatolia cultural centre\nAnkyra Home\nAnnibody\nAntonia Y. Jewelry\nAromaa Blendss\nArtysans\nAster Aroma\nAVRA\nbetelbird\nBig Bang Incorporation Limited\nBlack Cat Badges\nBook Wise and Smallprint\nBowtasia\nBy Mamalaterre\nCaritas Jockey Club Artkids Studio\nclods of earth x JW. Ceramic\nConnie DIY\nConspiracy Chocolate\nCowbird Coffee Roasters\nDB Pary Time\nDear Mi amiga\ndiFV-art\nDougal’s Minerals & Crystals\nEDITH ART JEWELLERY\nEpic Occhio\nEtterfly\nEWood Lifestyle\nEye Market\nFarm Workshop\nFelix & Co\nFood Medicine Lab\nFunky Cool Monkey\nFusion Craft\nGinsanity\nGolden Paws\nHandmade Hong Kong\nHapisabella\nHAUSTAGE\nHeal Me Club\nHealthy Living\nHISPANIA GOURMET\nHong Kong Committee for UNICEF\nHugo Wong\nIAM Beauty Oils\nIl contadino marchigiano\nIndika-Santara\nInsomniacKnits\nIsland Ferments\nJanice Handcraft\nJJ Marketplace\nKapuhala Space\nKoolamundo\nLAFÉE.KIDS\nLe Presént Perfume\nLevain Bakery\nlikefoodlikegem\nLilly&Co.\nLiz Fry Design\nLovely Handmade by Helen\nLuna Qy Design\nM station\nMade in Peru\nMayse Artisan Bakery\nMC2CM Lab\nMeliemou Essentials Bodycare and Novelty Products\nMinerva Only Jewelry\nMyAfric Designs\nnatnatlife x Lyfegreen\nNatural  spa products\nNick Gleitzman photographs\nNini Mini\nNot Only Olives\nOdile & Odette\nOMJ Premium Homemade Dried Dog Food\nOZZIE COZZIE\nPaper-Roses\nParmila Christensen\nPEACOCK FINE FOODS\nPetit Chat Noir\nPinphant Limited\nPinyin Press\nPlayful Socks\nPodarona gift boxes\nQiCha\nQueen Viriya\nRahee’s Henna Painting\nReyPersia\nRIL CREED\nrizzyitalia\nSarment Wines\nScarflit\nSimply Bliss by Angel C\nSoher.HK and AMEGO Soap & Skin Care\nSOLIDAYZ HATS & SCARVES\nspaceinspace\nTeresa’s Turkish Towels\nThe Concepto\nTiny Happy Bundles\nTokki Eco Store\nV Brands\nVintage Time\nVladi and Mocha’s art\nVVfashions\nWander With Nicole\nWayuu+MADE\nWild Mint\nWisdomDrops\nWOODCO Candles\nYilu’s Wine 逸廬酒窖\nYTJ\nYvonne & Annette bags\nZARE\nZeitouna Olive Oil\nZiu Projects Handcraft and Florist\nZoharZ ArtZ
URL:https://www.handmadehongkong.com/zh/event/discovery-bay-sunday-market-may-2020/
CATEGORIES:Discovery Bay Main Plaza,Markets
ATTACH;FMTTYPE=:
END:VEVENT
END:VCALENDAR