BEGIN:VCALENDAR
VERSION:2.0
PRODID:-//Handmade Hong Kong - ECPv6.15.20//NONSGML v1.0//EN
CALSCALE:GREGORIAN
METHOD:PUBLISH
X-WR-CALNAME:Handmade Hong Kong
X-ORIGINAL-URL:https://www.handmadehongkong.com/zh
X-WR-CALDESC:Handmade Hong Kong的活动
REFRESH-INTERVAL;VALUE=DURATION:PT1H
X-Robots-Tag:noindex
X-PUBLISHED-TTL:PT1H
BEGIN:VTIMEZONE
TZID:Asia/Hong_Kong
BEGIN:STANDARD
TZOFFSETFROM:+0800
TZOFFSETTO:+0800
TZNAME:HKT
DTSTART:20210101T000000
END:STANDARD
END:VTIMEZONE
BEGIN:VEVENT
DTSTART;TZID=Asia/Hong_Kong:20220313T110000
DTEND;TZID=Asia/Hong_Kong:20220313T180000
DTSTAMP:20260424T052659
CREATED:20210706T034324Z
LAST-MODIFIED:20220217T023408Z
UID:5757-1647169200-1647194400@www.handmadehongkong.com
SUMMARY:CANCELLED : Discovery Bay Sunday Market – March 2022
DESCRIPTION:Unfortunately\, due to the current Covid-19 situation in Hong Kong\, this market has been cancelled.  We hope to see you again soon.
URL:https://www.handmadehongkong.com/zh/event/discovery-bay-sunday-market-march-2022/
LOCATION:DB Plaza\, Discovery Bay Plaza\, Discovery Bay Road\, Discovery Bay\, Hong Kong
CATEGORIES:Discovery Bay Main Plaza,Markets
ATTACH;FMTTYPE=image/png:https://www.handmadehongkong.com/wp-content/uploads/2021/07/Screenshot-2021-07-06-at-11.31.10-AM.png
ORGANIZER;CN="Handmade Hong Kong":MAILTO:connect@handmadehongkong.com
END:VEVENT
END:VCALENDAR