BEGIN:VCALENDAR
VERSION:2.0
PRODID:-//Handmade Hong Kong - ECPv6.15.20//NONSGML v1.0//EN
CALSCALE:GREGORIAN
METHOD:PUBLISH
X-WR-CALNAME:Handmade Hong Kong
X-ORIGINAL-URL:https://www.handmadehongkong.com/zh
X-WR-CALDESC:Handmade Hong Kong的活动
REFRESH-INTERVAL;VALUE=DURATION:PT1H
X-Robots-Tag:noindex
X-PUBLISHED-TTL:PT1H
BEGIN:VTIMEZONE
TZID:Asia/Hong_Kong
BEGIN:STANDARD
TZOFFSETFROM:+0800
TZOFFSETTO:+0800
TZNAME:HKT
DTSTART:20190101T000000
END:STANDARD
END:VTIMEZONE
BEGIN:VEVENT
DTSTART;TZID=Asia/Hong_Kong:20200308T110000
DTEND;TZID=Asia/Hong_Kong:20200308T180000
DTSTAMP:20260424T054011
CREATED:20190522T225820Z
LAST-MODIFIED:20190522T225820Z
UID:3933-1583665200-1583690400@www.handmadehongkong.com
SUMMARY:CANCELLED : Discovery Bay Sunday Market - March 2020
DESCRIPTION:Unfortunately due to the current situation regarding the Covid-19 virus\, the March DB Sunday Market is cancelled.\n\nWe are deeply saddened to have to cancel one of our events. The cancellation has been carefully considered and was made in accordance with government recommendations\, advice from the FEHD\, and our venue partners Hong Kong Resorts International.\n\n\n\n\nYou can see a list of all of our upcoming events here. \nSee below for a list of all of the vendors who will be at this market\, please click on the name to reach their website: \n\n\n\n2NU Sunglasses\nAGEMO Soap and Skin Care\nAgnes & Yvonne\nAleb – Mexican Art\nAlice B\nAnatolia cultural centre\nAnkyra Home\nAnnibody\nAntonia Y. Jewelry\nAromaa Blendss\nArtisamber\nArty Henty\nArtysans\nAster Aroma\nAussie Premier\nAVRA\nbetelbird\nBlack Cat Badges\nBowtasia\, Bubbles&spells and Kayla Layla Handmade\nBy Mamalaterre\nByAnsah – Fashion Accessories\nChair and table\nCHEESE CLUB\nchiara D’Cruz\nChromatic Fashion and Jewelry\nChuwawah Jewellery\nConnie DIY\nConspiracy Chocolate\nCuisinier Angelo\nDB Party Time\nDBI Nano Water System\nDIZAIN + Biltong Chief\nDougal’s Minerals & Crystals\nE’sense Tea\nEbru’s Accessories\nEDITH ART JEWELLERY\nEdith Mak – Fluid Artist\nElizabeth’s Original Art Prints\nEmiko\netcetera Hong Kong\nEveryday goods store\nEye Market\nFelix & Co\nFiona Fan\nFlosJewelryBox\nFunky Cool Monkey\nFusion Craft\nGet back to essentials\nGinsanity\nGiri’s\nGlassByTLaw\nGolden Paws\nGourmet Point\nGraceful Handmade Soap\nGreen\nGuumland\nHAGOROMO SYUN SYUN\nHandmade Hong Kong\nHAPIsabella\nHealthy Living\nHEAVEN CANDLE\nHeyland and Whittle HK\nHilapainting\nHilary Schwartz Collection\nHILX Eyewear\nHISPANIA GOURMET\nHong Kong Committee for UNICEF\nHong Kong Trail Map\nIl Contadino Marchigiano\nImpactHK\nInsomniacKnits\nJanice Art Workshop & Face Painting\nJapanese creator Shop\nJJ Marketplace\nJMC Wild Forest\nJonathan Chow\nKapuhala Space\nLa Oria\nLe Présent\nLevain Bakery\nLilly&Co.\nLittlemoliu\nLovely Handmade by Helen\nM station\nMade in Peru\nMayse Artisan Bakery\nme Me & ME\nMe&Berg\nMein Handwerkgarten\nMeliemou Essentials\nMeow Studio\nMiajees Leather\nMommy’s Bag\nMyAfric Designs\nnatnat\nNick Gleitzman photographs\nNo Less Créateur i\nNot Only Olives\nnovmb_r\nOil Solution\nOil Therapy\nOMJ Premium Homemade Dried Dog Food\nPAM TEA & WINE (“PTW”) Fine Wine & Quality Tea\npashlili\nPeacock FIne Foods\nPetit Chat Noir\nPicture Finders / bluyonda\nPinyin Press\nPOLISHFOOD.HK\nPure Elegance\nQiCha\nreBooked\nRIL CREED\nRizzy Italia & Studio 22\nRM’s Fine Watercolour Art\nROCK ATOLL\nRushlight Candle\nsac la vie\nSakae Lifestyle / Healing\nSari Nakanishi\nSarment Wines\nScarflit\nSheLei Lifesytle\nSimply Bliss by Angel C\nSoher.HK\nSolidayz Hats\nSouffleGroomingCo.\nspaceinspace\nTAMAR HK\nThe Chief Project | The Crafters\nThe Concepto\nThe Living Mark Ltd.\nTiny Happy Bundles\nTSH Jewelry By Anicha Patel\nV Brands\nV Wardrobe\nVictor & Hugo Gourmet\nVintage Time\nVladi & Mocha’s Art\nWild Mint\nWING LING MAVIS CHUNG\nWoody Madam\nWoven+MADE\nYTJ\nYu Aoyama\nYUI HANDMADE GEM JEWELRY\nZeitouna Olive Oil\nZoharZ ArtZ\n然本澗  ESSENTIAL NATURE\n齊齊多肉 Sage’s Succulents
URL:https://www.handmadehongkong.com/zh/event/discovery-bay-sunday-market-march-2020/
CATEGORIES:Discovery Bay Main Plaza,Markets
ATTACH;FMTTYPE=:
END:VEVENT
END:VCALENDAR