BEGIN:VCALENDAR
VERSION:2.0
PRODID:-//Handmade Hong Kong - ECPv6.15.20//NONSGML v1.0//EN
CALSCALE:GREGORIAN
METHOD:PUBLISH
X-WR-CALNAME:Handmade Hong Kong
X-ORIGINAL-URL:https://www.handmadehongkong.com/zh
X-WR-CALDESC:Handmade Hong Kong的活动
REFRESH-INTERVAL;VALUE=DURATION:PT1H
X-Robots-Tag:noindex
X-PUBLISHED-TTL:PT1H
BEGIN:VTIMEZONE
TZID:Asia/Hong_Kong
BEGIN:STANDARD
TZOFFSETFROM:+0800
TZOFFSETTO:+0800
TZNAME:HKT
DTSTART:20230101T000000
END:STANDARD
END:VTIMEZONE
BEGIN:VEVENT
DTSTART;TZID=Asia/Hong_Kong:20240609T110000
DTEND;TZID=Asia/Hong_Kong:20240609T180000
DTSTAMP:20260424T004938
CREATED:20230915T061258Z
LAST-MODIFIED:20240607T065050Z
UID:9817-1717930800-1717956000@www.handmadehongkong.com
SUMMARY:Discovery Bay Sunday Market - June 2024
DESCRIPTION:If you would like to join us as a vendor at this market\, please email us on register@handmadehongkong.com for more information. \nHere is the vendor map for our June 2024 DB Sunday market: \n \nSee below for a list of all of the vendors who will be at this market\, please click on the name to reach their website: \nAhappeenugget\nAitch’s Biltong\nangel wong image\nAnimals Asia Foundation\nANKA STYLE\nantara_all_about_passions\nARTwithHEART\nBelyov Pastila\nbluyonda / Picture Finders\nBorgovivo Limited\nBy Mamalaterre\nCAIR Fragrances\nCarley Chiu\nCMO Perfume\nDiva\nDog.Dog.Eat\nDORDOR NAIL\nEdlynne Bespoke Accessories\nFood For The Soul\nGoosebump\nGreenmont Kids\nHandmade by Hatten\nHandmade Hong Kong\nHealthy Living\nHKCopperBrass\nHou Living\nIndie Global\nJackie’s Room\nJanice handcraft\nKF Art Workshop\nLa Femme\nLabels of spain\nLegacy Studio\nlelejewelz\nMandala\nMandatory Provident Fund Schemes Authority\nManique\nmensō\nmindfie goods\nMochi’s Craft\nNAJEL\nNiks & Tiks Collection\nO’STUDIO\,  Damaskina\nOfee\nOMJ Premium Homemade Dried Dog Food\nOver the cloud\nPAU PAU accessories\nPearly&purely\nPLAYRIGHT CHILDREN’S PLAY ASSOCIATION\nReyansh Rampal\nRioshine\nRolling Books\nROYGYPSY\nRVZR\nTaijitu Healing\nThe letterbox company\nThe Sabda\nTie Dye Ninja\nUnique Crafts HK\nVictoria’s facepainting\nWinginez\nWoodbury Revival\n瓦遇 Earthen Vessels\n陽光鋁窗工程有限公司
URL:https://www.handmadehongkong.com/zh/event/discovery-bay-sunday-market-june-2024/
LOCATION:DB Plaza\, Discovery Bay Plaza\, Discovery Bay Road\, Discovery Bay\, Hong Kong
CATEGORIES:Discovery Bay Main Plaza,Markets
ATTACH;FMTTYPE=image/jpeg:https://www.handmadehongkong.com/wp-content/uploads/2023/09/Handmade-HK-60-20.jpg
ORGANIZER;CN="Handmade Hong Kong":MAILTO:connect@handmadehongkong.com
END:VEVENT
END:VCALENDAR