BEGIN:VCALENDAR
VERSION:2.0
PRODID:-//Handmade Hong Kong - ECPv6.15.20//NONSGML v1.0//EN
CALSCALE:GREGORIAN
METHOD:PUBLISH
X-WR-CALNAME:Handmade Hong Kong
X-ORIGINAL-URL:https://www.handmadehongkong.com/zh
X-WR-CALDESC:Handmade Hong Kong的活动
REFRESH-INTERVAL;VALUE=DURATION:PT1H
X-Robots-Tag:noindex
X-PUBLISHED-TTL:PT1H
BEGIN:VTIMEZONE
TZID:Asia/Hong_Kong
BEGIN:STANDARD
TZOFFSETFROM:+0800
TZOFFSETTO:+0800
TZNAME:HKT
DTSTART:20220101T000000
END:STANDARD
END:VTIMEZONE
BEGIN:VEVENT
DTSTART;TZID=Asia/Hong_Kong:20230611T110000
DTEND;TZID=Asia/Hong_Kong:20230611T180000
DTSTAMP:20260424T020753
CREATED:20221206T165600Z
LAST-MODIFIED:20230608T003206Z
UID:8721-1686481200-1686506400@www.handmadehongkong.com
SUMMARY:Discovery Bay Sunday Market - June 2023
DESCRIPTION:If you would like to join us as a vendor at this market\, please email us on register@handmadehongkong.com for more information. \nHere is the vendor map for our June 2023 DB market: \n \nSee below for a list of all of the vendors who will be at this market\, please click on the name to reach their website: \n2nu Sunglasses\n6 Scents\nabout aether\nAilia Naturals Bodhi Tree\naitch’s biltong\nAlice Randell\nAlvin c.k. Lam Art + On The Wagon Kombucha\nANKA TASTE\nAnkyra Homs\nArtsy Alley\nArtwithheart bykj\nBarefoot Buddies\nbelovedactivewear\nBibish\nBlack Cat Badges\nBlue Lotus Editions\nBositos\nCa Lisa Jewellery\nCandle Up\ncat in Mud\ncitiScent\nCLH / Aviationtag by Newbond\nCommon Lotus x Valise Philosophy\nCookie Smiles\nCopperstone Jewellery\nCrue\nDASK Leathercraft\nDee SHREE Creations\nDeenDeenDei\nDivaine You\nDoodlerashi\nDough Concept\nDwaMucHandMade\nEdith Mak\nElegant Creationss\nEye Market\nFat Tomato co ltd\nFluffy Terry\nGlass Castle & Co.\nGloBilly\nGlory Dough Bakery\nGolden Wood\nGood evening ceramics & Kiln wanday\nGoosebump\nGreenmont Kids\nGrooow\nHandmade by Hatten\nHandmade Hong Kong\nHealthy Living\nHEINGA & Majesty vega\nhilx Eyewear Co.\, Ltd.\nHiraya Scent & Co. X Sparkles & Joy\nHKCopperBrass\nHumble Pots\nHyphen Studio\nIce of Jadeite\nImagine Station Ltd\nIndie Global\nInfincotton\nIsaliyana\nITYAADI HOME\nJanice Handcraft\nKalasiddhiart Concepts\nKanhode\nKRSV\nlammaste\nLelejewelz\nLe-Organics\nLittlemadeit\nLittleversity\nLive Your Life\nmade in Peru\nMagic\nMelissa Jewelry Limited\nMittuna\nMultiple_hk\nMuseek Studio hong Kong\nnefertiti\nNick Gleitzman photographs\nNimravus\nNot only olives\nÔ Fil de Lau\nOlivia Creation\nOMJ Premium Homemade Dried Dog Food\nOurKidzStuffs\nPetitshop\nPo Yee Illustrates\nPsyche&co.\nQicha limited\nQueRicoHk\nRollercoaster\nRosieposie\nRutika Malpani\nSabah Select\nSanatura\nSaptrangtrendz Creations\nScarflit\nsolidayz hats & Scarves\nSoni’s Natural\nSoo’s Doodle\nSOULRELLE\nSpaceinspace\nSparkle\nStarStudio\nStylish bunny\nTea Said\nThe Candleman Hk\nThe Designer Studio HK\nThe Letterbox company\nUnion Star Int’l Holdings Ltd.\nWish Beauty Bar\nwonderhin\nWOODBURY REVIVAL\nYaka hot sauce\nYASS COOKIES\nYogakaar Wellness Solutions (HK) Ltd.
URL:https://www.handmadehongkong.com/zh/event/discovery-bay-sunday-market-june-2023/
LOCATION:DB Plaza\, Discovery Bay Plaza\, Discovery Bay Road\, Discovery Bay\, Hong Kong
CATEGORIES:Discovery Bay Main Plaza,Markets
ATTACH;FMTTYPE=image/jpeg:https://www.handmadehongkong.com/wp-content/uploads/2022/12/Photo-13-6-2022-10-17-57-1.jpg
ORGANIZER;CN="Handmade Hong Kong":MAILTO:connect@handmadehongkong.com
END:VEVENT
END:VCALENDAR