BEGIN:VCALENDAR
VERSION:2.0
PRODID:-//Handmade Hong Kong - ECPv6.15.20//NONSGML v1.0//EN
CALSCALE:GREGORIAN
METHOD:PUBLISH
X-WR-CALNAME:Handmade Hong Kong
X-ORIGINAL-URL:https://www.handmadehongkong.com/zh
X-WR-CALDESC:Handmade Hong Kong的活动
REFRESH-INTERVAL;VALUE=DURATION:PT1H
X-Robots-Tag:noindex
X-PUBLISHED-TTL:PT1H
BEGIN:VTIMEZONE
TZID:Asia/Hong_Kong
BEGIN:STANDARD
TZOFFSETFROM:+0800
TZOFFSETTO:+0800
TZNAME:HKT
DTSTART:20210101T000000
END:STANDARD
END:VTIMEZONE
BEGIN:VEVENT
DTSTART;TZID=Asia/Hong_Kong:20220612T110000
DTEND;TZID=Asia/Hong_Kong:20220612T180000
DTSTAMP:20260424T032315
CREATED:20210706T035635Z
LAST-MODIFIED:20220531T115533Z
UID:5763-1655031600-1655056800@www.handmadehongkong.com
SUMMARY:Discovery Bay Sunday Market – 12th June 2022
DESCRIPTION:Vendor applications now closed. \nPlease email register@handmadehongkong.com if you would like to be added to the vendor waitlist. \nPlease note that our market is covered by the HK government’s vaccine pass requirements.  More information can be found here. \nHere is the vendor map for our 12th June 2022 DB market: \n \nSee below for a list of all of the vendors who will be at this market\, please click on the name to reach their website: \n_w_e_handmade\n1handclay\n2NU Sunglasses\n30 Degrees South\nA Dog’s Life\naaraam london\nAfrica to Asia Ltd\nAitch’s Biltong\nAlvin c.k. Lam Art + On The Wagon Kombucha\nAndnoor HK\nAnkyra Home\nAnthea’s Face Painting\nAntonia Y. Jewelry\nAromaa Blendss\nArtistryy\nAshley Artycraft + John Aye\nASHNI\nBaXian Trade\nBBM Florist\nBE MÔME\nBeam Bold / Studio Ingrid Burgos\nBHAWA SPA PRODUCT\nBig Bang Incorporation Limited\nBLACK CAT BADGES\nbluyonda / Picture Finders\nBodhisattva\nBositos\nBowtasia\nBrightday Marketing\nBubbleMe Hard Seltzer\nCa Lisa Jewellery\nChangani Couture\nCharlotte Barjou Design\nCheese Club\nCircle Walker 周圍行\nClay & Cove Handmade Jewelry\nCommonLotus\nConceptu Home\nDahab lifestyle\nDB PartyTime\ndriftknots hk\nDwaMucHandMade\nEM Soy Candles and Scents\nEtterfly\nEunicemakes\nEX PLUM WINE LIMITED\nEye Market\nF&S Accessories\nFiyah Heat Store\nFormula Store15\nFour Grams Cookies\nG.O.A.T. POTTERS x TGIF\nGJ Bakever\nGlory Dough Limited\nHamilton & Co\nHanabi Workshop\nHandmade by Hatten\nHandmade Hong Kong\nHealthy Living\nhi\,Love\nHinitan Plantation\nHiraya Scent & Co.\nHKCOPPERBRASS\nHome T X Dear Darling\nHong Kong CBD\nhw2 creations\nHyphen Studio\nI Hate Lemon\nImpactHK\nIndie Global\nIsland Life\nItyaadi Home\nJamila Jewelry\nKapuhala Space Ltd\nKiri x The Blomstre\nKnitme\nKRSV\nLammaste\nLaurence Lai Gallery\nLavinia Birdworthy\nLittle Fiore\nLittle Miss Louw\nLittlemoliu\nLovely Handmade by Helen\nLS Handcrafted & Handmade\nM station\nMaanjha\nMacapuno Swimwear\nMad Jelly Chilli\nMajesty Vega\nMandatory Provident Fund Authority\nMeow Scone\nMiliMilu\nMini DaVinci HK\nMOBdaily Marketing and Consultants Limited\nMore Tea Hong Kong\nNail de 89268\nNEVERToo\nNg’s family leather craft\nNick Gleitzman photographs\nNicole International Ltd\nNita’s World Books\nNora Nora Jewelry\nNot only olives\nOhhellobruno\nOMJ Premium Homemade Dried Dog Food\nOne More Please\nPetit Chat Noir\nPirita Jewelry\npout Care Hong Kong\nPRESTIGIOUS FOODS\nPurality\nQicha\nSaifan HK\nSam & Dot Custom Collars\nSari-Sari Sundry\nScarflit\nSEMA SHOP\nSeremiti\nShe Creates Stories\nSmall Potato Co/BEYOND MAT REFORMAT APPAREL\nSolidayz Hats and Scarves\nSOULRELLE\nSpaceinspace\nSpectrart Limited\nSPORTIE\nSteps To The Future\nStones and Phenomenon\nStyle Standard\nTasmanian Soap Farm\nTeal & Stone\nTendoustore\nThe Flanders Tapestry Collection\nThe Kookē\nThe Summer Bay\nThemis Jewelry\nTiARA Cosmetics\nTime to Daydream\nTimeless by Temmy\nTiny Island Maps\ntuft enough\nVenture Studios\nViramic\nWayuu+MADE\nWELL WELL WELL / Crafts by Rocky & Gaia\nWildalp Baby\nYASS COOKIES\nyellow pear co.\nYippee Goodies\nZARE\nZASHA Handmade Jewelry\n茶茶林
URL:https://www.handmadehongkong.com/zh/event/discovery-bay-sunday-market-june-2022/
LOCATION:DB Plaza\, Discovery Bay Plaza\, Discovery Bay Road\, Discovery Bay\, Hong Kong
CATEGORIES:Discovery Bay Main Plaza,Markets
ATTACH;FMTTYPE=image/png:https://www.handmadehongkong.com/wp-content/uploads/2021/07/Screenshot-2021-07-06-at-11.31.55-AM.png
ORGANIZER;CN="Handmade Hong Kong":MAILTO:connect@handmadehongkong.com
END:VEVENT
END:VCALENDAR