BEGIN:VCALENDAR
VERSION:2.0
PRODID:-//Handmade Hong Kong - ECPv6.15.20//NONSGML v1.0//EN
CALSCALE:GREGORIAN
METHOD:PUBLISH
X-WR-CALNAME:Handmade Hong Kong
X-ORIGINAL-URL:https://www.handmadehongkong.com/zh
X-WR-CALDESC:Handmade Hong Kong的活动
REFRESH-INTERVAL;VALUE=DURATION:PT1H
X-Robots-Tag:noindex
X-PUBLISHED-TTL:PT1H
BEGIN:VTIMEZONE
TZID:Asia/Hong_Kong
BEGIN:STANDARD
TZOFFSETFROM:+0800
TZOFFSETTO:+0800
TZNAME:HKT
DTSTART:20190101T000000
END:STANDARD
END:VTIMEZONE
BEGIN:VEVENT
DTSTART;TZID=Asia/Hong_Kong:20200209T110000
DTEND;TZID=Asia/Hong_Kong:20200209T180000
DTSTAMP:20260424T044055
CREATED:20190522T225431Z
LAST-MODIFIED:20190522T225431Z
UID:3930-1581246000-1581271200@www.handmadehongkong.com
SUMMARY:CANCELLED : Discovery Bay Sunday Market - February 2020
DESCRIPTION:Unfortunately due to the current situation regarding the Corona Virus\, the February 9th DB Sunday Market is cancelled.\n\nWe are deeply saddened to have to cancel one of our events. The cancellation has been carefully considered and was made in accordance with government recommendations\, advice from the FEHD\, and our venue partners Hong Kong Resorts International.\n\n\n\nYou can see a list of all of our upcoming events here.\n  \n  \n  \nVendor applications now closed. \nPlease email register@handmadehongkong.com if you would like to be added to the vendor waitlist. \nHere is the vendor map for our February 2020 DB market: \n \nClick on the map to enlarge. \nSee below for a list of all of the vendors who will be at this market\, please click on the name to reach their website: \n2NU Sunglasses\nA-Gain Jewel\nA. MORE Collection\nAC HK\nAleb – Mexican Art\nAnanyakrafts\nAnatolia cultural centre\nAnkyra Home\nANNIBODY\nAntonia Y. Jewelry\nArtisamber\nASHNI\nAster Aroma\nBalloon Platform Line\nBig Bang Incorporation Limited\nBlack Cat Badges\nBooksharers\nBowtasia\, Bubbles&spells and Kayla Layla Handmade\nCa Lisa Jewellery\nChaky Jewellery\nCHEESE CLUB\nChromatic Fashion and Jewelry\nChula Hong Kong\nChuwawah Jewellery\nCOME Home\nConspiracy Chocolate\nCoral Murphy\nCowbird Coffee Roasters\nCroGourmet\nDB Party Time\nDBI Nano Water System\nDiamond Bakeries\nDIZAIN + Biltong Chief\nDougal’s Minerals & Crystals\nEAT BETTER\nEbru’s Accessories\nEDITH ART JEWELLERY\nElegance Company\nElizabet’s Original Art Prints\netcetera Hong Kong\nEtterfly\nEye Market\nFarm Workshop\nFormula Studio\nFunkyCoolMonkey\nGiri’s\nGlassByTLaw\nGolden Paws\nGourmet Point\nGraceful Handmade Soap\ngreen\nGreen Straw HK\nHandmade Hong Kong\nHealthy Living\nHEAVEN CANDLE\nHILX Eyewear\nHISPANIA GOURMET\nHong Kong Trail Map\nHoopla for Essentials\nHydeland Leather\nIAM pure argan and cactus seed oil\nIf You Open Your Eyes\nIl Contadino Marchigiano\nImpact Berry\nInPotteryLand 在陶\nInsomniacKnits\nJ.M kids\nJanice Art Workshop & Face painting\nKapuhala Space\nKiji Handmade\nKoolamundo\nLe Presént Perfume\nLevain Bakery\nLily homemade\nLittlemoliu\nLovely Handmade by Helen\nM station\nMade in Peru\nMaster B. Gift Shop\nMayse Artisan Bakery\nMe&Berg\nMeliemou Essentials\nMichael Li\nMiriya\nMiss Bear\nMommy’s Bag\nMulGlee\nmy beauty share\nN+B Littles\nnatnat\nNo Less Créateur i\nNot Only Olives\nOdile & Odette\nOil Therapy\nOMJ Premium Homemade Dried Dog Food\nONEMOREDISH\npashlili\nPeacock FIne Foods\nPepper & Mint\nPetit Chat Noir\nPETOROO\nPicture Finders / bluyonda\nPinPhant\nPixspider\nPlayful Socks\nPOLISHFOOD.HK\nPROPOLIA / ORGANIC\nPure Elegance\nQicha\nreBooked\nRich Wake Art\nRiki Wellness\nRizzyItalia\nROCK ATOLL\nRushlight Candle\nsac la vie\nSari Nakanishi\nSarment Wines\nScarflit\nSeed Candle Co\nSheLei Lifesytle\nsimplicity + love\nSimply Bliss\nSoie – Handmade Silk Clothing Line\nSolidayz Hats\nSundara Collections\nTAMAR HK\nTeresa’s Turkish Towels\nthe Clean Scent\nThe Lovely Things\nTHE OIL LABORATORY\nThe Quiet Place Art & Art by Evania\nTiny Happy Bundles\nUno Anjo\nV Brands\nV Wardrobe\nVictor & Hugo\nWaterfall Gardens\nWeber Barbecue\nWIFF\nWineservice HK\nWolave Select\nWoven+MADE\nYTJ\nYvonne & Annette\nZeitouna\nZoe et Yvonne Fleuriste\nZoharZ ArtZ\n歪溪whyclay\n然本澗。ESSENTIAL NATURE
URL:https://www.handmadehongkong.com/zh/event/discovery-bay-sunday-market-february-2020/
CATEGORIES:Discovery Bay Main Plaza,Markets
ATTACH;FMTTYPE=:
END:VEVENT
END:VCALENDAR