BEGIN:VCALENDAR
VERSION:2.0
PRODID:-//Handmade Hong Kong - ECPv6.15.20//NONSGML v1.0//EN
CALSCALE:GREGORIAN
METHOD:PUBLISH
X-WR-CALNAME:Handmade Hong Kong
X-ORIGINAL-URL:https://www.handmadehongkong.com/zh
X-WR-CALDESC:Handmade Hong Kong的活动
REFRESH-INTERVAL;VALUE=DURATION:PT1H
X-Robots-Tag:noindex
X-PUBLISHED-TTL:PT1H
BEGIN:VTIMEZONE
TZID:Asia/Hong_Kong
BEGIN:STANDARD
TZOFFSETFROM:+0800
TZOFFSETTO:+0800
TZNAME:HKT
DTSTART:20190101T000000
END:STANDARD
END:VTIMEZONE
BEGIN:VEVENT
DTSTART;TZID=Asia/Hong_Kong:20201206T110000
DTEND;TZID=Asia/Hong_Kong:20201206T180000
DTSTAMP:20260424T043938
CREATED:20190522T231815Z
LAST-MODIFIED:20190522T231815Z
UID:3958-1607252400-1607277600@www.handmadehongkong.com
SUMMARY:CANCELLED : Discovery Bay Sunday Market - December 2020
DESCRIPTION:Unfortunately we have had to cancel this market. See you again soon! \nSee below for a list of all of the vendors who will be at this market\, please click on the name to reach their website: \n2NU Sunglasses\n852prints\naco&h\nAfrojewellery.hk\nAmanda Seto Scarf Designs\nAmrutha Bhupathiraju\nAnkyra Home\nAnnibody\nAnnita Crochet\nAntonia Y. Jewelry\nAquamarine 大海與湖泊 (jewellery)\nAromonix x Botaniumcare\nART BY MISBAH\nASHNI\natelier YVF\nBamboozled\nBetelbird\nBig Bang Incorporation Limited\nBlack Cat Badges\nBonivoyage\nBook Wise and Small Print\nBositos\nBowtasia\nBubbles&Spells\nBurano murano\nBY GINNY\nBy Mamalaterre\nCa Lisa Jewellery\nCandle Up\nCasita\nChatteriz\nChill Chill Country\nClods of earth 泥土．塵土\nConspiracy Chocolate\nCotton Pigs\nCowbird Coffee Roasters\nCraft  Junkie HK\nCrane and Deer\ncravings.byjv x ohmygoodieshk\nDB Party Time\ndiFV-art\nDinky Suds\nDougal’s Minerals & Crystals\nEDITH ART & JEWELLERY\netcetera Hong Kong\nEtherealbyCaroline\nEtterfly\nEye Market\nFarm Workshop\nfelix & mina\nFound\nFrenchie Toquee\nFriends Valley Handmade Accessories\nFusion foundry by maria\nGinny Malbon Photography\nGinsanity\nGusto Collection\nHandmade Hong Kong\nHealthy Living\nHinitan Coffee Plantation\nHK Liquor Store\nHK Trail Map\nHoopla for Essentials\nHydeland\nIl contadino marchigiano\nInsomniacTextiles\nJanice art workshop & face painting\nJoy Hippo\nJoyce Fok\nJuzze Baby Limited\nKakibubu Media Limited\nKapuhala Space Ltd\nKim’s Cards and Paintings\nKNOTTY but nice\nLa Oria\nLacess\nLaurence Lai Gallery\nlc.de.raina\nLekker Laa\nLex and Beans Dog Apparel\nLilly&Co.\nLily Homemade 百合手作\nLovely Handmade by Helen\nLuz – Handmade Accessories\nM station\nMade in Peru\nMatthew Ryan Rosslee\nMayo Ong  Art\nMayse Artisan Bakery\nMein Handwerkgarten\nMini Love Tales\nMomentaneous\nMommy’s Bag\nMoth and more creative workshop\nNatural Reborn/ Wingyu Yeung Art\nNature craft\nNiya K\nNo Less Créateur\nNoesis\nNOT ONLY OLIVES\nOcean Recovery Alliance\nOdile & Odette\nOil Therapy\nOMJ Premium Dried Dog Food\nOpal Candles\nOzzie Cozzie Co\nPaper-Roses\nPB Woodenware\nPEACOCK FINE FOODS\nPersian Rugs and Crafts\nPetit Chat Noir\nPinyin Press\nPlayful Socks\nPure Elegance\nRancho\nROCK ATOLL\nSANI\nSECCO\nSema Shop\nsenselessart\nsewingloveXraffinestore\nSIBERIA BOTANICA\nSOLIDAYZ HATS & SCARVES\nSouffleGroomingCo.\nspaceinspace\nSTAROLOGY\nStella Moon Handmade Intimates\nStitch Sister\nSTOCKHOLM\nSubs Hong Kong\nSuheyla Congar\nSundara Collections\nSutton Kids & Tati and Banana\nSwedish’s Handmade Bodycare\nTAILS Lantau\nTat’s Socking Dolls\nTeresa’s Turkish Towels\nTERRA OOAK\nThe Alley\nThe Candleman HK\nthe Clean Scent\nThe Lovely Things\nThe Nature Conservancy\nThe Print Mom\nTo Little HK Jewellery\nV Brands\nVictor & Hugo Gourmet\nVVfashions\nWander Cubs\nWander with Nicole\nWay.b Florist\nWayuu+MADE\nWhere the honey runs\nwong hiu kwan\nZarè  and Lunite Crystals\nZoharZ ArtZ\n然本澗   ESSENTIAL NATURE
URL:https://www.handmadehongkong.com/zh/event/discovery-bay-sunday-market-december-2020/
CATEGORIES:Discovery Bay Main Plaza,Markets
ATTACH;FMTTYPE=:
END:VEVENT
END:VCALENDAR