BEGIN:VCALENDAR
VERSION:2.0
PRODID:-//Handmade Hong Kong - ECPv6.15.20//NONSGML v1.0//EN
CALSCALE:GREGORIAN
METHOD:PUBLISH
X-WR-CALNAME:Handmade Hong Kong
X-ORIGINAL-URL:https://www.handmadehongkong.com/zh
X-WR-CALDESC:Handmade Hong Kong的活动
REFRESH-INTERVAL;VALUE=DURATION:PT1H
X-Robots-Tag:noindex
X-PUBLISHED-TTL:PT1H
BEGIN:VTIMEZONE
TZID:Asia/Hong_Kong
BEGIN:STANDARD
TZOFFSETFROM:+0800
TZOFFSETTO:+0800
TZNAME:HKT
DTSTART:20190101T000000
END:STANDARD
END:VTIMEZONE
BEGIN:VEVENT
DTSTART;TZID=Asia/Hong_Kong:20201122T110000
DTEND;TZID=Asia/Hong_Kong:20201122T180000
DTSTAMP:20260424T043541
CREATED:20190522T231642Z
LAST-MODIFIED:20190522T231642Z
UID:3955-1606042800-1606068000@www.handmadehongkong.com
SUMMARY:CANCELLED : Discovery Bay Sunday Market - 22nd November 2020
DESCRIPTION:Unfortunately we have had to cancel this market. See you again soon! \nHere is the vendor map for our 22nd November 2020 DB market: \n \nClick on the map to enlarge. \nSee below for a list of all of the vendors who will be at this market\, please click on the name to reach their website: \n*TEVY* Fashion & Home accessories\, Art-inspired\n2NU Sunglasses\nAfrojewellery.hk\nAgnes & Yvonne\nAnanyakrafts\nAnkyra Home\nANNIBODY\nAnnita Crochet\nAntonia Y. Jewelry\nASHNI\natelierYVF\nAussie Premier\nAVRA\nBamboozled\nBeerholics\nBen & Ellie Baby\nBerrybuzz\nBetelbird\nBig Bang Incorporation Limited\nBiltong Chief\nBlack Cat Badges\nBlkSheep Empire Footwear\nBonivoyage\nBook Wise and Small Print\nBositos\nBowtasia\nBuranoMurano\nBy Ginny\nBy Mamalaterre\nCa Lisa Jewellery\nCandle Up\ncardshelf\nChill Chill Country\nConnie DIY\nConspiracy Chocolate\nCotton Pigs\nCowbird Coffee Roasters\nCrane and Deer\ncravings.byjv x ohmygoodieshk\nDan Wu\nDanielle Wynn\nDB Party Time\ndiFV-art\nDinky Suds\nDougal’s Minerals & Crystals\nEden Ministry\nEDITH ART & JEWELLERY\nElemental Flos & Sabah\nEtherealbyCaroline\nEtterfly\nEye Market\nFarm Workshop\nfelix & mina\nfifipet\nFood Medicine Lab 有機愈膳房\nForME HONEY\nFurry Donuts + Little Miracles\nGinny Malbon Photography\nGLAM GODDESS KAFTANS\nHandmade Hong Kong\nHealthy Living\nHinitan Coffee Plantation\nHK Liquor Store\nhw2 creations\nHydeland\nIl contadino marchigiano\nInsomniacTextiles\nIsa-Bella-C.com\nJ’Amour Florist\nJanice art workshop & Face painting\nJewel Jam\nJohanna Chan\nKakibubu Media Limited\nKAMA CBD\nKapuhala Space Ltd\nLa Oria\nLacess\nLaurence Lai Gallery\nLilie Sai Wan\nLilly&Co.\nLily Homemade 百合手作\nLittle Days\nLovely Handmade by Helen\nLucy Chinese Calligraphy\nLuz – Handmade Accessories\nMade in Peru\nMake it COLOURFUL\nMayo Ong Art\nMayse Artisan Bakery\nMein Handwerkgarten\nMISSCBDHK\nMommy’s Bag\nMonette Wan Illustration\nMy dearamiga\nMyGreenZing\nN+B Littles\nNature craft\nNo Less Créateur\nNoesis\nNOT ONLY OLIVES\nOcean Recovery Alliance\nOdile & Odette\nOil Therapy\nOkinawa Prefectural Government\nOMJ Premium Dried Dog Food\nOzzie Cozzie Co\nPaper-Roses\nPASTEL LARITA\nPB Woodenware\nPEACOCK FINE FOODS\nPepper & Mint\nPersian Rugs and Crafts\nPetit Chat Noir\nPinyin Press\nPlayful Socks\npomelorice\nPure Elegance\nRe-Mask\nROCK ATOLL\nRoygypsy\nRyan Hummer\nSeed Candle Co\nsewingloveXraffinestore\nSIBERIA BOTANICA\nSimply Bliss By Angel C\nSOLIDAYZ HATS & SCARVES\nSTAROLOGY\nStitch by Stitch\nSTOCKHOLM\nSüheyla\nSundara Collections\nSwedish’s Handmade Bodycare\nTeresa’s Turkish Towels\nThe Alley\nthe Clean Scent\nThe Lovely Things | Handbags & Accessories\nThe Print Mom\nTingi Ko\nTisarôm – Food Origin\nTokki Eco Life\nUrban Greens HK\nVictor & Hugo Gourmet\nVVA Candle\nWander Cubs\nWander with Nicole\nWayuu+MADE\nWhere the Honey Runs\nWisdomDrops\nwong hiu kwan\nWOODCO Candles\nYass Cookies\nZare & Lunite Crystals\nZoharZ ArtZ\nZoko Jewelry\n泥土塵土clods of earth\n然本澗。ESSENTIAL NATURE \n  \n 
URL:https://www.handmadehongkong.com/zh/event/discovery-bay-sunday-market-22nd-november-2020/
CATEGORIES:Discovery Bay Main Plaza,Markets
ATTACH;FMTTYPE=:
END:VEVENT
END:VCALENDAR