BEGIN:VCALENDAR
VERSION:2.0
PRODID:-//Handmade Hong Kong - ECPv6.15.20//NONSGML v1.0//EN
CALSCALE:GREGORIAN
METHOD:PUBLISH
X-WR-CALNAME:Handmade Hong Kong
X-ORIGINAL-URL:https://www.handmadehongkong.com/zh
X-WR-CALDESC:Handmade Hong Kong的活动
REFRESH-INTERVAL;VALUE=DURATION:PT1H
X-Robots-Tag:noindex
X-PUBLISHED-TTL:PT1H
BEGIN:VTIMEZONE
TZID:Asia/Hong_Kong
BEGIN:STANDARD
TZOFFSETFROM:+0800
TZOFFSETTO:+0800
TZNAME:HKT
DTSTART:20200101T000000
END:STANDARD
END:VTIMEZONE
BEGIN:VEVENT
DTSTART;TZID=Asia/Hong_Kong:20211121T110000
DTEND;TZID=Asia/Hong_Kong:20211121T180000
DTSTAMP:20260424T020712
CREATED:20201210T095833Z
LAST-MODIFIED:20211119T075128Z
UID:4562-1637492400-1637517600@www.handmadehongkong.com
SUMMARY:Discovery Bay Christmas Market – 21st November 2021
DESCRIPTION:Vendor applications now closed. \nPlease email register@handmadehongkong.com if you would like to be added to the vendor waitlist. \nHere is the vendor map for our 21st November 2021 DB market: \n \nSee below for a list of all of the vendors who will be at this market\, please click on the name to reach their website: \n2NU Sunglasses\nA.More Collection\nAcaruna\nAfrica to Asia Ltd & The Hong Kong Society for the Blind\nAitch’s Biltong\nAlexa Man Design\nAlvin c.k. Lam Art + On The Wagon Kombucha\nambidexter\nAnanyakrafts\nAnkyra Home\nAnnita Crochet\nAnthea’s Face Painting\nAntonia Y. Jewelry\nAROMAA BLENDSS\nAromonix / Blomstre/ Botaniumcare\nART BY MISBAH\nArtistreekusum\nAshley & Mavis\nASHNI\nBABABABAGELS\nBaking Fairy HK\nBBBeads_handmade\nBeerholics x it’s manuka\nbetelbird\nBig Bang Incorporation Limited\nBlack Cat Badges\nBook Wise and Sundara Collections\nBowtasia\nBrae CBD\nBubbles&Spells\nBy Mamalaterre\nCa Lisa Jewellery\nCandle Up\ncardshelf\nCeramics by Key\nChatteriz\nChromatic Fashion & Jewellery\nCOME Home\nCopperstone Jewellery\nCouleur Aube – Marion\nCraftable\nCraftperience & Smell Good For Myself\nDawning Crow\nDB Party Time\nDear Munchkin\ndiFV-art\nDougal’s Crystals\nEden Ministry\nEdith Art & Jewellery\nEleanor McColl\nElla Mak\nenid.scents\netcetera Hong Kong\nEye Market\nFloat Captain Surf Supply\nFlow With Me HK\nFOK HING GIN\nFour Grams Cookies\nFrenchie Toquee Cakes\nFusion Foundry by Maria\nGift with Love\nHair Carnival\nHandmade Hong Kong\nHealthy Living\nHinitan Coffee and Cocoa Plantation\nHK Trails\nHong Kong CBD\nHong Kong Dignity Institute\nhw2 creations\nHydeland\nItalian Foodie Corner\nJane Eve Candles\nKapuhala Space Ltd\nKRSV\nLaurels Jewellery\nLaurence Lai Gallery\nLe Monde de Karu\nLea James Purse Organizers\nLilie Sai Wan\nLilly&Co.\nLimonade Candles\nLittlemoliu\nLiz Fry Design\nLovely Handmade by Helen\nLucy Shih\nM station\nMacrame by Margot\nMad Jelly Chilli\nMade in Peru\nMARILU DOLLS\nMarky and Cho\nMARY AND MARIE\nMayse artisan bakery\nMINDCRAFT\nMommy’s Bag\nMother Nature craft\nMy Rooftop is Green\nMyndfart\nNo Less Créateur\nNONA MILEY\nNot only olives\nOleum Cottage\nOMJ Homemade Premium Dried Dog Food\none piece making\nOZZIE COZZIE\nPaper-Roses\nPersian Carpets and Crafts\nPetit Chat Noir\nPhing Ceramics\nPlayful Socks\nPudding Dreamworks\nPure Elegance\nQICHA\nRMC Design\nSam & Dot’s Custom Collars\nSaucebaus\nScarflit\nScribble & Scrawl\nScript + Sea\nSEMA SHOP\nSeremiti\nShellvio\nSlofloe\nSLOK Chocolate\nSolidayz Hats & Scarves\nSpringbok Wines\nStitch Sister\nStyle Standard\nSuwimol Soap\nTempehola x Garden Hill\nThe Crystal Van\nThe Crystalline Life\nThe Flanders Tapestry Collection\nThe Lovely Things\nThe Print Mom\nTie Tie Dye\nTijo Jewellery\nTiny Island\nVanilla Dreams\nVeni. vidi.amavi_candle\nVenture Studios\nVIPOP\nWander with Nicole\nWays Out Hong Kong\nWhere the Honey Runs\nXmas by Vi.Galerie\nYASS COOKIES\nYTJ\nZARE\nZASHA Handmade Designer Jewelry\nZoko Jewelry\n然本澗。  ESSENTIAL NATURE
URL:https://www.handmadehongkong.com/zh/event/discovery-bay-sunday-market-21st-november-2021/
LOCATION:DB Plaza\, Discovery Bay Plaza\, Discovery Bay Road\, Discovery Bay\, Hong Kong
CATEGORIES:Discovery Bay Main Plaza,Markets
ATTACH;FMTTYPE=image/jpeg:https://www.handmadehongkong.com/wp-content/uploads/2020/12/WhatsApp-Image-2020-12-19-at-10.44.41-1.jpeg
ORGANIZER;CN="Handmade Hong Kong":MAILTO:connect@handmadehongkong.com
END:VEVENT
END:VCALENDAR