BEGIN:VCALENDAR
VERSION:2.0
PRODID:-//Handmade Hong Kong - ECPv6.15.20//NONSGML v1.0//EN
CALSCALE:GREGORIAN
METHOD:PUBLISH
X-WR-CALNAME:Handmade Hong Kong
X-ORIGINAL-URL:https://www.handmadehongkong.com/zh
X-WR-CALDESC:Handmade Hong Kong的活动
REFRESH-INTERVAL;VALUE=DURATION:PT1H
X-Robots-Tag:noindex
X-PUBLISHED-TTL:PT1H
BEGIN:VTIMEZONE
TZID:Asia/Hong_Kong
BEGIN:STANDARD
TZOFFSETFROM:+0800
TZOFFSETTO:+0800
TZNAME:HKT
DTSTART:20200101T000000
END:STANDARD
END:VTIMEZONE
BEGIN:VEVENT
DTSTART;TZID=Asia/Hong_Kong:20210314T110000
DTEND;TZID=Asia/Hong_Kong:20210314T180000
DTSTAMP:20260424T044057
CREATED:20210212T142404Z
LAST-MODIFIED:20210313T115831Z
UID:5493-1615719600-1615744800@www.handmadehongkong.com
SUMMARY:DISCOVERY BAY SUNDAY MARKET - 14 MARCH 2021
DESCRIPTION:Vendor applications now closed. \nPlease email register@handmadehongkong.com if you would like to be added to the vendor waitlist. \nHere is the vendor map for our 14th March 2021 DB market: \n \nClick on the map to enlarge. \nSee below for a list of all of the vendors who will be at this market\, please click on the name to reach their website: \n2NU Sunglasses\naco&h\nADAM MINUSCULAVE\nafrojewellery.hk\nAgnes & Yvonne\nAirpot 草蘆\nAlvin c.k. Lam Art\nAnkyra Home\nANNIBODY\nAnnita Crochet\nAntonia Y. Jewelry\nArtysans\nAVRA\nBamPads!\nBead Jewlery\nBeerholics x Wine BC\nBekah Studio\nBetelbird\nBig Bang Incorporation Limited\nBodhisattva\nBositos\nBottle In Red\nBowtasia\nBrownieasmic\nBubbleMe Hard Seltzer\nBy Mamalaterre\nCa Lisa Jewellery\nCandle Up\nCellar To Door Wines\nChezza\nchilly leung\nChromatic Fashion & Jewellery\nCIAO ITALIA HK\nCopperstone Jewellery\nCotton Town\ncravings.byjv\nCRO GOURMET\nDaphanie Lui\nDB PartyTime\nDougal’s Minerals & Crystals\nDWD and Little Wheat Farm\nEdith Art & Jewellery\nEspresso Blooms\nEtterfly\nEye Market\nfifipet\nFood Medicine Lab 有機愈膳房\nFound\nFour Grams Cookies\nFusion foundry by maria\nGLAM GODDESS KAFTANS\nGrassroots Future\nHandmade Hong Kong\nHappy Pet Days\nHealing Art Life\nHealthy Living\nHeart In Diamond\nHeinga & Karmacrame\nHK Trail Map\nHong Kong CBD\nhopkk\nHydeland\nIndica Girls + Aphrodite Mulberry Silk Accessories\nIndie Global\nInsomniacTextiles\nIsabel’s Handmade Soap®\nItalian Foodie Corner\nJANE EVE CANDLES\nKapuhala Space\nLa Oria\nLacess\nLai Siu Ming\nLekker Laa\nLilie Sai Wan\nLilly&Co.\nLily Homemade\nLiz Fry Design\nLucy Chinese Calligraphy\nM station\nMade in Peru\nMake it COLOURFUL\nMG DESIGNS\nMilk It Baby\nMISSCBDHK\nMommy’s Bag\nMyGreenZing\nnatnat\nnature craft\nNavy Jones Ocean Art\nNick Gleitzman photographs\nNot only olives\nOcean Recovery Alliance + HK Shark Foundation\nOMJ Premium Homemade Dried Dog Food\nOZZIE COZZIE\nPaper-Roses\nParmila Christensen\nPASTEL LARITA\nPaw Patch Club\nPEACOCK FINE FOODS\nPersian Carpets and Crafts\nPetit Chat Noir\nPetTreatCave\nPinyin Press\nPlayful Socks\nPlease Be You\nReiki Journey HK\nRoygypsy\nRupert & Bird eco towels\nSiberia Botanica\nSolidayz Hats & Scarves\nspaceinspace\nSPORTIE\nSUM × Kyless Kylie.\nSuwimol Soaps\nTeresa’s Turkish Towels\nThe Candleman HK\nThe Nature Conservancy\nThe Whisky Library\nTiARA Cosmetics\nTiny Island\nVAMAANI | SILK SLEEPWEAR & GRAPHIC TEES\nVeni. vidi.amavi_candle\nVenture Studios\nWayuu+MADE\nwong hiu kwan\nwoodwork\nZarè\nZoharZ ArtZ\n一山茶事 Put The Kettle On\n然本澗   ESSENTIAL NATURE
URL:https://www.handmadehongkong.com/zh/event/discovery-bay-sunday-market-14-march-2021/
LOCATION:DB Plaza\, Discovery Bay Plaza\, Discovery Bay Road\, Discovery Bay\, Hong Kong
CATEGORIES:Discovery Bay Main Plaza,Markets
ATTACH;FMTTYPE=image/jpeg:https://www.handmadehongkong.com/wp-content/uploads/2020/12/WhatsApp-Image-2020-12-19-at-10.44.34-1.jpeg
ORGANIZER;CN="Handmade Hong Kong":MAILTO:connect@handmadehongkong.com
END:VEVENT
END:VCALENDAR