BEGIN:VCALENDAR
VERSION:2.0
PRODID:-//Handmade Hong Kong - ECPv6.15.20//NONSGML v1.0//EN
CALSCALE:GREGORIAN
METHOD:PUBLISH
X-WR-CALNAME:Handmade Hong Kong
X-ORIGINAL-URL:https://www.handmadehongkong.com/zh
X-WR-CALDESC:Handmade Hong Kong的活动
REFRESH-INTERVAL;VALUE=DURATION:PT1H
X-Robots-Tag:noindex
X-PUBLISHED-TTL:PT1H
BEGIN:VTIMEZONE
TZID:Asia/Hong_Kong
BEGIN:STANDARD
TZOFFSETFROM:+0800
TZOFFSETTO:+0800
TZNAME:HKT
DTSTART:20240101T000000
END:STANDARD
END:VTIMEZONE
BEGIN:VEVENT
DTSTART;TZID=Asia/Hong_Kong:20251012T110000
DTEND;TZID=Asia/Hong_Kong:20251012T180000
DTSTAMP:20260424T042948
CREATED:20241010T064932Z
LAST-MODIFIED:20251009T115300Z
UID:10720-1760266800-1760292000@www.handmadehongkong.com
SUMMARY:Discovery Bay Sunday Market - 12th October 2025
DESCRIPTION:If you would like to join us as a vendor at this market\, please email us on register@handmadehongkong.com for more information. \nThere will be a Discovery Bay Pet-friendly Bus Service available at this market.  For more information click here. \nHere is the vendor map for our 12th October 2025 DB Sunday market: \n \nSee below for a list of all of the vendors who will be at this market\, please click on the name to reach their website: \nAngel wong Image\nBang Bang Pottery\nBarista Baba Coffee\nBomBom\ncc.lia; 321 Say Bees\nComfy & Chill\nCONTINENTAL POLLEN SCREEN & BLINDS\nCraftedGarden\nDolly and Bracelet\nDwaMucHandMade\nEat-ate-Eaten\nEiza & Grace Crochet\nFable Craft House\nFankaar Living\nFeelyou_hkpet & petpet.lecrafts\nFuriico\nGabriella軒轅 Bespoke Fashion\nGaia Harvest\nGallery. Nail. Tip\nGloBilly\nGreenmont Kids\nH_S_Boutique1\nHanamori\nHandmade Hong Kong\nHealthy Living\nHedgehog.Gut\nHK RECORDING STUDIO\nHKSRA\nIndie Global\nKaoru Haven\nKiaza_workshop\nLABEL PLUS\nLa lune Jewelry\nleaffy\nLelejewelz\nLilly&Co.\nLittle Jane\nLovemopig\nMade on Lamma\nMarakuja\nMiramiri Atelier\nModuluxe Sunglasses\nMunching Cats\nMy Mini Croissant\nNeon Athletica\nNiks & Tiks Collection\nNilus henna and products\nNoweverland\nNurturing nest and vivid scope Solutions\nNutri Nibbles\nOilFactorie\nOMJ Premium Homemade Dried Dog Food\nONE.COMBO\nOUD design Store\nPinjore\nPIXYSWIM\nProverse Hong Kong\nRichard Crosbie Art\nROCK ATOLL\nROLLING BOOKS\nSapphire By Kim\nSeadon Limited\nShift Thrifts\nshine_handmade_kathy\nShio & Akari\nsli_theworld 余弄室\nSolidayz Hats\nSOULRELLE\nSports Lab\nSteak King Holdings Limited\nsweettalk\nThe Jocosus\nThe Warming Plate Co Ltd\nUnidas.hk\nVenture Studios\nWalk & Talk®Dog Leashes / DL Handmade Dog Wear / Pawsonal Box\nWhimsy Doodles & Katysiel\nWood Carver Production Company\nWoofBaby Store\nYau’s Studio\nYui’s Chalk art\nYukkuri.cc X Sealandotter.co\n心織\n花言飾語\n雲地士多 Wanday\n養生鋪子
URL:https://www.handmadehongkong.com/zh/event/discovery-bay-sunday-market-12th-october-2025/
LOCATION:DB Plaza\, Discovery Bay Plaza\, Discovery Bay Road\, Discovery Bay\, Hong Kong
CATEGORIES:Discovery Bay Main Plaza,Markets
ATTACH;FMTTYPE=image/jpeg:https://www.handmadehongkong.com/wp-content/uploads/2023/09/Oct.jpg
ORGANIZER;CN="Handmade Hong Kong":MAILTO:connect@handmadehongkong.com
END:VEVENT
END:VCALENDAR