BEGIN:VCALENDAR
VERSION:2.0
PRODID:-//Handmade Hong Kong - ECPv6.15.20//NONSGML v1.0//EN
CALSCALE:GREGORIAN
METHOD:PUBLISH
X-WR-CALNAME:Handmade Hong Kong
X-ORIGINAL-URL:https://www.handmadehongkong.com/zh
X-WR-CALDESC:Handmade Hong Kong的活动
REFRESH-INTERVAL;VALUE=DURATION:PT1H
X-Robots-Tag:noindex
X-PUBLISHED-TTL:PT1H
BEGIN:VTIMEZONE
TZID:Asia/Hong_Kong
BEGIN:STANDARD
TZOFFSETFROM:+0800
TZOFFSETTO:+0800
TZNAME:HKT
DTSTART:20200101T000000
END:STANDARD
END:VTIMEZONE
BEGIN:VEVENT
DTSTART;TZID=Asia/Hong_Kong:20210425T110000
DTEND;TZID=Asia/Hong_Kong:20210425T180000
DTSTAMP:20260424T015340
CREATED:20210206T053009Z
LAST-MODIFIED:20210423T083516Z
UID:5482-1619348400-1619373600@www.handmadehongkong.com
SUMMARY:Discovery Bay North Market – 25th April 2021
DESCRIPTION:The DB North Market will feature a “Pets and Plants” theme this month\, and we are inviting our best pet and plant themed makers\, small businesses\, and charities to join us to celebrate and show gratitude for our companion creatures!\n \n\nVendor applications now closed. \nPlease email register@handmadehongkong.com if you would like to be added to the vendor waitlist. \nHere is the vendor map for our 25th April 2021 DB North market: \n \nSee below for a list of all of the vendors who will be at this market\, please click on the name to reach their website: \nAirpot 草蘆\nAnnita Crochet\nBare+\nBuddy Bites + Cookie Smiles\nDoggie Chic Boutique\nEspresso Blooms\nEverydayisbeachday\nfifipet\nFurbaby Pets\nHandmade Hong Kong\nHappy Pet Days\nKonger (pet food and snack)\nMa Mui Kee Pet Groceries\nMew’s Collections\nMISSCBDHK\nOMJ Premium Homemade Dried Dog Food\nPawsome Gourmet Treats\nPet Connect Therapy\nPet Space Club\nPups & Bubs\nTAILS Lantau\nUpcycled by Michal\nVenture Studios \n 
URL:https://www.handmadehongkong.com/zh/event/discovery-bay-north-market-april-2021/
LOCATION:DB North Plaza\, 92 Siena Avenue\, Discovery Bay\, Hong Kong
CATEGORIES:Discovery Bay North Plaza
ATTACH;FMTTYPE=image/jpeg:https://www.handmadehongkong.com/wp-content/uploads/2021/02/PetsandPlants.jpg
ORGANIZER;CN="Handmade Hong Kong":MAILTO:connect@handmadehongkong.com
END:VEVENT
END:VCALENDAR