BEGIN:VCALENDAR
VERSION:2.0
PRODID:-//Handmade Hong Kong - ECPv6.15.20//NONSGML v1.0//EN
CALSCALE:GREGORIAN
METHOD:PUBLISH
X-WR-CALNAME:Handmade Hong Kong
X-ORIGINAL-URL:https://www.handmadehongkong.com/zh
X-WR-CALDESC:Handmade Hong Kong的活动
REFRESH-INTERVAL;VALUE=DURATION:PT1H
X-Robots-Tag:noindex
X-PUBLISHED-TTL:PT1H
BEGIN:VTIMEZONE
TZID:Asia/Hong_Kong
BEGIN:STANDARD
TZOFFSETFROM:+0800
TZOFFSETTO:+0800
TZNAME:HKT
DTSTART:20200101T000000
END:STANDARD
END:VTIMEZONE
BEGIN:VEVENT
DTSTART;TZID=Asia/Hong_Kong:20211031T110000
DTEND;TZID=Asia/Hong_Kong:20211031T180000
DTSTAMP:20260424T031809
CREATED:20210817T074342Z
LAST-MODIFIED:20211015T125020Z
UID:5834-1635678000-1635703200@www.handmadehongkong.com
SUMMARY:Discovery Bay North Market – 31st October 2021
DESCRIPTION:The DB North Market will feature a “Halloween Food\, Drink\, Kiddos and pets” theme this month. \nVendor applications now closed. \nPlease email register@handmadehongkong.com if you would like to be added to the vendor waitlist. \nHere is the vendor map for our 31st October 2021 DB North market: \n \nSee below for a list of all of the vendors who will be at this market\, please click on the name to reach their website: \nAdkidz\nAitch’s Biltong\nambidexter®\nAnthea’s Face Painting\nBaby House 小叮\nBaking Fairy HK\nBEYOND Tipsy\nBlack Cat Badges\nChoco Boomb HK\nEmily in the wonderland\netcetera Hong Kong\nFelix & Mina\nGreenmont Kids\nHandmade Hong Kong\nHealthy Living\nhellodog\nItalian Coffee Club\nKeikihome\nLike Food Like Gem\nLittle Bushbaby\nM station\nMARILU DOLLS\nMeraki\nMOB daily Marketing and Consultants Limited\nOMJ Premium Homemade Dried Dog Food\nOrganic Shea Mantra\nOwlisssh Kid’s Accessory\nPet Universe HK\nPure Elegance\nSam & Dots Custom Pet Collars\nSeremiti\nSohamna Organics\nSpringbok Wines\nSteps To The Future\nTempehola x Garden Hill\nVanilla Dreams\nVenture Studios\nVetopia Online Store\nVictor & Hugo Gourmet\nWildalp Baby\nYamana Wines\nYASS COOKIES
URL:https://www.handmadehongkong.com/zh/event/discovery-bay-north-market-31st-october-2021/
LOCATION:DB North Plaza\, 92 Siena Avenue\, Discovery Bay\, Hong Kong
CATEGORIES:Discovery Bay North Plaza,Markets
ATTACH;FMTTYPE=image/png:https://www.handmadehongkong.com/wp-content/uploads/2021/08/HalloweenPoster.png
ORGANIZER;CN="Handmade Hong Kong":MAILTO:connect@handmadehongkong.com
END:VEVENT
END:VCALENDAR