BEGIN:VCALENDAR
VERSION:2.0
PRODID:-//Handmade Hong Kong - ECPv6.15.20//NONSGML v1.0//EN
CALSCALE:GREGORIAN
METHOD:PUBLISH
X-WR-CALNAME:Handmade Hong Kong
X-ORIGINAL-URL:https://www.handmadehongkong.com/zh
X-WR-CALDESC:Handmade Hong Kong的活动
REFRESH-INTERVAL;VALUE=DURATION:PT1H
X-Robots-Tag:noindex
X-PUBLISHED-TTL:PT1H
BEGIN:VTIMEZONE
TZID:Asia/Hong_Kong
BEGIN:STANDARD
TZOFFSETFROM:+0800
TZOFFSETTO:+0800
TZNAME:HKT
DTSTART:20240101T000000
END:STANDARD
END:VTIMEZONE
BEGIN:VEVENT
DTSTART;TZID=Asia/Hong_Kong:20250511T110000
DTEND;TZID=Asia/Hong_Kong:20250511T180000
DTSTAMP:20260424T042409
CREATED:20241010T064429Z
LAST-MODIFIED:20251117T085108Z
UID:10713-1746961200-1746986400@www.handmadehongkong.com
SUMMARY:Discovery Bay Mothers Day Market - May 2025
DESCRIPTION:If you would like to join us as a vendor at this market\, please email us on register@handmadehongkong.com for more information. \nThere will be a Discovery Bay Pet-friendly Bus Service available at this market.  For more information click here. \nHere is the vendor map for our 11th May 2025 DB Sunday market: \n \nSee below for a list of all of the vendors who will be at this market\, please click on the name to reach their website: \nAL Limited\nAlchemy Kitchen\nAlisper Limited\nAngel Wong Image\nAnimals Asia Foundation\nArt-Tastic Hobbies Centre Ltd.\nAtelier Dahlia\nAUS Nutrition Development Co. Ltd.\nBabyRockaBow\nBe Mysig\nBlack tortoise Culture Communication Limited\nBleisy Yanguez\nBorgovivo Limited\nCacacard\ncandy.accessories_shop\nCDI.349\nChomade.com\ncornerartstore\nCrazy Gem\nCurio Cubs\nDay day.handmade\nDB BREW BEER\nDwaMucHandMade\nEat-ate-Eaten Trading\nEiza & Grace Crochet\nEreldeyArt\nEW Handmade\nExquisite Handmade\nFuriico\nGabriella 軒轅\nGaia Harvest\nGallery Nail Tip\nGloBilly\nGoosebump\nGreenmont Kids\nGreenpeace\nGrew From Hands\nGroogroo Garden\nHalfday_pulperia\nHandmade Hong Kong\nHappy handmade 1668\nHealthy Living\nhkuenvm_tennisrecycle\nHong Kong Dog Rescue\nHozeus Atelier\nHuggie Garden\nIndeco\nIndie Global\nKalasiddhiart\nKaoru Handmade X Jules Handmade\nLam’s Work 藍家手藝\nLea James Purse Organizers\nLelejewelz\nLeslie lachiche art\nMarakuja\nMuddy Buddies\nMy Little Desk\nMy Mini Croissant\nNeon Athletica\nNiks & Tiks Collection\nNilus henna and products\nnooc candle / JUNE THIRD HANDMADE\nOMJ Premium Homemade Dried Dog Food\nONE SMALL STEP\nOrii By Ekta\nOUD Design Store\nPehnaawa.my\nPigPupHands\nPine Pinecone Studio\nPortuguese Spot\nRecyCo Capsules\nRichard Crosbie Art\nROLLING BOOKS\nrOyGyPsy\nS&S Art\nSanskriti-Art Meets Culture\nSislifetime\nSJC Studio\nSOULRELLE\nSpaceinspace\nSpriggo\nSteak King Holdings Limited\nStitching Fashion\nsugoi Fun Crafts\nTatiana Wool\nTeen’s Key – Young Women development network\nThe Jocosus\nThe Letterbox Company\nTiny Happy Bundles\nTropical charm Co.\nUnited Trends Limited\nVenture Studios\nVetiva\nVictoria’s facepainting\nWalk & Talk®\nwaves of love\nWhisper of heritage studio\nWhispers of wicks\nYoanna Face Painting\nYoga Up
URL:https://www.handmadehongkong.com/zh/event/discovery-bay-mothers-day-market-may-2025/
LOCATION:DB Plaza\, Discovery Bay Plaza\, Discovery Bay Road\, Discovery Bay\, Hong Kong
CATEGORIES:Discovery Bay Main Plaza,Markets
ATTACH;FMTTYPE=image/jpeg:https://www.handmadehongkong.com/wp-content/uploads/2024/10/mother.jpg
ORGANIZER;CN="Handmade Hong Kong":MAILTO:connect@handmadehongkong.com
END:VEVENT
END:VCALENDAR