BEGIN:VCALENDAR
VERSION:2.0
PRODID:-//Handmade Hong Kong - ECPv6.15.20//NONSGML v1.0//EN
CALSCALE:GREGORIAN
METHOD:PUBLISH
X-WR-CALNAME:Handmade Hong Kong
X-ORIGINAL-URL:https://www.handmadehongkong.com/zh
X-WR-CALDESC:Handmade Hong Kong的活动
REFRESH-INTERVAL;VALUE=DURATION:PT1H
X-Robots-Tag:noindex
X-PUBLISHED-TTL:PT1H
BEGIN:VTIMEZONE
TZID:Asia/Hong_Kong
BEGIN:STANDARD
TZOFFSETFROM:+0800
TZOFFSETTO:+0800
TZNAME:HKT
DTSTART:20240101T000000
END:STANDARD
END:VTIMEZONE
BEGIN:VEVENT
DTSTART;TZID=Asia/Hong_Kong:20251109T110000
DTEND;TZID=Asia/Hong_Kong:20251109T180000
DTSTAMP:20260424T042409
CREATED:20241010T065251Z
LAST-MODIFIED:20251106T031413Z
UID:10725-1762686000-1762711200@www.handmadehongkong.com
SUMMARY:Discovery Bay Christmas Market - 9th November 2025
DESCRIPTION:If you would like to join us as a vendor at this market\, please email us on register@handmadehongkong.com for more information. \nHere is the vendor map for our 9th November 2025 DB Christmas market: \n \nSee below for a list of all of the vendors who will be at this market\, please click on the name to reach their website: \n1212\n1001HK Limited\nALVIN C.K. LAM ART\nAmala Bags\namped\nAngel wong image\nart by Anisa Nazz\nASTRAL Workshop x AnniThink.hk\nAtelier Dahlia\nBarista Baba Coffee\nBear printmaking Studio\nBlack Cat Badges\nBLOMSTRE\nBusy Brew\nBy Mamalaterre\ncc.lia; 321 Say Bees\nCheese Club\ncontinental Pollen Screen & Blinds\nCubs&Co\nDolly and Bracelet\nDwaMucHandMade\nEat-ate-Eaten\nfable Craft House\nGaia Harvest\nGLEAM QUEST LIMITED\nGloBilly\nHandmade Hong Kong\nHealthy Living\nHimalayan Children’s Education Fund\nHKPaws Foundation\nImagining Architecture\nindie Global\nIsland Evangelical Community Church Limited\nJass_weirdo\nJoyous Care Company Limited\nKENDIKIDS\nKgari Studio\nKYA EDITIONS\nKZEAL\nLabels Plus\nLatinbazaar\nLelejewelz\nLilly&Co.\nLovemopig\nMarakuja\nMarky & Cho\nMetonceoffate\nMiliMilu Lifestyle and KRSV\nMiramiri Atelier\nMud4\nNeon Athletica\nNilus henna and products\nNothingForSale\nOMJ Premium Homemade Dried Dog Food\nONE SMALL STEP LIMITED\nOUD Design Store\nPASSION FOR PEARLS\nPicturebooktopia\nPishon Handcraft\npurrramic.art\nResin Rebel HK\nRichard Crosbie Art\nRioshine Consulting Limited\nROCK ATOLL\nROLLING BOOKS\nSemi Circle Studio\nshilpa’s masala Mill\nShio & Akari\nSilkandSol\nSolevenir\nSoul Embroidery\nSOULRELLE\nSounds of Hong Kong\nSparkles & Joy x Hiraya Scent & Co.\nSports Lab\nSteak King Holdings Limited\nStudio Chiei Ishida\ntai o Community Cattle Group\nTeam Fear\nThe Flanders Tapestry Collection\nThe Jocosus\nUkrainian Handcrafts\nVARNIKA\nVenture Studios\nVi Galerie\nWAAN萬飾\nWalk & Talk®Dog Leash / DL Handmade Dog Wear\nWing’s Pottery\nWoodbury Revival\nwood carver production company\nYou Go & Glow\n晴軒一線
URL:https://www.handmadehongkong.com/zh/event/discovery-bay-christmas-market-9th-november-2025/
LOCATION:DB Plaza\, Discovery Bay Plaza\, Discovery Bay Road\, Discovery Bay\, Hong Kong
CATEGORIES:Discovery Bay Main Plaza,Markets
ATTACH;FMTTYPE=image/jpeg:https://www.handmadehongkong.com/wp-content/uploads/2024/10/2025_Christmas_KV_B-scaled.jpg
ORGANIZER;CN="Handmade Hong Kong":MAILTO:connect@handmadehongkong.com
END:VEVENT
END:VCALENDAR