BEGIN:VCALENDAR
VERSION:2.0
PRODID:-//Handmade Hong Kong - ECPv6.15.20//NONSGML v1.0//EN
CALSCALE:GREGORIAN
METHOD:PUBLISH
X-WR-CALNAME:Handmade Hong Kong
X-ORIGINAL-URL:https://www.handmadehongkong.com/zh
X-WR-CALDESC:Handmade Hong Kong的活动
REFRESH-INTERVAL;VALUE=DURATION:PT1H
X-Robots-Tag:noindex
X-PUBLISHED-TTL:PT1H
BEGIN:VTIMEZONE
TZID:Asia/Hong_Kong
BEGIN:STANDARD
TZOFFSETFROM:+0800
TZOFFSETTO:+0800
TZNAME:HKT
DTSTART:20240101T000000
END:STANDARD
END:VTIMEZONE
BEGIN:VEVENT
DTSTART;TZID=Asia/Hong_Kong:20251123T110000
DTEND;TZID=Asia/Hong_Kong:20251123T180000
DTSTAMP:20260424T042419
CREATED:20241010T065412Z
LAST-MODIFIED:20251121T061806Z
UID:10727-1763895600-1763920800@www.handmadehongkong.com
SUMMARY:Discovery Bay Christmas Market - 23rd November 2025
DESCRIPTION:If you would like to join us as a vendor at this market\, please email us on register@handmadehongkong.com for more information. \nThere will be an international beach tennis competition in DB on the same day as our market. You can see more details here. \nHere is the vendor map for our 23rd November 2025 DB Christmas market: \n \nSee below for a list of all of the vendors who will be at this market\, please click on the name to reach their website: \n852 & Beyond\nAbhaya Arensma\nADA\nAdaxCraft\nALVIN C.K. LAM ART\nArt By Anisa Nazz\nAs April Accessories\nAtelier Dahlia\nAviationtag by New Bond\nBahini\nBarista Baba Coffee\nBella Umbrella\nBlack Cat Badges\nBlessVision\nBLOMSTRE\nbluyonda / Picture Finders\nBOUDICA\nBrighten-Mall\nBy Mamalaterre\ncc.lia\nCheeky designs\nCheese From Far\nCœur de beurre\nContinental Pollen Screen & Blinds\nCrafty kin\nDASK LEATHERCRAFT\nDB labubus\nDBBREWBEER\nDear Lace Day\nDolly and Bracelet\nDorsia Decor\nDreamy Belle\nEat-ate-Eaten Trading\nEleven Meow\nEllen Makes Paper\nEssencial moments\nFable Craft House\nFankaar Living\nGabriella 軒轅 Bespoke Fashion\nGaia Harvest\nGERMAIN\nGift set\nGoosebump\nGreenmont Kids\nGwen Coco Art\nHanamori\nHandmade Hong Kong\nHealthy Living\nHear.dreamii\nHelende Art\nhippiefart’s trinkets\nHKPaws\nHuggie Garden\nhw2 creations\niammassageholic\nIce of Jadeite\nIndie Global\nIngredients of wellness and Christian Action CFR\nIsland ECC\nJane’s corner\nJen Monili + Esme Parish Silver\nKaleido Perfume\nKgari Studio\nKiukiSweetBakery\nKORA\nLa lune Jewelry\nlabel plus\nLEA JAMES PURSE ORGANIZERS\nLeaffy\nLelejewelz\nLilly&Co.\nLimonade Candles\nLittle Jane\nLIVO\nLovesewmami 純樂坊\nLumiland0\nMahikasLabel\nMake and do HK\nMarakuja\nMichelle Brits Atelier\nMiss V Crochet House\nMore Tea Hong Kong\nMotherNatureCraft\nNeon Athletica\nNilus henna and products\nNutri Nibbles\nOMJ Premium Homemade Dried Dog Food\nOther Rose\nOUD Design Store\nP JEWELRY\nPapertecture\nPauline Yau ‘Hand Made With Love’\nPehnaawa.my\nPersian Carpets and Crafts\nPicket Fence Cake Design\nPTJ STUDIO\nQS Creations\nRenatus Limited Glass with a Second Glow\nResin Rebel HK\nRIHLA\nROCK ATOLL\nROLLING BOOKS\nRood Organics\nsolarmoon.candle\nSoul Art Shop\nSOULRELLE\nSpaceinspace\nSparkles & Joy x Hiraya Scent & Co\nSports Lab\nSTEAK KING HOLDINGS LIMITED\nstitch sister\nStrap’d\nStudio E\nStudio Mil\nSweet Secrets cakes\nTai O Community cattle Group\nTAILS LANTAU\nTerLing Creations\nThe Box Candles HK / Quarter plates ltd\nThe Flanders Tapestry Collection\nThe Jocosus\nThe Letterbox Company\nThe Snowflakes Factory\nTiny Happy Bundles\nUkrainian Handcrafts\nVanilla Dreams\nVi Galerie\nWalk & Talk®Dog Leash / DL handmade Dog wear\nWays Out hong Kong\nwood carver production company\nWoodbury Revival\nZammo’s by Glory Dough Bakery\n淳然水晶Sparkle\n雙手創 handtohand
URL:https://www.handmadehongkong.com/zh/event/discovery-bay-christmas-market-23rd-november-2025/
LOCATION:DB Plaza\, Discovery Bay Plaza\, Discovery Bay Road\, Discovery Bay\, Hong Kong
CATEGORIES:Discovery Bay Main Plaza,Markets
ATTACH;FMTTYPE=image/jpeg:https://www.handmadehongkong.com/wp-content/uploads/2023/12/Handmade-HK-60-41.jpg
ORGANIZER;CN="Handmade Hong Kong":MAILTO:connect@handmadehongkong.com
END:VEVENT
END:VCALENDAR