BEGIN:VCALENDAR
VERSION:2.0
PRODID:-//Handmade Hong Kong - ECPv6.15.20//NONSGML v1.0//EN
CALSCALE:GREGORIAN
METHOD:PUBLISH
X-WR-CALNAME:Handmade Hong Kong
X-ORIGINAL-URL:https://www.handmadehongkong.com/zh
X-WR-CALDESC:Handmade Hong Kong的活动
REFRESH-INTERVAL;VALUE=DURATION:PT1H
X-Robots-Tag:noindex
X-PUBLISHED-TTL:PT1H
BEGIN:VTIMEZONE
TZID:Asia/Hong_Kong
BEGIN:STANDARD
TZOFFSETFROM:+0800
TZOFFSETTO:+0800
TZNAME:HKT
DTSTART:20200101T000000
END:STANDARD
END:VTIMEZONE
BEGIN:VEVENT
DTSTART;TZID=Asia/Hong_Kong:20211219T110000
DTEND;TZID=Asia/Hong_Kong:20211219T180000
DTSTAMP:20260424T021416
CREATED:20211008T030207Z
LAST-MODIFIED:20211217T012419Z
UID:5911-1639911600-1639936800@www.handmadehongkong.com
SUMMARY:Discovery Bay Christmas Market - 19th December 2021
DESCRIPTION:Vendor applications now closed. \nPlease email register@handmadehongkong.com if you would like to be added to the vendor waitlist. \nHere is the vendor map for our 19th December 2021 DB market: \n \nSee below for a list of all of the vendors who will be at this market\, please click on the name to reach their website: \n2NU Sunglasses\n30 Degrees South\n345 Well-Being\n8parkle\nAdkidz\nAitch’s Biltong\nAlvin c.k. Lam Art + On The Wagon Kombucha\nankyra home\nAnnita Crochet\nART BY MISBAH\nArts Cowork\nAscent Style\nBaby House 小叮\nbamBOO\nBamPads!\nBig Bang Incorporation Limited\nBiltong Chief\nBlack Cat Badges\nBlaze Beer Club\nBodhisattva\nBook Wise and Sundara Collections\nBowtasia\nCa Lisa Jewellery\nCandela\nCandle Up\nCape Cork\nCards by Charito\nCarr_design\nChatteriz\nChromatic Fashion & Jewellery\nCircle Tape\nClocks & Socks\nClods of earth\nCoconut and What\nCoho Phone Case\nConceptu Home\nCopperstone Jewellery\nCouleur Aube – Marion\nCrane and Deer\nCrystal Magic\nDB Party Time\nDomus Home\nDougal’s Minerals & Crystals\nEdith Art & Jewellery\nEM Soy Candles and Scents\nenid.scents\netcetera Hong Kong\nEtheel\nEtterfly\nEvil Twin\nEye Market\nFIGURA\nFour Grams Cookies\nGina Maldonado + Hanamade\nGlow naturally Glow\nHana by Yuzuki Murakami\nHanabi Workshop 花火工房\nHandmade by Hatten\nHandmade Hong Kong\nHealthy Living\nHEINGA & KARMACRAME\nHinitann Coffee & Cocoa Plantation\nHK copper brass\nHong Kong CBD\nHong Kong Shark Foundation\nHortense Bender\nhw2 creations\nHydeland\nIndica\nIra Creation & Co\nItalian Coffee Club HK\nItalian Foodie Corner\nItyaadi Home\nJakpotcbdhk\nJAMILA JEWELRY\nKaiJai\nKakibubu Media Limited\nKIBO\nKizuna Roaster & Co.\nLa Oria\nLammaste\nLaurence Lai Gallery\nLekker Laa Ltd\nLilie Sai Wan\nLilly&Co.\nLimonade\nLittlemoliu\nLittle Bushbaby\nM station\nMad Jelly\nMade in Peru\nMamus Handmade\, Panda Yoga Care\, Bamboo True\nMarilu Dolls\nMax and Mei\nMayse Artisan Bakery\nMommy’s Bag\nMore Tea Hong Kong\nmother nature craft\nMy beloved crafts\nNoms of the day\nNot only olives\nOMJ Premium Homemade Dried Dog Food\none piece making\nOrii by Ekta\nPaper-Roses\nPark Bäckerei\nPersian Carpets and Crafts\nPet Universe HK\nPetit Chat Noir\nPinyin Press\nPlayful Socks\nPOSS\nPristine by Monique\nPure Elegance\nQICHA\nR M C Design\nRebounce CBD\nRmootee’s Handpainted T-shirts\nROCK ATOLL\nrOyGyPsy\nSema Shop\nShellvio\nShilpa’s Masala Mill\nSlofloe\nSolidayz Hats & Scarves\nSpringbok Wines\nSteps To The Future + Deror Jewelry\nStyle Standard\nThe Basic Workshop\nThe Candleman HK\nThe Flanders Tapestry Collection\nThe Nature Conservancy\nTiny Island\nVan Brauge Watch Company\nVan Scents Handicraft\nVanilla Dreams\nVenture Studios\nVictor & Hugo Gourmet\nVIPOP – Handcrafted Fashion\nW’s Candle Studio\nWaiSikSup x DigitTheLab Treats x Sew a Gift\nWarmly Yours Co\nWASAI H&N\nWay.b Florist\nYASS COOKIES\nyellow pear co.\nYippee Goodies\nZASHA Handmade Designer Jewellry\nZoko Jewelry\n然本澗   ESSENTIAL NATURE
URL:https://www.handmadehongkong.com/zh/event/discovery-bay-christmas-market-19th-december-2021/
LOCATION:DB Plaza\, Discovery Bay Plaza\, Discovery Bay Road\, Discovery Bay\, Hong Kong
CATEGORIES:Discovery Bay Main Plaza,Markets
ATTACH;FMTTYPE=image/jpeg:https://www.handmadehongkong.com/wp-content/uploads/2021/10/WhatsApp-Image-2021-11-21-at-10.02.34-PM-1.jpeg
ORGANIZER;CN="Handmade Hong Kong":MAILTO:connect@handmadehongkong.com
END:VEVENT
END:VCALENDAR