BEGIN:VCALENDAR
VERSION:2.0
PRODID:-//Handmade Hong Kong - ECPv6.15.20//NONSGML v1.0//EN
CALSCALE:GREGORIAN
METHOD:PUBLISH
X-WR-CALNAME:Handmade Hong Kong
X-ORIGINAL-URL:https://www.handmadehongkong.com
X-WR-CALDESC:Events for Handmade Hong Kong
REFRESH-INTERVAL;VALUE=DURATION:PT1H
X-Robots-Tag:noindex
X-PUBLISHED-TTL:PT1H
BEGIN:VTIMEZONE
TZID:Asia/Hong_Kong
BEGIN:STANDARD
TZOFFSETFROM:+0800
TZOFFSETTO:+0800
TZNAME:HKT
DTSTART:20230101T000000
END:STANDARD
END:VTIMEZONE
BEGIN:VEVENT
DTSTART;TZID=Asia/Hong_Kong:20241101T180000
DTEND;TZID=Asia/Hong_Kong:20241103T230000
DTSTAMP:20260424T232955
CREATED:20241005T010746Z
LAST-MODIFIED:20241029T235838Z
UID:10687-1730484000-1730674800@www.handmadehongkong.com
SUMMARY:Handmade Hong Kong at WestK PopFest 2024
DESCRIPTION:Handmade Hong Kong will be at the HKT x WESTK POPFEST November 1-3! \nThe HKT x WESTK POPFEST returns with a spectacular line up of ticketed and free music performances\, dance showcases\, multisensory experiences and arts events by local and international acts. With an expected footfall of over 80\,000\, this festival is sure to be an incredible event to showcase indie crafters in Hong Kong! \nThe market will be located at ArtPark\, the publicly accessible area of the festival. \nMore information about the HKT x WESTK POPFEST can be found here. \nMarket days and times are: \nFriday\, November 1st : 18:00 – 23:00 \nSaturday & Sunday\, Nov. 2nd & 3rd : 14:00 – 23:00 \n  \nIf you would like to join us as a vendor at this market\, please email us on register@handmadehongkong.com for more information. \nHere is the vendor map for our PopFest 2024 Market: \n \nSee below for a list of all of the vendors who will be at this market\, please click on the name to reach their website: \n2weeks_tatt2 and Soo’s doodle\nAmreen Jewellery\nAngel wong Image\nAnka Style\nBlessed Tree 幸之桐\nCitiScent\nDorsia Décor\nEuropa Jewels\nFrancan\nFriends Valley Handmade Accessories 朋友谷 手作飾品店\nHandmade Hong Kong\nHK RECORDING STUDIO\nLola Clavel Atelier\nMADEGREY\nMeow Meow Vintage\nNick Gleitzman photographs\nTHE BLOMSTRE\nThe Scentist Hong Kong\nWoodbury Revival\nWood Watch HK 木表\nWREADY
URL:https://www.handmadehongkong.com/event/handmade-hong-kong-at-westk-popfest-2024/
LOCATION:West Kowloon Cultural District\, West Kowloon Cultural District\, Hong Kong
CATEGORIES:Markets,WestK PopFest
ATTACH;FMTTYPE=image/jpeg:https://www.handmadehongkong.com/wp-content/uploads/2024/10/HmHK_WestK_Pop2-scaled.jpg
ORGANIZER;CN="Handmade Hong Kong":MAILTO:connect@handmadehongkong.com
END:VEVENT
BEGIN:VEVENT
DTSTART;TZID=Asia/Hong_Kong:20241110T110000
DTEND;TZID=Asia/Hong_Kong:20241110T180000
DTSTAMP:20260424T232955
CREATED:20230915T061950Z
LAST-MODIFIED:20241107T125233Z
UID:9825-1731236400-1731261600@www.handmadehongkong.com
SUMMARY:Discovery Bay Christmas Market - 10th November 2024
DESCRIPTION:If you would like to join us as a vendor at this market\, please email us on register@handmadehongkong.com for more information. \nHere is the vendor map for our 10th November 2024 DB Christmas market: \n \nSee below for a list of all of the vendors who will be at this market\, please click on the name to reach their website: \n3030thirtythirty\n852 & Beyond\n8Letters Bookstore & Publishing\nAlvin C.K. Lam Art\nAmazing House\nAmreen Jewellery\nAnimals Asia Foundation\nAnka Style\nAntonia Y. Jewelry\nArtisticroom by yucca\nBakingjades \, walk n talk\nBeam Bold\nBesonderheit.\nBlack Cat Badges\nbloom & brew\nBombol\nBoudica\nBy Mamalaterre\nC Shop\nCandle Up + Mahika’sLabel\nChristina’s Thread Flower\nCoast To Coast\ncrafty kin\nCryst_floral by ppkhoo\nDBICC\nDonut Handmadehk\nDorsia Decor\nDwaMucHandMade\nEat-ate-Eaten Trading\nEITAN / RIKI\nElixir By S. K\nEmi’s Art Soul 流體畫藝術\nETTERFLY\nFlora Gift\nFlower Gala\nFollow my charm\nFrom_thewine cellar\nglacier Jewellery\nGloBilly\nGreenmont Kids\nHandmade Hong Kong\nHealthy Living\nHelium watches\nHiraya Scent & Co. x Sparkles & Joy\nIn Good Mood\nIndie Global\nIndigo Shima (Josianne ROBB)\nInstaMagnet\nJanice Handcraft\nJoni Handmade\nlABELS pLUS\nLaurence Lai Gallery\nLelejewelz\nLilly&Co.\nLimonade Candles\nLisatan Pearls\nmad Jelly Chilli\nMake and Do HK\nMandala\nMariusetIndia\nMarky & Cho\nMerry Makers\nMooZ300\nMore Tea Hong Kong\nNeon Athletica\nNila & Tiks Collection\nOMJ Premium Homemade Dried Dog Food\nOUD Design store\nPASSION FOR PEARLS\nPAU PAU accessories\nPehnaawa\nPersian Carpets and Crafts\nPortuguese Spot\nResin Rebel HK\nRichard Crosbie Art\nROLLING BOOKS\nRosie Posie\nRudy’s kombucha / Mayse Artisan Bakery\nSchmick Jewellery\nsolevenir\nSOULRELLE\nSpriggo\nT.G.I.F. – Turn_Girl_Into_Favulous\nTat’s Socking Dolls\nThe Belgian Club\nThe Crystaling\nThe Flanders Tapestry Collection\nThe Quiet Place Art\nThe Sparkraft\nTiny Happy Bundles\nTiny Island\nTokajicum\nTRUE NEPAL\nTuft Times\nTwinkle Kiss Jewellery\nVi Galerie\nVictoria’s facepainting\nWoodbury Revival
URL:https://www.handmadehongkong.com/event/discovery-bay-christmas-market-10th-november-2024/
LOCATION:DB Plaza\, Discovery Bay Plaza\, Discovery Bay Road\, Discovery Bay\, Hong Kong
CATEGORIES:Discovery Bay Main Plaza,Markets
ATTACH;FMTTYPE=image/jpeg:https://www.handmadehongkong.com/wp-content/uploads/2023/09/HmHK-DB-XMAS-2024-1000-x-1000DB.jpg
ORGANIZER;CN="Handmade Hong Kong":MAILTO:connect@handmadehongkong.com
END:VEVENT
BEGIN:VEVENT
DTSTART;TZID=Asia/Hong_Kong:20241124T110000
DTEND;TZID=Asia/Hong_Kong:20241124T180000
DTSTAMP:20260424T232955
CREATED:20230915T062117Z
LAST-MODIFIED:20241119T060925Z
UID:9827-1732446000-1732471200@www.handmadehongkong.com
SUMMARY:Discovery Bay Christmas Market - 24th November 2024
DESCRIPTION:If you would like to join us as a vendor at this market\, please email us on register@handmadehongkong.com for more information. \nHere is the vendor map for our 24th November 2024 DB Christmas market: \n \nSee below for a list of all of the vendors who will be at this market\, please click on the name to reach their website: \n3030thirty / SPARKraft\n852 & Beyond\nA-MORE collection\nAlice Randell\nAlisper\nAlvin c.k. Lam Art + On The Wagon Kombucha\nAmazing Perfume & Just Elegant\nAmreen Jewellery\nANGEL WONG IMAGE\nAnna Smith Pottery\nAntonia Y. Jewelry\nArtisticroom_by_yucca\nBakedClay\nBamboo\nBarista Baba Coffee\nbesonderheit.\nBIG BANG INCORPORATION LIMITED\nBlack Cat Badges\nBlokkie.HK\nBLOMSTRE x ZARE\nBloom & Brew\nBlooms Forever\nbluyonda / Picture Finders\nBoho Mix\nBorgovivo Ltd\nBoudica\nBreathe Atelier\nBy Mamalaterre\nCandle Up\ncare3.beautyskin\nceramicstall + Miss Abby\nCoast To Coast\nCoco Komfy\nCollective Hysteria\nCookie Smiles\nCristina vinhas\nDASK LEATHERCRAFT\ndBBREWBEER\ndBICC\nDear lace day\nDELIGHT MOMENTS\nDonut handmadehk\nDorsia Decor\nDreamcore\nDwaMucHandMade\nDWD art\nEat-ate-Eaten Trading\nElixir By S.K\nFREE SPIRIT OILS\nGenie An Artisan Candle\nGinsanity\nGloBilly\nGlory Dough Bakery\nGoosebump\nGreenmont Kids\nHandmade by Hatten\nHandmade Hong Kong\nHealthy Living\nHelium Watches\nHiraya Scent & Co. X Sparkles & Joy\nHK Trails\nHOU LIVING\nhw2 creations\nIndeco\nIndie Global\nInner Bliss Designs\nJoyful Man’s Florist\nKasido.Hk\nKora\nLables Plus\nLaurence Lai Gallery\nLe Jade Garden\nLea James Purse Organizers\nLelejewelz\nLilly&Co.\nLok Wah Hong\nLyllon Bath & Body Care\nMacraftastic\nMahika’sLabel\nMake and Do HK\nMore Tea Hong Kong\nMotherNatureCraft and  BOXCANDLEHK\nMyCelestial\nNaked soap\nNAME ONE HK\nNeon Athletica\nNiks & Tiks Collection\nOfee\nOMJ Premium Homemade Dried Dog Food\nOpenSlap\nOUD Design Store\nP Jewelry\nPASSION FOR PEARLS\nPAU PAU accessories\nPehnaawa.my\nPlantkiller jewelry\nPlayful socks\nPortuguese Spot\nResin Rebel HK\nRitata Co\nROLLERCOASTER\nROYGYPSY\nSolevenir\nSOULRELLE\nSuestainableshop\nTanzsí\nThe Blossom Daisies\nThe Clean Essentials\nThe Letterbox Company\nThe Snowflakes Factory\nThe Vintage Collective\nThee Sweet Little Things\nTiARA Cosmetics\nTranquility & Unveil\nTwinkle Kiss Jewellery\nUA Handcrafts Shop\nUnisaif Hong Kong\nVenture Studios\nVi Galerie\nVictoria’s facepainting\nVivian’s Stitches\nWAYS OUT HONG KONG\nWoodbury Revival\nyellow pear co.
URL:https://www.handmadehongkong.com/event/discovery-bay-christmas-market-24th-november-2024/
LOCATION:DB Plaza\, Discovery Bay Plaza\, Discovery Bay Road\, Discovery Bay\, Hong Kong
CATEGORIES:Discovery Bay Main Plaza,Markets
ATTACH;FMTTYPE=image/jpeg:https://www.handmadehongkong.com/wp-content/uploads/2023/09/Christmas-2.jpg
ORGANIZER;CN="Handmade Hong Kong":MAILTO:connect@handmadehongkong.com
END:VEVENT
END:VCALENDAR