BEGIN:VCALENDAR
VERSION:2.0
PRODID:-//Handmade Hong Kong - ECPv6.15.20//NONSGML v1.0//EN
CALSCALE:GREGORIAN
METHOD:PUBLISH
X-WR-CALNAME:Handmade Hong Kong
X-ORIGINAL-URL:https://www.handmadehongkong.com
X-WR-CALDESC:Events for Handmade Hong Kong
REFRESH-INTERVAL;VALUE=DURATION:PT1H
X-Robots-Tag:noindex
X-PUBLISHED-TTL:PT1H
BEGIN:VTIMEZONE
TZID:Asia/Hong_Kong
BEGIN:STANDARD
TZOFFSETFROM:+0800
TZOFFSETTO:+0800
TZNAME:HKT
DTSTART:20230101T000000
END:STANDARD
END:VTIMEZONE
BEGIN:VEVENT
DTSTART;TZID=Asia/Hong_Kong:20240407T110000
DTEND;TZID=Asia/Hong_Kong:20240407T180000
DTSTAMP:20260425T094441
CREATED:20240228T024123Z
LAST-MODIFIED:20240406T131720Z
UID:10325-1712487600-1712512800@www.handmadehongkong.com
SUMMARY:The Repulse Bay Handmade Hong Kong Market - April 2024
DESCRIPTION:We are very happy to host a spring market at The Repulse Bay on April 7\, 2024 \nYou can see more information regarding The Repulse Bay venue here. \nPlease join us! \nIf you would like to join us as a vendor at this market\, please email us on register@handmadehongkong.com for more information. \nHere is the vendor map for our 7th April 2024 The Repulse Bay Spring market: \n \nSee below for a list of all of the vendors who will be at this market\, please click on the name to reach their website: \n2weeks_tatt2\nAerial Activewear\nASTER X\nAviationtag by New Bond + Coffee ~ Lab Hood\nBarry Ong\nBastyle\nBelyov Pastila\nBig Bang Incorporation Limited\nBuster Barks\nCoast To Coast\nCommon Lotus x Iris Gioelli\nCookie Smiles\nCYEOYM\nDAFU\nDASK Leathercraft\nENOTECA ITALIANA LTD\nETTERFLY\nExclusive J\nGloBilly\nGreenmont Kids\nHandmade Hong Kong\nHealthy Living\nHiraya Scent & Co.\nHK RECORDING STUDIO\nIsaliyana Ltd\nJulie Penn Botanicals\nLabels of Spain\nLight Our Way\nLimonade Candles\nNiks & Tiks Collection\nnoonbreak\nOH LA LA\nOMJ Premium Homemade Dried Dog Food\nOzzie Bakes\nPepper & Mint\nPottale pottery\nRestyle by lynn\nShilpa’s Masala Mill\nSparkle & Shine\nTaijitu Healing\nThe Bark and the Bite HK\nThe Furry Project\nTHE G.O.A.T. Lifestyle\nVenture Studios\nWicked Candles and scents
URL:https://www.handmadehongkong.com/event/the-repulse-bay-handmade-hong-kong-market-april-2024/
LOCATION:The Repulse Bay\, The Repulse Bay\, 109 Repulse Bay Road\, Hong Kong
CATEGORIES:Markets,The Repulse Bay
ATTACH;FMTTYPE=image/jpeg:https://www.handmadehongkong.com/wp-content/uploads/2024/02/HmHK-Repulse-Bay-Spring-2024.jpg
ORGANIZER;CN="Handmade Hong Kong":MAILTO:connect@handmadehongkong.com
END:VEVENT
BEGIN:VEVENT
DTSTART;TZID=Asia/Hong_Kong:20240414T110000
DTEND;TZID=Asia/Hong_Kong:20240414T180000
DTSTAMP:20260425T094441
CREATED:20230915T060953Z
LAST-MODIFIED:20240412T050829Z
UID:9813-1713092400-1713117600@www.handmadehongkong.com
SUMMARY:Discovery Bay Sunday Market - April 2024
DESCRIPTION:If you would like to join us as a vendor at this market\, please email us on register@handmadehongkong.com for more information. \nHere is the vendor map for our April 2024 DB Sunday market: \n \nSee below for a list of all of the vendors who will be at this market\, please click on the name to reach their website: \n2weeks_tatt2\nAITCH’s BILTONG\nAlchemy Kitchen\nanetik\nangelwongimage\nAnka Style\nAnna Od Accessories\nArt by Puiga\nBelyov Pastila\nBesonderheit. Kids Clothing\nBombol Limited\nBorgovivo Limited\nCarlo Yuen\nCoast To Coast Ltd\nCocotivity\nCommonLotus x Iris Gioielli\nCOOK4U\nDASK Leathercraft\nDeen Deen Dei\nDesigual\nDimples.hk\nDorsia Decor\nDwaMucHandMade\nElohim Creation\nENOTECA ITALIANA LTD\nEphebos\nFrom_thewinecellar\nGloBilly\nGoosebump\nGreenmont Kids\nHandmade Hong Kong\nHanuman charity\nHealthy Living\nHEINGA & Micmicfan\nHiraya Scent & Co.\nHRON COFFEE\nIndie Global\nInking with you\nIrrational Accessories\nIsaliyana Ltd.\nKaiJai\nKitKit siu lamlam\nKolobri\nKRSV\nlabels of spain\nLaurence Lai Gallery\nLelejewelz\nLergo The Label\nLes Francaises Espadrilles\nLilly&Co.\nLittle Island Learning\nMICHEL DE PARIS\nMilan Clothing\nMini.Mimmmy & Ck_heartwork\nmonth ceramic\nNAVYGATED\nNiks & Tiks Collection\nNOONBREAK\nOld HK Lights\nOMJ Premium Homemade Dried Dog Food\nOSELIA.DECOR\nOZZIE COZZIE\nPharaw\nQi kombucha\nRichard Crosbie Art\nrOyGyPsy\nSeabee Gift Shop\nSchmick\nSOULRELLE\nT.G.I.F x The G.O.A.T Lifestyle\nTaijitu Healing\nTanukiya\nThai Thai Hut\nThat Green Cuisine\nThe Candleman Hk\nTiny Happy Bundles\nTiny Island\nTokajicum\nVenture Studios\nVictoria’s facepainting\nWASAI H&N\nWREADY\nY’s handmade soap\nYTJ FASHION JEWELLERY\n土也•pottale•1handclay•take1breath•asitis\n茶友仨
URL:https://www.handmadehongkong.com/event/discovery-bay-sunday-market-april-2024/
LOCATION:DB Plaza\, Discovery Bay Plaza\, Discovery Bay Road\, Discovery Bay\, Hong Kong
CATEGORIES:Discovery Bay Main Plaza,Markets
ATTACH;FMTTYPE=image/jpeg:https://www.handmadehongkong.com/wp-content/uploads/2023/09/Handmade-HK-60-12.jpg
ORGANIZER;CN="Handmade Hong Kong":MAILTO:connect@handmadehongkong.com
END:VEVENT
BEGIN:VEVENT
DTSTART;TZID=Asia/Hong_Kong:20240427T110000
DTEND;TZID=Asia/Hong_Kong:20240427T180000
DTSTAMP:20260425T094441
CREATED:20240321T004055Z
LAST-MODIFIED:20240426T103129Z
UID:10364-1714215600-1714240800@www.handmadehongkong.com
SUMMARY:Handmade Hong Kong at K-Farm
DESCRIPTION:With great joy we are pleased to announce a new Handmade Hong Kong Market at K-Farm! Situated alongside the Belcher Bay Promenade in Kennedy Town\, our market will take place from 11am – 6pm at the K-Plaza amidst the fantastic K-Farm gardens. \nWe look forward to seeing you there! \nLocation:\nK-Farm\nK-Plaza\nBelcher Bay Promenade\nKennedy Town \n27 April 2024 \n11:00am – 6:00pm \nMore about K-Farm here \nIf you would like to join us as a vendor at this market\, please email us on register@handmadehongkong.com for more information. \nHere is the vendor map for our April 2024 K-Farm Market: \n \nSee below for a list of all of the vendors who will be at this market\, please click on the name to reach their website: \n1001HK Limited\n2weeks_tatt2\nAdorn Creations\nAlini Bini\nAlvin c.k. Lam Art & On The Wagon Kombucha\nAmygdala Zen\nAudrey and olly\nAyna\nBeo Woodwork\nCacao\nCAIR Fragrances\nCandle Up\nCiao Vita 草花頭\nCoast To Coast Group Ltd.\nCommonLotus X Iris Gioielli\nCYEOYM\nDASK Leathercraft\nDrovers Thirst\ngGArtkalaa\ngina maldonado\nGloBilly\nGolden Age 黃金歲月\nGoosebump\nGrabNat\ngreenmont Kids\nGutsy\nHandmade Hong Kong\nHealthy Living\nHK Paws Foundation\nLelejewelz\nLieb\nM & Co.\nMahika’sLabel\nMet Once Of Fate\nMini DaVinci HK\nMiramiri Atelier\nMS accessories\nNiang Niang\nOfee\nPaper-Roses\nPâtisserie Les Amis\nPBWoodenware\nPepper & Mint\nPristine Kidz\nRichard Crosbie Art\nSanskriti\nSkinotes\nSoule Socks\nSparkle and Shine\nSteps To The Future\nTanukiya\nTea said\ntobe.crafting\nTOJI JOJO\nWoodbury Revival\nXyza Ethical Fashion \n 
URL:https://www.handmadehongkong.com/event/handmade-hong-kong-at-k-farm/
LOCATION:K-Farm\, 3 Shing Sai Road\, Hong Kong
CATEGORIES:K-Farm,Markets
ATTACH;FMTTYPE=image/jpeg:https://www.handmadehongkong.com/wp-content/uploads/2024/03/KFarm-IG-Square.jpg
ORGANIZER;CN="Handmade Hong Kong":MAILTO:connect@handmadehongkong.com
END:VEVENT
END:VCALENDAR