BEGIN:VCALENDAR
VERSION:2.0
PRODID:-//Handmade Hong Kong - ECPv6.15.20//NONSGML v1.0//EN
CALSCALE:GREGORIAN
METHOD:PUBLISH
X-WR-CALNAME:Handmade Hong Kong
X-ORIGINAL-URL:https://www.handmadehongkong.com
X-WR-CALDESC:Events for Handmade Hong Kong
REFRESH-INTERVAL;VALUE=DURATION:PT1H
X-Robots-Tag:noindex
X-PUBLISHED-TTL:PT1H
BEGIN:VTIMEZONE
TZID:Asia/Hong_Kong
BEGIN:STANDARD
TZOFFSETFROM:+0800
TZOFFSETTO:+0800
TZNAME:HKT
DTSTART:20220101T000000
END:STANDARD
END:VTIMEZONE
BEGIN:VEVENT
DTSTART;TZID=Asia/Hong_Kong:20231112T110000
DTEND;TZID=Asia/Hong_Kong:20231112T180000
DTSTAMP:20260425T185010
CREATED:20221014T102719Z
LAST-MODIFIED:20231111T033959Z
UID:8582-1699786800-1699812000@www.handmadehongkong.com
SUMMARY:Discovery Bay Christmas Market – 12th November 2023
DESCRIPTION:If you would like to join us as a vendor at this market\, please email us on register@handmadehongkong.com for more information. \nHere is the vendor map for our 12th November 2023 DB Christmas market: \n \nSee below for a list of all of the vendors who will be at this market\, please click on the name to reach their website: \n2nu sunglasses\n6 Scents\nA-MORE collection\nAbout aether\nachi Acho Design\nAitch’s BILTONG\nAlice Randell\nAlvin c.k. Lam Art + On The Wagon Kombucha\nAmesbijoux\nANKA TASTE\nAnkyra Home\nASHNI\nAtelier Soemi x Teacher Ham\nAussie Pet\nB’\nBee Australian HK\nBeo Woodwork\nBesonderheit. Kids Clothing\nbetelbird\nbig Bang Incorporation Limited\nBlack cat Badges\nBositos\nBoyii International (Hong Kong) Limited\nBubbles&Spells\nBuster Barks\nBy Mamalaterre\nCandle Up\nCAPTAIN RYAN × CUCKOO’S NEST × LOST AND FIND\nCARY Regimen\nCASPAR HOUSE\nChromatic Apparel & Jewellery\nCitiScent\nCopperstone Jewellery\nCotton Pigs/Blomstre\nCRAFTY BITCH\nCulottee\nDASK Leathercraft\nDee Gogh\nDMS fundraiser\nDorsia.decor\nDots.hk\nDwaMucHandMade\nellen makes paper\nETTERFLY\nEye Market\nFa Fashion Project Ltd\nFashion Christmas\nFluffy Terry\nGloBilly\nGlory Dough Bakery\nGoosebump\nGRAN.HK\nHabitat for Humanity Hong Kong\nHandmade Hong Kong\nHealthy Living\nHiraya Scent & Co.\nHw2 creations\nInfincotton\nIsa-Bella-C\nJen.W Florist\nJennifer pollock\nJessie\nKapuhala Space Ltd\nKhajane\nKiri x cocoxells\nKnots of Love HK\nKRSV\nLaurence Lai Gallery\nLelejewelz\nlieb\nLilly&Co.\nLimonade Candles\nLittle Island Learning\nLittlemoliu\nLiving852\nLoganmami Handmaking\nLucie Locket\nMacraftastic\nMade in Peru\nMade With Kind\nMake and Do HK\nMalt Uncle\nMarky & Cho\nMiramiri Atelier\nMoon With Star\nMOS ART\nNick Gleitzman photographs\nNo Less Créateur\nNOURISH SCRUBS\nnoworryshop\nOliver’s Closet\nOMJ Premium Homemade Dried Dog Food\nOTINCLE COMPANY LIMITED\nOZZIE COZZIE\nP jewelry\nPaper-Roses\nPassion For Pearls\nPBWoodenware\nPeptalk Papers\nPersian Carpets and Crafts\nPlayful Socks\nPOPKOI\nPTJ STUDIO\nPursuit of Chappyness\nrelovetransport co.\nRichard Crosbie Art\nRoche Contemporary\nROCK ATOLL\nRollercoaster\nScribble & Scrawl\nSeabee Gift Shop\nSmall Good Coffee & Baked Goods\nSo Lindo Pets\nSolidayz Hats & Scarves\nSoo’s Doodle\nSOULRELLE\nSwedish’s Handmade Bodycare\nSY gift shop\nThe Candleman Hk\nThe Clean Essentials\nthe Flanders Tapestry Collection\nThe Imaku x KNMB Studio\nThe Kookē\ntherapeautic\nTiny Island\nUnion Star Int’l Holdings Ltd\nVenture Studios\nVi Galerie\nVINO Artisan Italian Wines\nVintage Projects\nVista\nWasai H&N\nWoodbury Revival\nY’s Handmade soap\nYASS COOKIES\n模.良品
URL:https://www.handmadehongkong.com/event/discovery-bay-christmas-market-12th-november-2023/
LOCATION:DB Plaza\, Discovery Bay Plaza\, Discovery Bay Road\, Discovery Bay\, Hong Kong
CATEGORIES:Discovery Bay Main Plaza,Markets
ATTACH;FMTTYPE=image/jpeg:https://www.handmadehongkong.com/wp-content/uploads/2022/10/DB-XMAS-2023-scaled.jpg
ORGANIZER;CN="Handmade Hong Kong":MAILTO:connect@handmadehongkong.com
END:VEVENT
BEGIN:VEVENT
DTSTART;TZID=Asia/Hong_Kong:20231126T110000
DTEND;TZID=Asia/Hong_Kong:20231126T180000
DTSTAMP:20260425T185010
CREATED:20221014T102905Z
LAST-MODIFIED:20231124T004903Z
UID:8584-1700996400-1701021600@www.handmadehongkong.com
SUMMARY:Discovery Bay Christmas Market – 26th November 2023
DESCRIPTION:Vendor applications are now closed and this market is already fully booked.  If you would like to join the waitlist\, please email us on register@handmadehongkong.com for more information. \nHere is the vendor map for our 26th November 2023 DB Christmas market: \n \nSee below for a list of all of the vendors who will be at this market\, please click on the name to reach their website: \n2NU Sunglasses\n6 Scents\n852 & Beyond\nA-MORE collection\nAITCH’S BILTONG\nAlice Randell\nAlvin c.k. Lam Art + On The Wagon Kombucha\nAmber Projects\nAmesbijoux\nAmygdala Zen\nAnkyra Home\nASHNI\nAviationTag\nBaking Maniac\nBamboo\nBAO Baby Wear\nBee Austraian HK\nBelle & Bloom Creations\nBesonderheit. Kids Clothing\nBetelbird\nbig Bang Incorporation Limited\nblack Cat Badges\nbluyonda / Picture Finders\nBoho Mix\nbotaniumCare\nBy Mamalaterre\nCalico cow\nCamilas_Handcrafter\nCandle Up\nCarolyn Waweru Jewellery\nCheese Club\nChildhood Dream\nChromatic Apparel & Jewellery\nCitiScent\nCITYU VETERINARY HEALTH GROUP COMPANY LIMITED\nCommon Lotus x Valise Philosophy\nCookie Time HK\nCrafted Creations\nCryst_floral by PPKHOO\nDashacosmoface\nDASK Leathercraft\nDee Gogh\nDim sum mui mui\nDL Handmade dog wear\ndoodlerashi\nDorsia Decor\nDots.hk\nDough Concept\nDwaMucHandMade\nEden Ministry\netcetera Hong Kong\nFirst Green Day Limited\nFluffy Terry\nFukurou Aroma\nFYORO\nGinsanity\nGloBilly\nGolden Woods\nGood Vibes Ukulele Designer\nGoosebump\nGrabNat\nGrazie Helenna & Jovrea Corner\nGreenmont Kids\nHair Carnival\nHandmade Hong Kong\nHealthy Living\nHEINGA\nHello Knitting Handmade & Happy Buy HK\nHiraya Scent & Co.\nhkcopperbrass\nHong Kong Puzzle Mystery\nHw2 creations\nhyphen Studio\nIndie Global\nIsaliyana\nItyaadi Home\nJ.H.M\nJane Eve Interiors\nJennifer Pollock Accessories\nJoni Handmade\nKapuhala Space Ltd\nKhajane\nKITDO\nKRSV\nLaurence Lai Gallery\nLelejewelz\nLetter J\nLilly&Co.\nLimonade Candles\nLinda Harrod Art\nLittle Jane\nLittlemoliu\nLiz Fry Design & Alchemy Kitchen\nLoganmami Handmaking\nMad Jelly Chilli\nMade in Peru\nMalm Designs\nMalt Uncle\nMarky & Cho\nMi Spacium Design Studio\nMilan / mDRS\nminboxes.com\nMoazzam\nMommy’s Bag\nMOM媽媽品牌\nNess Matthews Handmade\nNick Gleitzman photographs\nNo Less Créateur\nofee\nOld HK Lights Candles\nOMJ Premium Homemade Dried Dog Food\nOther..Worldly Candle\nOwlisssh\nOZZIE COZZIE\nP Jewelry\nPaper-Roses\nPaper Shades\nPassion For Pearls\nPB Woodenware\nPearly & Purely\nPeriquito\nPersian Carpets and Crafts\nPetitshop\nPlayful Socks\npopkoi\nPTJ STUDIO\nPunique\nRoche Contemporary\nROCK ATOLL\nRollercoaster\nRoygypsy\nRutika Malpani\nSalvaged\nSarah Tse\nSaStained Glass\nSchmick Jewellery\nScribble & Scrawl\nShell Craft\nSo Fa Fa Crafts\nSolarmoon.lab\nsolidayz Hats & Scarves\nSOLTY Pink Salt\nSusu.beads \, Blessed Tree 幸之桐\, Sakura Anestesia 櫻之美學\nSwedish’s Handmade Bodycare\nthe happi Bean + Grandmamawong + cottonpigs + Meluha Home\nThe Kookē\nThe letterbox company\nThe Lion Rock Press\nThe Quiet Place Art + For Fluff Sake\nThe Snowflakes Factory\nThe Summer Bay\nTie In collection\nTijo Jewellery\nTiny Island\nTutiDeco & Miw Craftmaker\nUnion Star\nUpcycled by Michal\nVandicraft\nVi Galerie\nvikam pottery\nWayuu bag asia\nWoodbury Revival\nWrap Around Studio\nY’s handmade soap\nYASS COOKIES\nYTJ fashion Jewellery\nYumm Beer\nZare\nZoko Jewelry\nZukyun Beauty
URL:https://www.handmadehongkong.com/event/discovery-bay-christmas-market-26th-november-2023/
LOCATION:DB Plaza\, Discovery Bay Plaza\, Discovery Bay Road\, Discovery Bay\, Hong Kong
CATEGORIES:Discovery Bay Main Plaza,Markets
ATTACH;FMTTYPE=image/jpeg:https://www.handmadehongkong.com/wp-content/uploads/2022/10/WhatsApp-Image-2021-12-13-at-12.14.57-PM-1.jpeg
ORGANIZER;CN="Handmade Hong Kong":MAILTO:connect@handmadehongkong.com
END:VEVENT
END:VCALENDAR