BEGIN:VCALENDAR
VERSION:2.0
PRODID:-//Handmade Hong Kong - ECPv6.15.20//NONSGML v1.0//EN
CALSCALE:GREGORIAN
METHOD:PUBLISH
X-WR-CALNAME:Handmade Hong Kong
X-ORIGINAL-URL:https://www.handmadehongkong.com
X-WR-CALDESC:Events for Handmade Hong Kong
REFRESH-INTERVAL;VALUE=DURATION:PT1H
X-Robots-Tag:noindex
X-PUBLISHED-TTL:PT1H
BEGIN:VTIMEZONE
TZID:Asia/Hong_Kong
BEGIN:STANDARD
TZOFFSETFROM:+0800
TZOFFSETTO:+0800
TZNAME:HKT
DTSTART:20220101T000000
END:STANDARD
END:VTIMEZONE
BEGIN:VEVENT
DTSTART;TZID=Asia/Hong_Kong:20230429T120000
DTEND;TZID=Asia/Hong_Kong:20230501T190000
DTSTAMP:20260426T052346
CREATED:20230329T011036Z
LAST-MODIFIED:20230421T074833Z
UID:8935-1682769600-1682967600@www.handmadehongkong.com
SUMMARY:KELY "Be Present - Cherish Your Gift" Youth Wellbeing Carnival
DESCRIPTION:We are delighted to be supporting the KELY Support Group “Be Present – Cherish Your Gift” Youth Wellbeing Carnival! \nYou can see more information regarding The Kely Support Group here. \nThe carnival aims to promote a positive attitude towards youth mental health and wellbeing\, encouraging public participation from young people and parents. \nWorkshops and other activities related to stress management and improve overall wellbeing will also be featured. Hong Kong is proud to support this event. \n  \nEvent dates: April 29\, 30 and May 1 \nEvent time: 12noon – 7pm each day \nLocation: Lee Tung Avenue\, Wan Chai\, Hong Kong \n  \nFor more information or if you are interested in being a vendor at this event\, please email The Kely Support Group directly on event@kely.org. \nSee below for a list of all of the vendors who will be at this market\, please click on the name to reach their website: \nAnkyra Home\nBastyle\nChestnut Corner\nDee Gogh\nDoodlerashi\nDots.hk\nPAP Studio Limited\nPlannable\nRichard Crosbie Art\nSparkles & Joy\nTaboocha\nTHE BLOMSTRE LIMITED\nThe Scentist HK\nthese studio\n光木 Gwong Muk Studio
URL:https://www.handmadehongkong.com/event/handmade-hong-kong-at-the-kely-be-present-cherish-your-gift-youth-wellbeing-carnival/
LOCATION:Lee Tung Avenue\, Lee Tung Avenue\, 200 Queen's Road East\, Wanchai\, Hong Kong
CATEGORIES:Lee Tung Avenue,Markets,Wan Chai
ATTACH;FMTTYPE=image/png:https://www.handmadehongkong.com/wp-content/uploads/2023/03/KELY-logo-on-white-background-1.png
ORGANIZER;CN="Handmade Hong Kong":MAILTO:connect@handmadehongkong.com
END:VEVENT
BEGIN:VEVENT
DTSTART;TZID=Asia/Hong_Kong:20230514T110000
DTEND;TZID=Asia/Hong_Kong:20230514T180000
DTSTAMP:20260426T052346
CREATED:20221014T101652Z
LAST-MODIFIED:20230513T110727Z
UID:8574-1684062000-1684087200@www.handmadehongkong.com
SUMMARY:Discovery Bay Mothers Day Market – May 2023
DESCRIPTION:If you would like to join us as a vendor at this market\, please email us on register@handmadehongkong.com for more information. \nHere is the vendor map for our May 2023 DB market: \n \nSee below for a list of all of the vendors who will be at this market\, please click on the name to reach their website: \n2nu Sunglasses\n6 Scents\nA GOOD NIGHT ZZZLEEP\nAbout aether\nAilia Bodhi Tree\naitch’s biltong\nAlice Randell Ltd\nAlly chiu – aruna Candle  and   Krystal Chiu – C’est la vie\nAlvin c.k. Lam Art + On The Wagon Kombucha\nANKA TASTE\nAnkyra Home\nAquarium and Plants\nARTwithHEARTbykj\nAVRA\nBaLaBuLuBi\nBamboa\nBeam Bold\nBee Australian HK\nbelovedactivewear\nBen & Ellie Baby\nblack Cat Badges\nBling fling\nBluyonda / Picture Finders\nBun Bun Vintage\nCa Lisa Jewellery\nCamilas_Handcrafter & Meowgohmeowjeh\nCatrin Price\nCHEESE CLUB\nCitiScent\nClods of Earth\nCMO PERFUME\nCoffee Forty\nCommonLotus / Valise Philosophy\nCookie Smiles\nCRAFTY BITCH\nCryst_floral by ppkhoo\nCYEOYM\nDahab\nDASK Leathercraft\nDee Gogh\ndelight Moments HK\ndettyfingers\ndolphin decor house\nDwaMucHandMade\nEden Ministry\nElfin@sopearlstudio\nEllen Makes Paper\nElysian\nEye Market\nFancy Momma Candle Co.\nFat Tomato company ltd\nFluffy Terry\nFusion foundry by maria\nGarden of EthnicHolic\nGiant Soul Crystals\nGlads Beauty Workshop\nGlass Castle & Co.\nGloBilly\nGlory Dough Bakery\nGolden Wood\nGoosebump\nGrabNat\nGreenmont Kids\nHaam Wing Fleurs\nHandmade by Hatten\nHandmade Hong Kong\nHappy Pooch\nHappy Wash\nHasti Steel\nHealthy Living\nHiraya Scent & Co.\nHumble Servant Supper Club\nHunter James Candles\nHyphen Studio\nIce of Jadeite\nImagine Station Ltd\nIndie Global\nInfincotton\nInspired Muse!\nIsa-Bella-C\nIsaliyana\nItyaadi Home\nJamgemstone\nJanice Handcraft\nJayshree Henna Artist\nJen.W Florist\njiggle-jiggle\nKaas Atelier\nKaiJai\nKalasiddhiart Concepts\nKanhode\nKasido/Candle Up/Baysiclove Resortwear\nKnit for you\nKnots of Love/FiKnots/Flowermuse\nKRSV\nkuzu\nLammaste\nLas Chicas Piscis and Lokery\nLatinbazaar\nLelejewelz\nLIEB\nLilly&Co.\nLiving852\nLove Mercy\nLucia Mama’s Jam\nLyllon\nmade in Peru\nMai Crochets\nMandatory Provident Fund Schemes Authority\nMarky & Cho\nMei Wah Tattoo\nMELISSA JEWELRY LIMITED\nMerve & Maven\nMICHEL DE PARIS\nMiramiri\nMiumouWorkshop\nMOS Art Studio\nMosaic Art studio\nMountain Wave\nNefertiti Group Limited\nNick Gleitzman photographs\nNot only olives\noi mai Hong Kong\nOMJ Premium Homemade Dried Dog Food\nONESEC Eyewear\nPaper-Roses\nPassion For Pearls\nPB Woodenware\nPetitshop\nPlannable Notebook\nPlus_bread\nPodarona\nPsyche&Co.\nQicha limited\nRichard Crosbie Art\nrollercoaster\nRoom 77 號房間的禮物\nRose Amelia Jewelry\nRosieposie\nSANTO\nSarah Tse\nSari-Sari Sundry\nSave the children in South Sudan (Justin’s origami)\nScarflit\nslowwood creation\nSolidayz hats & Scarves\nSOULRELLE\nspaceinspace\nSteps To The Future\nStone and Phenomenon\nSUSGLAM\nSuti Collection\nTeen’s Key Hong Kong (Young women Charity)\nThe Designer Studio\nThe Letterbox Company\nTILL I GET UP\nUnion Star Int’l Holdings Ltd\nVeganxoxo\nVividaurora\nWAYSOUTHK\nWildalp Baby\nWind.n.Sand\nWing wong\nWoodbury Revival\nXyza Ethical Fashion\nYaka hot sauce\nYan.Crochet\nyASS COOKIES
URL:https://www.handmadehongkong.com/event/discovery-bay-mothers-day-market-may-2023/
LOCATION:DB Plaza\, Discovery Bay Plaza\, Discovery Bay Road\, Discovery Bay\, Hong Kong
CATEGORIES:Discovery Bay Main Plaza,Markets
ATTACH;FMTTYPE=image/jpeg:https://www.handmadehongkong.com/wp-content/uploads/2022/10/MothersDay-2023.jpg
ORGANIZER;CN="Handmade Hong Kong":MAILTO:connect@handmadehongkong.com
END:VEVENT
END:VCALENDAR