BEGIN:VCALENDAR
VERSION:2.0
PRODID:-//Handmade Hong Kong - ECPv6.15.20//NONSGML v1.0//EN
CALSCALE:GREGORIAN
METHOD:PUBLISH
X-ORIGINAL-URL:https://www.handmadehongkong.com
X-WR-CALDESC:Events for Handmade Hong Kong
REFRESH-INTERVAL;VALUE=DURATION:PT1H
X-Robots-Tag:noindex
X-PUBLISHED-TTL:PT1H
BEGIN:VTIMEZONE
TZID:Asia/Hong_Kong
BEGIN:STANDARD
TZOFFSETFROM:+0800
TZOFFSETTO:+0800
TZNAME:HKT
DTSTART:20220101T000000
END:STANDARD
END:VTIMEZONE
BEGIN:VEVENT
DTSTART;TZID=Asia/Hong_Kong:20231201T150000
DTEND;TZID=Asia/Hong_Kong:20231203T210000
DTSTAMP:20260424T031012
CREATED:20230928T073441Z
LAST-MODIFIED:20231116T140221Z
UID:9873-1701442800-1701637200@www.handmadehongkong.com
SUMMARY:Handmade Hong Kong at Clockenflap Music and Arts Festival - December 2023
DESCRIPTION:Twice in one year! How can we be so lucky?! Clockenflap Festival – Hong Kong’s biggest and longest-running outdoor music and arts festival is back in December! Clockenflap is once again taking place at Central Harbourfront\, featuring multiple stages with live music from Hong Kong and the international scene\, as well as film\, visual art\, performance art\, family activities\, and arts & crafts.  With an expected footfall of over 80\,000\, this outdoor music and arts festival is one of the best platforms available to indie crafters in Hong Kong. \nHandmade Hong Kong will again hold a craft market within the festival on 1st – 3rd December 2023.  \nVisitors will need valid Clockenflap entry tickets to access the craft market.  For more information on Clockenflap click here. \nVendor applications are now closed and this market is already fully booked.  If you would like to join the waitlist\, please email us on register@handmadehongkong.com for more information. \nHere is the vendor map for our Clockenflap Market: \n \nSee below for a list of all of the vendors who will be at this market\, please click on the name to reach their website: \n2nu Sunglasses\nAngel Wong Image\nBatik Cantiq\nBetelbird\nCrue\nCYEOYM\nDee Gogh\nEden Hong Kong\nFriends Valley Handmade Accessories 朋友谷 手作飾品店\ngo play! hk\nHandmade by Hatten\nHandmade Hong Kong\nInner Bliss Designs\nJust Face Painting and Production Limited\nKnot. Me Design\nMADEGREY\nMei Wah Tattoo\nMiramiri Atelier\nO’ STUDIO\nPreview room: choy Suey x malic handmade\nProspekt\nRIKA SHIOYA .BOUTIQUE\nRVZR\nSari-Sari Sundry\nSolidayz Hats\nTHE ALLEY\nTHE BLOMSTRE\nThe Listening Room\nThe Scentist HK\nWood Watch HK \n 
URL:https://www.handmadehongkong.com/event/handmade-hong-kong-at-clockenflap-music-and-arts-festival-december-2023/
LOCATION:Central Harbourfront Event Space\, 9 Lung Wo Road\, Central\, Hong Kong
CATEGORIES:Clockenflap,Markets
ATTACH;FMTTYPE=image/png:https://www.handmadehongkong.com/wp-content/uploads/2023/09/CF23DEC_1080x1920.png
ORGANIZER;CN="Handmade Hong Kong":MAILTO:connect@handmadehongkong.com
END:VEVENT
BEGIN:VEVENT
DTSTART;TZID=Asia/Hong_Kong:20230303T170000
DTEND;TZID=Asia/Hong_Kong:20230305T210000
DTSTAMP:20260424T031012
CREATED:20230109T033431Z
LAST-MODIFIED:20230928T073143Z
UID:8773-1677862800-1678050000@www.handmadehongkong.com
SUMMARY:Handmade Hong Kong at Clockenflap Music and Arts Festival - March 2023
DESCRIPTION:Clockenflap Festival – Hong Kong’s biggest and longest-running outdoor music and arts festival is back! This year Clockenflap is taking place at Central Harbourfront Event Space\, featuring multiple stages with live music from Hong Kong and the international scene\, as well as film\, visual art\, performance art\, family activities\, and arts & crafts.  With an expected footfall of over 60\,000\, this outdoor music and arts festival is one of the best platforms available to indie crafters in Hong Kong. \nHandmade Hong Kong will again hold a craft market within the festival on 3rd – 5th  March 2023.  \nVisitors will need valid Clockenflap entry tickets to access the craft market.  For more information on Clockenflap click here. \nSupplier applications are now closed.  If you would like to be added to the waitlist\, please email us on register@handmadehongkong.com and we can then let you know if any stalls become available. \nHere is the vendor map for our Clockenflap Market: \n \nSee below for a list of all of the suppliers who will be at this market\, please click on the name to reach their website: \n2NU Sunglasses\nAbigail’s Face and Body Art\nBetelbird\nbling Fling: body art n glitter tattoos\nBLOMSTRE\nChill Chill Country\nChoy Suey x Malic Henna\nCrue\nCYEOYM\nDee Gogh\nFloat Captain\nFriends Valley Handmade Accessories 朋友谷 手作飾品店\nHandmade by Hatten\nHandmade Hong Kong\nHexadoor\nHunter James Candles\nInner Bliss designs\nKnot.me design\nLiz Fry Design\nMADEGREY\nMei Wah Tattoo\nMeow Meow Vintage\nRichard Crosbie Art\nRochè Blanche\nSari-Sari Sundry\nsolidayz Hats\nTHE ALLEY\nThe Listening Room\nThescentisthk\n木表 Wood Watch HK
URL:https://www.handmadehongkong.com/event/handmade-hong-kong-at-clockenflap-music-and-arts-festival-2023/
LOCATION:Central Harbourfront Event Space\, 9 Lung Wo Road\, Central\, Hong Kong
CATEGORIES:Clockenflap
ATTACH;FMTTYPE=image/jpeg:https://www.handmadehongkong.com/wp-content/uploads/2023/01/d8a18fec-c716-4b6c-a6e9-d156cfcc12db.jpg
ORGANIZER;CN="Handmade Hong Kong":MAILTO:connect@handmadehongkong.com
END:VEVENT
END:VCALENDAR