BEGIN:VCALENDAR
VERSION:2.0
PRODID:-//Handmade Hong Kong - ECPv6.15.20//NONSGML v1.0//EN
CALSCALE:GREGORIAN
METHOD:PUBLISH
X-WR-CALNAME:Handmade Hong Kong
X-ORIGINAL-URL:https://www.handmadehongkong.com
X-WR-CALDESC:Events for Handmade Hong Kong
REFRESH-INTERVAL;VALUE=DURATION:PT1H
X-Robots-Tag:noindex
X-PUBLISHED-TTL:PT1H
BEGIN:VTIMEZONE
TZID:Asia/Hong_Kong
BEGIN:STANDARD
TZOFFSETFROM:+0800
TZOFFSETTO:+0800
TZNAME:HKT
DTSTART:20220101T000000
END:STANDARD
END:VTIMEZONE
BEGIN:VEVENT
DTSTART;TZID=Asia/Hong_Kong:20231118T110000
DTEND;TZID=Asia/Hong_Kong:20231118T180000
DTSTAMP:20260424T015128
CREATED:20230919T014515Z
LAST-MODIFIED:20231117T215150Z
UID:9831-1700305200-1700330400@www.handmadehongkong.com
SUMMARY:The Repulse Bay Handmade Hong Kong Christmas Market
DESCRIPTION:We are delighted to be hosting a new Holiday Market at The Repulse Bay! On November 18th from 11am – 6pm the Seaview Terrace will become a holiday wonderland\, filled with Hong Kong’s finest crafters and artisans!   \nYou can see more information regarding The Repulse Bay and their Seaview Terrace here. \nVendor applications are now closed and this market is already fully booked.  If you would like to join the waitlist\, please email us on register@handmadehongkong.com for more information. \nHere is the vendor map for The Repulse Bay Handmade Hong Kong Christmas market: \n \nSee below for a list of all of the vendors who will be at this market\, please click on the name to reach their website: \n2nu Sunglasses\n30 Degrees South\n852 & Beyond\nA-MORE collection\nAITCH’S BILTONG\nAlice Randell\nAngel Wong Image\nAnkyra Home\nAnvi Candles\nArtysans\nBAO Baby Wear\nBastyle\nBelachica\nBig Bang Incorporation Limited\nBuster Barks\nCALI & LOU\nCasa Duniya\nCASPAR HOUSE\nCaternap\nCheese Club\ncommonLotus\nCRAFTY BITCH\nDASK Leathercraft\nDeen Deen Dei\nDoodlerashi\nDorsia Decor\nEdlyn Knit & Weave\nEsme Parish Silver\nETTERFLY\nfaux\nFiyah Heat Store\nFrancan\nGloBilly\nGood Vibes Designer\nGreenmont Kids\nHandmade by Hatten\nHandmade Hong Kong\nHealthy Living\nHighland_de_crafts\nHK Paws Foundation\nHK RECORDING STUDIO\nHKCopperBrass\nInner Bliss Designs\nJan’s Aesthetics of Nature\nKhajane\nKRSV\nLatinbazaar\nLea James Purse Organizers\nLieb\nLilly&Co.\nLimonade Candles\nLIQRBOX\nLittle Island Learning\nMalm Designs\nmana & chi\nminboxes.com\nMini DaVinci HK\nMiramiri Atelier\nmy Little Princess\nmy Song\nNick Gleitzman photographs\nODD ONE OUT\nofee\nOMJ Premium Homemade Dried Dog Food\nOZZIE COZZIE\nPassion For Pearls\nPB Woodenware\nPearly & Purely\nPlayful Socks\nPsyche&Co.\nPTJ STUDIO\nRichard Crosbie Art\nRIKASHIOYA .BOUTIQUE\nrOCK ATOLL\nRollercoaster\nRosa Damascena Hong Kong\nSalvaged\nSevasoul\nShilpa’s Masala Mill\nSmart Mama™\nSoo’s Doodle\nSteps To The Future\nSTOCKHOLM\nSweet Art Bakery\nTessa’s Kitchen HK\nThe Bark and the Bite HK\nThe Designer Studio HK\nThe Flanders Tapestry Collection\nThe Tramline Liquor Co\nTiny Island\nVenture Studios\nVINO – Artisan Italian Wines\nWaka Artisans\nWoodbury Revival\nWorx of Art\nYour Daily Muse
URL:https://www.handmadehongkong.com/event/the-repulse-bay-christmas-market/
LOCATION:The Repulse Bay\, The Repulse Bay\, 109 Repulse Bay Road\, Hong Kong
CATEGORIES:Marketplace,The Repulse Bay
ATTACH;FMTTYPE=image/jpeg:https://www.handmadehongkong.com/wp-content/uploads/2023/09/HmHK-RepulseBayXmasSq-HiRes-scaled.jpg
END:VEVENT
END:VCALENDAR