BEGIN:VCALENDAR
VERSION:2.0
PRODID:-//Handmade Hong Kong - ECPv6.15.20//NONSGML v1.0//EN
CALSCALE:GREGORIAN
METHOD:PUBLISH
X-WR-CALNAME:Handmade Hong Kong
X-ORIGINAL-URL:https://www.handmadehongkong.com
X-WR-CALDESC:Events for Handmade Hong Kong
REFRESH-INTERVAL;VALUE=DURATION:PT1H
X-Robots-Tag:noindex
X-PUBLISHED-TTL:PT1H
BEGIN:VTIMEZONE
TZID:Asia/Hong_Kong
BEGIN:STANDARD
TZOFFSETFROM:+0800
TZOFFSETTO:+0800
TZNAME:HKT
DTSTART:20210101T000000
END:STANDARD
END:VTIMEZONE
BEGIN:VEVENT
DTSTART;TZID=Asia/Hong_Kong:20220213T110000
DTEND;TZID=Asia/Hong_Kong:20220213T180000
DTSTAMP:20260424T052608
CREATED:20210706T034213Z
LAST-MODIFIED:20220224T013307Z
UID:5755-1644750000-1644775200@www.handmadehongkong.com
SUMMARY:CANCELLED : Discovery Bay Valentines Market – February 2022
DESCRIPTION:Unfortunately\, due to the extension of the current social distancing measures\, our February DB Market has been cancelled.  We hope to see you again soon. \n  \nSee below for a list of all of the vendors who will be at this market\, please click on the name to reach their website: \n_w_e_handmade\n1handclay\n22JinStreet\n2NU Sunglasses\n30 Degrees South\n345 Well-being\nAcaruna\nAitch’s Biltong\nAlvin c.k. Lam Art + On The Wagon Kombucha\nAngelian\nAnnie’s Collections\nANSIDEA\nAnthea’s Face Painting\nAntonia Y. Jewelry\nAromafavo Handcrafts\nART BY MISBAH\nASHNI\naTelier viBes triBaL\nAVRA\nBamPAds!\nBatik Cantik\nBe Rare\nBESONDERHEIT.\nBetween Haru  一日之間\nBibish\nBig Bang Incorporation Limited\nBowtasia\nBRIDGET BRADLEY ART\nBy Mamalaterre\nCa Lisa Jewellery\nCandle Up\nChangani Couture\nChillchic_homemade\nChromatic Fashion & Jewellery\nCOCONUTANDWHAT\nCommonLotus\nConceptu Home\nConnie Handcraft\nCopperstone Jewellery\nCrystal Magic\nDB Party Time\nDougal’s Crystals\nDye Mad\nEarth Scents by Blanche\nEat-Ate-Eaten\nEdible Artist Global Academy Association (EAGAA)\nEmbody Ltd\nEmpress CBD\nEtterfly\nEye Market\nFarm Workshop\nFIGURA\nFloral Woods & Co\nFour Grams Cookies\nFUGLY JEWELS\nFusion foundry By Maria\nGarasu Hana\nGarden of Ethnic Holic\nGlow naturally Glow\nGOOD chocolates X by Avril X Les Cleias\nHair Carnival\nHanabi Workshop\nHandmade by Hatten\nHandmade Hong Kong\nHAUS of MYO\nHealthy Living\nHenna by A.S\nhi\,Love\nHinitan Plantation\nHKCOPPERBRASS\nHome T\nHong Kong CBD\nHoopla for Essentials\nhw2 creations\nHydeland\nHyphen Studio\nillia jewelry\nImpactHK\nIndie Global\nIsland Life\nItalian Foodie Corner\nItyaadi Home\nJamila jewelry\nKapuhala Space Ltd\nKATHA JEWELERY\nKIBO\nKizzis\nKRSV\nLa Oria\nLammaste\nLantao Life\nLaurence Lai Gallery\nLe Monde de Karu\nLilie Sai Wan\nLittle Fiore\nLittlemoliu\nLovely Handmade by Helen\nM station\nMade in Peru\nMaison Lombard\nMandatory Provident Fund Schemes Authority\nMayse artisan bakery\nMOB daily Marketing and Consultants Limited\nMommy’s Bag\nMore Tea Hong Kong\nMother Nature craft\nMy Rooftop is Green\nNick Gleitzman photographs\nNicole International Ltd\nNiseem\nNo Less Créateur\nNoms of the Day\nNot only olives\nOMJ Premium Homemade Dried Dog Food\nOZZIE COZZIE\nPachamama Hong Kong\nPanda Yoga Care\nPaper-Roses\nPassion Fruit Garden\nPersian Carpets and Crafts\nPetit Chat Noir\nPetitsary Jewelry\nPhoenix Candle Lab\nPirita Jewelry\nPlayful Socks\nPsycheStd.co\nPuptails\nQICHA\nRebounce CBD\nRMC DESIGN\nROCK ATOLL\nRose Amelia Handmade\nrOyGyPsy\nSari-Sari Sundry\nScarflit\nScribble & Scrawl\nSecco Botanical Drink Infusions\nSeremiti\nShellvio\nShilpas masala mill\nShimmer & Shine + Bodhisattva\nShiro Carta\nSkinBath Solid Cleanser\nSmall Potato Co.\nSoap Suds\nSoek Sunglasses\nSolidayz Hats & Scarves\nSOULRELLE\nSpringbok Wines\nSugarbird Kids\nThe Bark and the Bite HK\nThe Candleman HK\nThe Flanders Tapestry Collection\nThe Little Sandcastle\nThe Lovely Things\nTHE OIL LABORATORY\nThe Quiet Place Art\nThe Summer Bay\nTime to Daydream\nTimeless by Temmy\nTiny Island\nTraders of Hong Kong\nValue Added Ceylon Teas – The Chameleon Collective\nVanilla Dreams\nVictor & Hugo Gourmet\nwild apple studio\nWorld Wide Fund for Nature Hong Kong\nYASS COOKIES\nyellow pear co.\nYTJ\nZASHA\nZeroot | All Things Planet Loving\n然本澗   ESSENTIAL NATURE
URL:https://www.handmadehongkong.com/event/discovery-bay-valentines-market-february-2022/
LOCATION:DB Plaza\, Discovery Bay Plaza\, Discovery Bay Road\, Discovery Bay\, Hong Kong
CATEGORIES:Discovery Bay Main Plaza,Markets
ATTACH;FMTTYPE=image/jpeg:https://www.handmadehongkong.com/wp-content/uploads/2021/07/Photo-13-6-2021-4-35-09-PM.jpg
ORGANIZER;CN="Handmade Hong Kong":MAILTO:connect@handmadehongkong.com
END:VEVENT
END:VCALENDAR