BEGIN:VCALENDAR
VERSION:2.0
PRODID:-//Handmade Hong Kong - ECPv6.15.20//NONSGML v1.0//EN
CALSCALE:GREGORIAN
METHOD:PUBLISH
X-WR-CALNAME:Handmade Hong Kong
X-ORIGINAL-URL:https://www.handmadehongkong.com
X-WR-CALDESC:Events for Handmade Hong Kong
REFRESH-INTERVAL;VALUE=DURATION:PT1H
X-Robots-Tag:noindex
X-PUBLISHED-TTL:PT1H
BEGIN:VTIMEZONE
TZID:Asia/Hong_Kong
BEGIN:STANDARD
TZOFFSETFROM:+0800
TZOFFSETTO:+0800
TZNAME:HKT
DTSTART:20210101T000000
END:STANDARD
END:VTIMEZONE
BEGIN:VEVENT
DTSTART;TZID=Asia/Hong_Kong:20221009T110000
DTEND;TZID=Asia/Hong_Kong:20221009T180000
DTSTAMP:20260424T004725
CREATED:20210706T040229Z
LAST-MODIFIED:20221005T101643Z
UID:5772-1665313200-1665338400@www.handmadehongkong.com
SUMMARY:Discovery Bay Sunday Market – 9th October 2022
DESCRIPTION:Vendor applications now closed. \nPlease email register@handmadehongkong.com if you would like to be added to the vendor waitlist. \nPlease note that our market is covered by the HK government’s vaccine pass requirements.  More information can be found here. \nHere is the vendor map for our 9th October 2022 DB market: \n \nSee below for a list of all of the vendors who will be at this market\, please click on the name to reach their website: \n[ Bou:3 ]\n@Whtie by Gosia Orlowska\n22JinStreet\n2NU Sunglasses\n30 Degrees South\nA.MORE collection\nAEQUA & CO.\nAfrica to Asia Ltd\nAitch’s Biltong\nAlvin c.k. Lam Art + On The Wagon Kombucha\nAnkyra Home\nAnsidea\nASHNI\nAVRA\nbamboo\nBaysiclove Resortwear\nBeam Bold\nBESONDERHEIT.\nBibish\nBig Bang Incorporation Limited\nBlack Cat Badges\nBositos\nBy Mamalaterre\nCa Lisa Jewellery\nCandle Up\nCask Master\nChromatic Fashion & Jewellery + Baby House小叮\nCircle Walker 周圍行\nCircles by Jonathan\nCoho – Crossbody Phone Case\nCommonLotus\nConceptu Home\nCool Africa\nCopperstone Jewellery\nCrafty Bitch\nCrystalsabella\nDASK Leathercraft\nDee Gogh\nDL handmade dog wear & wing wing snack shop\nDriftknots\nDrover’s Thirst\nDRUZY DRIP HK\nDwaMucHandMade\nEDITH ART & JEWELLERY\nEllen Makes Paper\nEtterfly\nEX PLUM WINE LIMITED\nEye Market\nFancy Momma Candle Co.\nfelix & mina\nFernAroid\nFiyah Heat Store\nFlow With Me HK\nFour Grams Cookies\nFreaky Kitty Design\nFusion Foundry By Maria\nG.O.A.T. POTTERS x T.G.I.F\nGarden of Ethnic Holic\nGinsanity\nGloBilly\nGlory Dough Sourdough Bread\, Biscotti\, Babka & More\ngo play! hk\nGolden Woods\nGOOD chocolates\nGraceful Handmade Soap\nGreenmont Kids\nHandmade by Hatten\nHandmade Hong Kong\nHealthy Living\nHeart jewels\nHiraya Scent & Co.\nHK Colour Lab\nHKSKH Tung Chung Integrated Services\nhw2 creations\nHyphen Studio\nIndie Global\nItyaadi Home\nJane Eve Interiors\nJennifer pollock accessories\nJhaarokha\nJust Great Sauce\nJuzze\nKaiJai\nKapuhala Space Ltd\nKiri\nKiss My Cupcake\nKORE HK\nKRSV\nLaurence Lai Gallery\nLIEB\nLimonade Candles\nLucy Parris Art\nMacraftastic\nMade By Wing\nMade in Peru\nMadhuban\nMangiapane\nMaroc Souk\nMass Asia Resource Ltd\nMidnights Rythm x Caelestis\nMiliMilu\nmini elm tree\nMOBdaily Bakery\nMommy’s Bag\nMy Rooftop is Green\nNick Gleitzman photographs\nNO LESS CRÉATEUR\nNomsoftheday\nNot only olives\nohhellobruno\nOMJ Premium Homemade Dried Dog Food\nOne Tea Room\nOneSky for all children\nOrgHive\nOZZIE COZZIE\nPaper-Roses\nPart_Calligraphy_Handmade\nPersian Carpets and Crafts\nPetitshop\nPirita\nQAVAH\nQicha Kombucha\nRayonner\nRebel tattoos\nRhythm Coffee\nRichard Crosbie Art\nRoyal Brunei Airlines\nSaanseoi Studio\nSANTO\nSculpt Hub Limited\nSEMA SHOP\nSeremiti + Ruhaaniart\nShilpa’s Masala Mill\nSmall Potato Co./Reformat Apparel\nSmile Handmade\nSoap Yummy\nSoek\nSolidayz Hats & Scarves\nSOULRELLE\nSPACEINSPACE\nSparkles & Joy\nSparrow\nSteak King\nStones and Phenomenon\nSugar Baby Body Products\nSunse & Freory Spiritual Studio\nteaprojecthk\nTHE BLOMSTRE\nThe Candleman hk\nThe Flanders Tapestry Collection\nThe Letter Box Company\nTimeless by Temmy\nTiny Island Maps\nVEGHAMPER\nVenture Studios\nWander with Nicole\nWestsixx\nWild anemonee x the little me\nWith all my heart\nWynce law\nYASS COOKIES\nZoko Jewelry\n間 MA.KET
URL:https://www.handmadehongkong.com/event/discovery-bay-sunday-market-october-2022/
LOCATION:DB Plaza\, Discovery Bay Plaza\, Discovery Bay Road\, Discovery Bay\, Hong Kong
CATEGORIES:Discovery Bay Main Plaza,Markets
ATTACH;FMTTYPE=image/jpeg:https://www.handmadehongkong.com/wp-content/uploads/2021/10/Photo-12-9-2021-20-53-36-6.jpg
ORGANIZER;CN="Handmade Hong Kong":MAILTO:connect@handmadehongkong.com
END:VEVENT
END:VCALENDAR