BEGIN:VCALENDAR
VERSION:2.0
PRODID:-//Handmade Hong Kong - ECPv6.15.20//NONSGML v1.0//EN
CALSCALE:GREGORIAN
METHOD:PUBLISH
X-WR-CALNAME:Handmade Hong Kong
X-ORIGINAL-URL:https://www.handmadehongkong.com
X-WR-CALDESC:Events for Handmade Hong Kong
REFRESH-INTERVAL;VALUE=DURATION:PT1H
X-Robots-Tag:noindex
X-PUBLISHED-TTL:PT1H
BEGIN:VTIMEZONE
TZID:Asia/Hong_Kong
BEGIN:STANDARD
TZOFFSETFROM:+0800
TZOFFSETTO:+0800
TZNAME:HKT
DTSTART:20220101T000000
END:STANDARD
END:VTIMEZONE
BEGIN:VEVENT
DTSTART;TZID=Asia/Hong_Kong:20230312T110000
DTEND;TZID=Asia/Hong_Kong:20230312T180000
DTSTAMP:20260424T004805
CREATED:20221014T101433Z
LAST-MODIFIED:20230309T070353Z
UID:8572-1678618800-1678644000@www.handmadehongkong.com
SUMMARY:Discovery Bay Spring Market - March 2023
DESCRIPTION:If you would like to join us as a vendor at this market\, please email us on register@handmadehongkong.com for more information. \nHere is the vendor map for our March 2023 DB market: \n \nSee below for a list of all of the vendors who will be at this market\, please click on the name to reach their website: \n2NU Sunglasses\n30 Degrees South\n6 Scents\nabout aether\nAitch’s Biltong\nAlice Randell\nAlvin ck Lam Art + On The wagon kombucha\nAMREEN JEWELLERY\nAnanyakrafts\nAnginess\nANKA TASTE\nAnkyra home\naquacrystal\nAromaa Blendss\nARTKAAR\nBastyle\nBaysiclove resortwear\nBB Balloon\nBeam bold\nbeloved activewear\nBig Bang Incorporation Limited\nBliss Of the day\nCa Lisa Jewellery\nCamilas_Handcrafter\nCandle Up\nCarnations: Color vocab with Mradu\nChromatic Apparel & Jewellery\nCircle Walker周圍行\nCommonLotus x valise Philosophy\nCookie Smiles\nCOTTON PIGS / THE BLOMSTRE\nCreative facapaint\nCrue Limited\nCryst_floral by ppkhoo\nDASK Leathercraft\nDC Students\ndettyfingers\nDwaMucHandMade\nEchalulu\nElaine Chiu’s Art\nElegant Creationss\nEMS Fitness Discovery Bay\nethikaal\nEye Market\nFancy Momma Candle Co.\nFYORO\nG’s DIY\nGemsNinetySeven\nGH coffee\nGloBilly\nGlory Dough Bakery\nGolden Wood\nGoosebump\nGraceful Handmade Soap\nGrazie Helenna\nGreenmont Kids\nhaam Wing Fleurs\nhandmade factory\nHandmade by Hatten\nHandmade Hong Kong\nHappy Wash\nHealthy living\nHiraya Scent & Co.\nhkcopperbrass\nHoopla for Essentials\nHucker.\nHunter James Candles\nhw2 creations\nHyphen Studio\nI am maa4Lat1\nIce of Jadeite\nIKHJ-HANDMADE\nIlluminate Kids Wellness\nIMS tigris and amazon CAS Teams\nIndie Global\nInner Bliss Designs\nIsa-Bella-C\nIsaliyana\nItalian Coffee Club HK\nJamgemstone\nJANE EVE INTERIORS\nJingdezhen lifestyle\nJoy Fusion\nJust Great Sauce\nKaiJai\nKalasiddhiart Concepts\nkanhode\nKapuhala Space Ltd\nKIBO\nKnot.Me design\nKRSV\nLammaste\nLas Chicas Piscis\nLaurence Lai Gallery\nLelejewelz\nLilly&Co.\nLittle Island Learning\nLittlemoliu\nLiving852\nLokery\nLONO ECO KIDS SHOES\nMacraftastic\nMade by K-one\nMade in Peru\nMADE WITH KIND LIMITED\nMana & Chi\nMangiapane\nMarock Beauty\nmformo Candle studio\nMICHEL DE PARIS\nmILIMILU\nMIRACO BEAUTY\nMiramiri\nMMO Limited\nMommy’s Bag\nMore Tea Hong Kong\nMountain Wave\nNot Only Olives\nODD ONE OUT\nOMJ Premium Homemade Dried Dog Food\nPAPER GOODS BY DORIE\nPassion For Pearls\nPersian Carpets\nPersian carpets and craft\nPinkSapphire\nQicha Kombucha\nRAW Obsessions\nRichard Crosbie Art\nRosey Cloud Limited\nSabah Select\nsANTO JEWELLERY\nScarflit\nShilpa’s Masala Mill\nsmall Good\nSolidayz\nSOULRELLE\nspaceinspace\nSteps To The Future\nStone and Phenomenon\nSusu.beads\nSuti Collection\nT.G.I.F x G.O.A.T Potters\nThe Candleman Hk\nThe Crystal Van\nThe Ivory Tower Market\nThe letterbox company\nThe scentist HK\nthe tiny smile\nTi Amo\nTimeless by Temmy\nTiny Island Maps\nTwenty Five 似顏繪\nUnion Star Int’l Holdings Ltd\nUpcycled by Michal\nWasaiH&N\nWind.n.Sand\nWoodbury Revival\nXiang Art Lantau\nYASS COOKIES\nYTJ\nZanteia\nZayas Handmade\n幸之桐 Blessed Tree
URL:https://www.handmadehongkong.com/event/discovery-bay-sunday-market-march-2023/
LOCATION:DB Plaza\, Discovery Bay Plaza\, Discovery Bay Road\, Discovery Bay\, Hong Kong
CATEGORIES:Discovery Bay Main Plaza,Markets
ATTACH;FMTTYPE=image/jpeg:https://www.handmadehongkong.com/wp-content/uploads/2022/10/Spring-2023.jpg
ORGANIZER;CN="Handmade Hong Kong":MAILTO:connect@handmadehongkong.com
END:VEVENT
END:VCALENDAR