BEGIN:VCALENDAR
VERSION:2.0
PRODID:-//Handmade Hong Kong - ECPv6.15.20//NONSGML v1.0//EN
CALSCALE:GREGORIAN
METHOD:PUBLISH
X-WR-CALNAME:Handmade Hong Kong
X-ORIGINAL-URL:https://www.handmadehongkong.com
X-WR-CALDESC:Events for Handmade Hong Kong
REFRESH-INTERVAL;VALUE=DURATION:PT1H
X-Robots-Tag:noindex
X-PUBLISHED-TTL:PT1H
BEGIN:VTIMEZONE
TZID:Asia/Hong_Kong
BEGIN:STANDARD
TZOFFSETFROM:+0800
TZOFFSETTO:+0800
TZNAME:HKT
DTSTART:20200101T000000
END:STANDARD
END:VTIMEZONE
BEGIN:VEVENT
DTSTART;TZID=Asia/Hong_Kong:20210711T110000
DTEND;TZID=Asia/Hong_Kong:20210711T180000
DTSTAMP:20260424T020216
CREATED:20210416T041549Z
LAST-MODIFIED:20210710T065300Z
UID:5630-1626001200-1626026400@www.handmadehongkong.com
SUMMARY:Discovery Bay Sunday Market – July 2021
DESCRIPTION:Vendor applications now closed. \nPlease email register@handmadehongkong.com if you would like to be added to the vendor waitlist. \nHere is the vendor map for our July 2021 DB market: \n \nSee below for a list of all of the vendors who will be at this market\, please click on the name to reach their website: \n2NU Sunglasses\n30milestone 叄拾而立\nAdkidz\nafrojewellery.hk\nAgnes & Yvonne\nambidexter®\nAnanyakrafts\nAnkyra Home\nAphrodite Mulberry Silk\nAromaa Blendss\nART BY MISBAH\nArts Cowork\nAshley Nizan\nASHNI\nBamboozled\nBamPads\nBare+\nBatik Cantik\nBeerholics\nBella + Nicole Crafty\nBenjamin Lee\nBig Bang Incorporation Limited\nBlack Cat Badges\nbluyonda / Picture Finders\nBodhisattva\nBowtasia\nBrownieasmic\nBubbleMe Hard Seltzer\nCa Lisa Jewellery\nCaai.cc\nCandle Up\nCards by Charito\nCBD Collectiv\nChatteriz\nCheers\nCheese Club / WHAT’sIN\nChillhood\nCompassion Culture\nCopperstone Jewellery\nCraftPandaHK\nDB PartyTime\ndb_shop_thrifts\nDearmiamigas\nDial A Drink\nDougal’s Minerals & Crystals\nEmpress CBD\nEspresso Blooms\nEtterfly\nEverydayisbeachday\nEye Market\nFloralholic X Chillmeme\nFood Medicine Lab 有機愈膳房\nFUNNN FLOWERS + BEADZ and HALIMA KHAN DESIGN\nFUSION FOUNDRY BY MARIA\nGenuinely Not Leather\nGlamour Mother\nGreen Delight\nGss.Lumi x Drunk No More\nHaishang\nHana by Yuzuki Murakami\nHandmade Hong Kong\nHayley lyla\nHealthy Living\nHearty Cook Limited\nHikari The Candle\nHonest Code\nHong Kong CBD\nHydeland\nIAM PURE OILS\nInner Light\nInsomniacTextiles\nItalian Coffee Club\nItalian Foodie Corner\nItyaadi Home\nJeremy Li\nJH Handmade Design x SUM x Kyless Kylie\nJun Lifriese\nKAMA CBD\nKapuhala Space Ltd\nKelly Tan\nKitten Fairyland 貓仙子精品\nKnit Cat\nKohi Drip\nla Rose de Cristal x Fantasy StarStar\nLa Thea\nLaurence Lai Gallery\nLike Food Like Gem\nLoveetie\nLovely Handmade by Helen\nLunite Crystals\nM station\nMade in Peru\nMayse Artisan Bakery\nMere Organics\nMerry Go Shop\nMidgie Natural Insect Repellent\nMiki x Koyo Sha\nMinaroll\nMNRL Co.\nMORE! Condiments\nMulGlee\nN+B Littles\nNature craft\nNot only olives\nNovak Tea\nNovmbr\nO MJ Premium Dried Dog Food\nOctoberEighteen\nOHElJARDIN\nOkinawa Prefectural Government\nOleum Cottage\nPapaya & Bamboo\nPeng Jewels\nPet Atelier\nPetit Chat Noir\nPetitshop\nPlayful Socks\nPristine By Monique\nPsyche Std.\nPure Elegance\nPure Girls x Morocco\nQicha\nRagnCo\nRin’s family\nR M C Design\nrOyGyPsy\nScribble & Scrawl\nSecond Sis HK\nSeecret\nSeremiti\nShadow Projects Limited and Blackwell Leather Co\nSHOP Gamaguchi\nSimple Joy Kurashi\nSix Cat Studios\nSolidayz Hats & Scarves\nSpaceinspace\nSpringbok Wines\nStory by Koo’s\nSubidoo\nSuphia’s Vegan\, Gluten free food\nTempehola x Garden Hill\nterre d’Oc\nThe Able Company\nThe Candleman HK\nThe Concepto\nThe Lovely Things\nThe Nature Conservancy\nThe Oven\nTiny Island\nV Wardrobe\nVanilla Dreams\nVeni. vidi.amavi_candle\nVenture Studios\nVictor & Hugo Gourmet\nW’s Studio\nWayuu+MADE\nYASS COOKIES\nZASHA – Handmade Spiritual Jewelry\nZoko Jewelry\n釘缐工房
URL:https://www.handmadehongkong.com/event/discovery-bay-sunday-market-july-2021/
LOCATION:DB Plaza\, Discovery Bay Plaza\, Discovery Bay Road\, Discovery Bay\, Hong Kong
CATEGORIES:Discovery Bay Main Plaza,Markets
ATTACH;FMTTYPE=image/jpeg:https://www.handmadehongkong.com/wp-content/uploads/2021/04/2021_03_28_DBSundayMarket_1.jpg
ORGANIZER;CN="Handmade Hong Kong":MAILTO:connect@handmadehongkong.com
END:VEVENT
END:VCALENDAR