BEGIN:VCALENDAR
VERSION:2.0
PRODID:-//Handmade Hong Kong - ECPv6.15.20//NONSGML v1.0//EN
CALSCALE:GREGORIAN
METHOD:PUBLISH
X-WR-CALNAME:Handmade Hong Kong
X-ORIGINAL-URL:https://www.handmadehongkong.com
X-WR-CALDESC:Events for Handmade Hong Kong
REFRESH-INTERVAL;VALUE=DURATION:PT1H
X-Robots-Tag:noindex
X-PUBLISHED-TTL:PT1H
BEGIN:VTIMEZONE
TZID:Asia/Hong_Kong
BEGIN:STANDARD
TZOFFSETFROM:+0800
TZOFFSETTO:+0800
TZNAME:HKT
DTSTART:20190101T000000
END:STANDARD
END:VTIMEZONE
BEGIN:VEVENT
DTSTART;TZID=Asia/Hong_Kong:20200112T110000
DTEND;TZID=Asia/Hong_Kong:20200112T180000
DTSTAMP:20260424T020052
CREATED:20190522T224659Z
LAST-MODIFIED:20231031T015444Z
UID:3927-1578826800-1578852000@www.handmadehongkong.com
SUMMARY:Discovery Bay Chinese New Year Market - January 2020
DESCRIPTION:Vendor applications now closed. \nPlease email register@handmadehongkong.com if you would like to be added to the vendor waitlist. \nHere is the vendor map for our January 2020 DB market: \n \nClick on the map to enlarge. \nSee below for a list of all of the vendors who will be at this market\, please click on the name to reach their website: \n2NU Sunglasses\nA-Gain Jewel\nAbigail Choy\nAgnes & Yvonne\nAleb – Mexican Art\nAnatolia cultural centre\nAnkyra Home\nArtisamber\nAster Aroma\nAV Silver –\nAymee Jewelry\nBetelbird\nBig Bang Incorporation Limited\nBlack Cat Badges\nBliss Me\nBloc B\nBook Wise and Small Print\nBowtasia\, Bubbles&spells and Kayla Layla Handmade\nCa Lisa Jewellery\nCalenActive\nChain Brdge Honey Farm\nChromatic Fashion and Jewelry\nChula Hong kong\nChuwawah Jewellery\nCOME Home\nConnie DIY\nCowbird Coffee Roasters\nCRO GOURMET\nDB Party Time\nDBI Nano Water System\nDee SHREE Creations\ndiFV-art\nDiscovery Bay Yacht Club\nDIZAIN\nEat Better\nEbru’s Accessories\nEDITH ART JEWELLERY\nELLEN NG\nEmiko Children’s Clothing\nEtterfly\nEye Market\nFarm Workshop\nFunkyCoolMonkey\nGet back to essentials\nGigi Ng\nGiri’s\nGlassByTLaw\nGolden Paws\nGourmet Point\nGraceful Handmade Soap\nGreen Straw HK\nGreen+ 不只綠\nHandmade Hong Kong\nHandmade Janice\nHB Design\nHealthy Living\nHEAVEN CANDLE\nHISPANIA GOURMET\nHong Kong Trail Map\nHydeland\nidam art\nIl Contadino Marchigiano\nImpact Berry Coffee\nIndian Artists – Hong Kong\nIndika-Santara\nInsomniacKnits\nJanice Art Workshop & Face painting\nJanice Handcraft\nJoanne Chu C9\nJoy Hippo\nKapuhala\nKiji and Momoss\nKNITTED\nKsquared Illustration\nLa Creperie\nLa Meilleure Laine\nLaam’s craftsmanship\nLam’s Work 藍家手藝\nLevain Bakery\nLittle Field\nLittle One Florist\nLittlemoliu\nLocal ginger\nLoiz Cashmere\nLovely Handmade by Helen\nM station\nMade in Peru\nMake it COLOURFUL\nMayse Artisan Bakery\nMe&Berg\nMeliemou Essentials\nMer Culture\nMini-Miche.com\nMommy’s Bag\nMriganka’s Kollection\nN+B Littles\nnature craft\nNo Less Créateur i\nNoesis\nNot Only Olives\nOdile & Odette\nOil Therapy\nPairpairfull\nPCCW\nPeacock FIne Foods\nPersian Art By Hamid\nPersian Rugs and Crafts\nPetit Chat Noir\nPetitshop\nPicture Finders / bluyonda\nPixSpider\nPOLISHFOOD.HK\nPristine Kidz\nPROPOLIA / ORGANIC\nPure Elegance\nPUREALL\nQiCha\nRizzyItalia\nROCK ATOLL\nRougeMex852\nsac la vie\nSakae Lifestyle | JAL Handmade\nSari Nakanishi\nScarflit\nSeed Candle Co.\nSheLei Lifesytle\nSilk Road Desire\nsimplicity + love\nSolidayz Hats\nspaceinspace\nSundara Collections\nTAMAR HK\nThe Bali Box\nThe Lovely Things\nThe Showroom Kids\nThe Third Day / the Bridge\nTina\nTiny Happy Bundles\nTipico Italian Grocer\nUpcyco\nV Brands\nV Wardrobe\nVAMOSHE\nVVfashions\nWaterfall Gardens/Czafari\nWellness – Riki\nWhite Bauhinia Handcrafts\nWIFF\nWorld Wide Fund for Nature Hong Kong\nWoven+MADE\nYiluswine 逸廬酒窖\nYTJ\nYvonne & Annette\nZeittouna Olive Oil\nZoharZ ArtZ\n我們的廣東話 HONG KONG CANTONESE
URL:https://www.handmadehongkong.com/event/discovery-bay-sunday-market-january-2020/
CATEGORIES:Discovery Bay Main Plaza,Markets
ATTACH;FMTTYPE=:
END:VEVENT
END:VCALENDAR