BEGIN:VCALENDAR
VERSION:2.0
PRODID:-//Handmade Hong Kong - ECPv6.15.20//NONSGML v1.0//EN
CALSCALE:GREGORIAN
METHOD:PUBLISH
X-WR-CALNAME:Handmade Hong Kong
X-ORIGINAL-URL:https://www.handmadehongkong.com
X-WR-CALDESC:Events for Handmade Hong Kong
REFRESH-INTERVAL;VALUE=DURATION:PT1H
X-Robots-Tag:noindex
X-PUBLISHED-TTL:PT1H
BEGIN:VTIMEZONE
TZID:Asia/Hong_Kong
BEGIN:STANDARD
TZOFFSETFROM:+0800
TZOFFSETTO:+0800
TZNAME:HKT
DTSTART:20190101T000000
END:STANDARD
END:VTIMEZONE
BEGIN:VEVENT
DTSTART;TZID=Asia/Hong_Kong:20200419T110000
DTEND;TZID=Asia/Hong_Kong:20200419T180000
DTSTAMP:20260424T053517
CREATED:20190522T230012Z
LAST-MODIFIED:20190522T230012Z
UID:3936-1587294000-1587319200@www.handmadehongkong.com
SUMMARY:CANCELLED : Discovery Bay Sunday Market - April 2020
DESCRIPTION:Unfortunately due to the current situation regarding the Covid-19 virus\, the April DB Sunday Market is cancelled.\n\nWe are deeply saddened to have to cancel one of our events. The cancellation has been carefully considered and was made in accordance with government recommendations\, advice from the FEHD\, and our venue partners Hong Kong Resorts International.\n\n\nYou can see a list of all of our upcoming events here. \nSee below for a list of all of the vendors who will be at this market\, please click on the name to reach their website: \n2NU Sunglasses\nAfroJewelry\nAmore Collection\nAnatolia cultural centre\nAnkyra Home\nAnnibody\nAntonia Y. Jewelry\nAromaa Blendss\nAster Aroma\nAVRA\nbetelbird\nBig Bang Incorporation Limited\nBlack Cat Badges\nbluyonda / Picture Finders\nBonnie Soon\nBook Wise and Smallprint\nBowtasia\nBy Mamalaterre\nCa Lisa Jewellery\ncardshelf\nChee Stained Glass\nCHEESE CLUB\nConnie DIY\nConspiracy Chocolate/ Wellness\nDB Pary Time\ndear deer\nDear Mi amiga\nDougal’s Minerals & Crystals\nE’sense Tea\nEbru’s Accessories\nEtterfly\nEye Market\nFarm Workshop\nFelix & Co\nFlorence MAHAMMED\nFlosJewelryBox\nFood Medicine Lab\nFunky Cool Monkey\nFusion Craft\nGolden Paws\nHandmade Hong Kong\nHapisabella\nHealthy Living\nHerbal Mama\nHILX Eyewear\nHISPANIA GOURMET\nhome beautiful\nHong Kong Committee for UNICEF\nIAM pure oils\nIl contadino marchigiano\nILUMI NATURE\nImpactHK\nIndika-Santara\nInsomniacKnits\nIsland Ferments\nJanice Art Workshop & Face Painting\nJanice Handcraft\nJJ Marketplace\nKapuhala Space\nLe Presént Perfume\nLevain Bakery\nLilly&Co.\nLovely Handmade by Helen\nLuna Qy Design\nM station\nMade in Peru\nMayo Ong Art\nMayse Artisan Bakery\nMeliemou Essentials Bodycare and Novelty Products\nMinerva Only Jewelry\nMiriya\nmonojewelry\nMyAfric Designs\nNatnat Pink Coconut Water\nnatnatlife x Lyfegreen\nNick Gleitzman photographs\nNiny Mini\nNot Only Olives\nNOVMBR\nOdile & Odette\nOMJ Premium Homemade Dried Dog Food\nParmila Christensen\nPEACOCK FINE FOODS\nPetit Chat Noir\nPinPhant\nPinyin Press\nPlayful Socks\nQiCha\nQueen Viriya\nRahee’s Henna Painting\nreBooked\nReyPersia\nRIL CREED\nRizzyItalia\nRM’s Fine Watercolour Paintings\nROCK ATOLL\nSarah Brennan Books\nSarment Wines\nScarflit\nSensation x KTMSS\nSimply Bliss by Angel C\nSoher.HK and AMEGO Soap & Skin Care\nSOLIDAYZ HATS & SCARVES\nspaceinspace\nSuida\nSummer Bay\nTeresa’s Turkish Towels\nThe BLOMSTRE\nThe Concepto\nThe Good Merchants\nTiny Happy Bundles\nTokki Eco Store\nV Brands\nVintage Time\nVladi & Mocha art\nWander With Nicole\nWASAI H&N\nWisdomDrops\nWOODCO Candles\nWoven+MADE\nYilu’s Wine 逸廬酒窖\nYTJ\nZiu Projects Handcraft and Florist\nZoharZ ArtZ\n然本澗 ESSENTIAL NATURE\n純麥片製作社
URL:https://www.handmadehongkong.com/event/discovery-bay-sunday-market-april-2020/
CATEGORIES:Discovery Bay Main Plaza,Markets
ATTACH;FMTTYPE=:
END:VEVENT
END:VCALENDAR