BEGIN:VCALENDAR
VERSION:2.0
PRODID:-//Handmade Hong Kong - ECPv6.15.20//NONSGML v1.0//EN
CALSCALE:GREGORIAN
METHOD:PUBLISH
X-WR-CALNAME:Handmade Hong Kong
X-ORIGINAL-URL:https://www.handmadehongkong.com
X-WR-CALDESC:Events for Handmade Hong Kong
REFRESH-INTERVAL;VALUE=DURATION:PT1H
X-Robots-Tag:noindex
X-PUBLISHED-TTL:PT1H
BEGIN:VTIMEZONE
TZID:Asia/Hong_Kong
BEGIN:STANDARD
TZOFFSETFROM:+0800
TZOFFSETTO:+0800
TZNAME:HKT
DTSTART:20210101T000000
END:STANDARD
END:VTIMEZONE
BEGIN:VEVENT
DTSTART;TZID=Asia/Hong_Kong:20220109T110000
DTEND;TZID=Asia/Hong_Kong:20220109T180000
DTSTAMP:20260424T041750
CREATED:20210706T033744Z
LAST-MODIFIED:20220105T093036Z
UID:5732-1641726000-1641751200@www.handmadehongkong.com
SUMMARY:CANCELLED : Discovery Bay Sunday Market – 9th January 2022
DESCRIPTION:Unfortunately\, due to the recent situation with Covid-19 cases in HK\, the January 9th DB Sunday Market has been CANCELLED. We hope to see you all again soon 😓😓😓😓😓 \nHere is the vendor map for our 9th January 2022 DB market: \n \nSee below for a list of all of the vendors who will be at this market\, please click on the name to reach their website: \n22JinStreet\n2NU Sunglasses\n30 Degrees South\n3Scents\nAitch’s Biltong\nALOHALO x PGWHK\nAngelian\nAnkyra Home\nAnsidea\nART BY MISBAH\nAscent Style\nAVRA\nBEYOND Tipsy\nBig Bang Incorporation Limited\nBlooming moment handmade\nbluyonda / Picture Finders\nBodhisattva\nBowtasia\nBRIDGET BRADLEY ART\nBy Mamalaterre\nCa Lisa Jewellery\nCamyCares Organic Wellness Skincare\nCandle Up\nChangani Couture\nChromatic Fashion & Jewellery\nCopperstone Jewellery\nDB Party Time\nDougal’s Crystals\nDragon Bars\nDwaMucHandMade\nEdith Art & Jewellery\nEmbody\nEmpress CBD\netcetera Hong Kong\nEtterfly\nEye Market\nFar Yeast Brewing Company Hong Kong & Macau\nFloat Captain Surf Supply\nFloral Woods & Co 花林造物\nFlow With Me HK\nFUNNN FLOWERS / Halima Khan Design\nGarasu Hana\nGarden of Ethnic Holic\nHand Blended Flavoured Tea from Sri Lanka – The Chameleon Collective\nHandmade by Hatten\nHandmade Hong Kong\nHappy Crystal\nHappy E’s Store | 一瓢 | Untitled Patisserie\nHealth & Beauty\nHealthy Living\nHK Copper Brass\nHKCBD Store\nHome T\nHoopla for Essentials\nillia jewelry\nINKspiration – Calligraphy\nInsomniacTextiles\nIOSOI SKIN LAB\nIra Creation & Co\nITALIAN COFFEE CLUB\nItalian Foodie Corner\nItyaadi Home\nKapuhala Space Ltd\nlaurence lai gallery\nLilly&Co.\nLILYS.JEWELRY\nLimonade Candles\nLittle Fiore\nLittlemoliu\nLovely Handmade by Helen\nM station\nM2RS\nMade in Peru\nMad Jelly Chilli\nMandatory Provident Fund Schemes Authority\nMargareth Handmade\nMARILU DOLLS\nMaryna Eden\nMayse artisan bakery\nMOB daily Marketing and Consultants Limited\nMomentaneous\nMommy’s Bag\nMother Nature craft\nMy Rooftop is Green\nNicole Canary Handmade Craft\nNo Less Créateur\nNomsoftheday\nNot only olives\nOMJ Premium Homemade Dried Dog Food\nOP!Sweet\nOrganic Shea Mantra\nOZZIE COZZIE\nPersian Carpets and Crafts\nPetit Chat Noir\nPetitshop\nPinky Swear Candle Studio\nPlayful Socks\nPsycheStd.co\nPure  Elegance\nQICHA\nRather Delicate\nRebounce CBD\nRMC Design\nRoot & Leaf\nrOyGyPsy\nSaStained Glass\nScarflit\nSEMA SHOP\nSeremiti\nSmall Potato Co.\nSodacoo\nSoek Sunglasses\nSolidayz Hats & Scarves\nSome Old Some New\nSOULRELLE\nspaceinspace\nSpreadble\nSpringbok Wines\nSunday Gems Project / Crystal Neptune HK\nTakis Biltong It’s Very Lekker\nTatting 1010\nterre d’Oc\nTHE BLOMSTRE\nThe Butternut Company\nThe Flanders Tapestry Collection\nThe Kookē\nThe Summer Bay\nTimeless by Temmy\nTiny Island\nTraders of Hong Kong\nTribal Rugs Centre\nTsaoao Papercut\nUrban Forest\nVan Martin\nVanilla Dreams\nVenture Studios\nVictor & Hugo Gourmet\nWildalp Baby\nWorld Wide Fund for Nature Hong Kong\nYASS COOKIES\nYiu Unique Creation\nYTJ\nZASHA\nZENZ by JCE\n然本澗  ESSENTIAL NATURE
URL:https://www.handmadehongkong.com/event/discovery-bay-sunday-market-9th-january-2022/
LOCATION:DB Plaza\, Discovery Bay Plaza\, Discovery Bay Road\, Discovery Bay\, Hong Kong
CATEGORIES:Discovery Bay Main Plaza,Markets
ATTACH;FMTTYPE=image/png:https://www.handmadehongkong.com/wp-content/uploads/2021/07/IG-HmHK-2022-Digital-Square-01.png
ORGANIZER;CN="Handmade Hong Kong":MAILTO:connect@handmadehongkong.com
END:VEVENT
END:VCALENDAR