BEGIN:VCALENDAR
VERSION:2.0
PRODID:-//Handmade Hong Kong - ECPv6.15.20//NONSGML v1.0//EN
CALSCALE:GREGORIAN
METHOD:PUBLISH
X-WR-CALNAME:Handmade Hong Kong
X-ORIGINAL-URL:https://www.handmadehongkong.com
X-WR-CALDESC:Events for Handmade Hong Kong
REFRESH-INTERVAL;VALUE=DURATION:PT1H
X-Robots-Tag:noindex
X-PUBLISHED-TTL:PT1H
BEGIN:VTIMEZONE
TZID:Asia/Hong_Kong
BEGIN:STANDARD
TZOFFSETFROM:+0800
TZOFFSETTO:+0800
TZNAME:HKT
DTSTART:20200101T000000
END:STANDARD
END:VTIMEZONE
BEGIN:VEVENT
DTSTART;TZID=Asia/Hong_Kong:20210328T110000
DTEND;TZID=Asia/Hong_Kong:20210328T180000
DTSTAMP:20260424T020215
CREATED:20201210T100330Z
LAST-MODIFIED:20210326T082756Z
UID:4567-1616929200-1616954400@www.handmadehongkong.com
SUMMARY:Discovery Bay Easter Market - 28th March 2021
DESCRIPTION:Vendor applications now closed. \nPlease email register@handmadehongkong.com if you would like to be added to the vendor waitlist. \nHere is the vendor map for our 28th March 2021 DB market: \n \nSee below for a list of all of the vendors who will be at this market\, please click on the name to reach their website: \n2NU Sunglasses\nAdam Minusculave\nAdventures of The Farting Princess\nafrojewellery.hk\nAlvin c.k. Lam Art\nAnanyakrafts\nAngel Kong\nAnkyra Home\nAnnibody\nAntonia Y. Jewelry\nAromaa Blendss\nArt By Misbah\nArts Cowork\nASHNI\nAurora Lifestyle Store\nAVRA\nBaby House\nBalazs Fejes Photography\nBamboozled\nBeerholics\nBetelbird\nBlack Cat Badges\nBook Wise and Sundara Collections\nBositos\nBOWER(BIRD)\nBowtasia\nBy Mamalaterre\nCa Lisa Jewellery\nCandle Up\nCards & Paintings by Kim\ncardshelf\nCasa Luna Decor\nCentury Craftsman\nCeramics by Luna & Bottle | Pensato | Van\nChezza\nChromatic Fashion & Jewellery\nCIAO ITALIA HK\nCinnamon\nCorporate Global Products\nCowbird Coffee Roasters\ncravings.byjv\nCrystal Magic\nDB PartyTime\nDinky Suds\nDougal’s Minerals & Crystals\nEco Glitter HK\nEdith Art & Jewellery\nEspresso Blooms\nEtherealbyCaroline\nEtterfly\nfeat.FASHION\nFound\nFrenchie Toquée\nHAISHANG\nHandmade Hong Kong\nHealthy Living\nHitori Sekiya\nHong Kong CBC\nHoopla for Essentials\nHUIJUN LI-FRIESE\nIndica\nIndie Global\nInsomniacTextiles\nIsa-Bella-C.com\nItalian Foodie Corner\nItyaadi Home\nJamila Jewelry\nJH Handmade Design x SUM x Kyless Kylie.\nKAMA CBD\nKapuhala Space\nKRIA NATURALS\nLammaMugMug\nLilly&Co.\nLiz Fry Design & Wander with Nicole\nLovely Handmade by Helen\nM station\nMade in Peru\nMake it COLOURFUL\nMargot Hamilton\nMayse artisan bakery\nMeow3soap\nMeow Moo\nMeTime~Taste in Love\nMilk It Baby\nMini Love Tales\nMISSCBDHK\nMommy’s Bag\nMyGreenZing\nNick Gleitzman photographs\nNina Fleur Decor\nNo Less Créateur\nNot only olives\nNTER\nOMJ Premium Dried Dog Food\none piece making\nOZZIE COZZIE\nPage 3 handmade\nPaper-Roses\nParmila Christensen\nPASTEL LARITA\npeacock fine foods\nPersian Carpets and Crafts\nPetit Chat Noir\nPinyin Press\nPixSpider\nPopsy Activewear\nRaji Jeerasinghe Art\nRebecka Lundin\nROCK ATOLL\nScribble & Scrawl\nScript + Sea\nSCRUBS’N’JAZZ\nSEMA SHOP\nSeremiti\nShimmer & Shine\nSolidayz Hats\nStarry World Map\nSUMMER\nSuwimol Soap\nTea And Virtue\nTeresa’s Turkish Towels\nTERRAOOAK\nThe Cushion Project\nTiny Island\nUpcycled by Michal\nVeni. vidi.amavi_candle\nVinita Turakhia\nweUP Handmade for Change\nWOODCO\nwww.BuyRealFossils.com\nYASS COOKIES\nYooxia Studio\nZarè\nZASHA\n然本澗   ESSENTIAL NATURE \n 
URL:https://www.handmadehongkong.com/event/discovery-bay-sunday-market-28th-march-2021/
LOCATION:DB Plaza\, Discovery Bay Plaza\, Discovery Bay Road\, Discovery Bay\, Hong Kong
CATEGORIES:Discovery Bay Main Plaza,Markets
ATTACH;FMTTYPE=image/jpeg:https://www.handmadehongkong.com/wp-content/uploads/2020/12/WhatsApp-Image-2020-12-19-at-10.44.35-1.jpeg
ORGANIZER;CN="Handmade Hong Kong":MAILTO:connect@handmadehongkong.com
END:VEVENT
END:VCALENDAR