BEGIN:VCALENDAR
VERSION:2.0
PRODID:-//Handmade Hong Kong - ECPv6.15.20//NONSGML v1.0//EN
CALSCALE:GREGORIAN
METHOD:PUBLISH
X-WR-CALNAME:Handmade Hong Kong
X-ORIGINAL-URL:https://www.handmadehongkong.com
X-WR-CALDESC:Events for Handmade Hong Kong
REFRESH-INTERVAL;VALUE=DURATION:PT1H
X-Robots-Tag:noindex
X-PUBLISHED-TTL:PT1H
BEGIN:VTIMEZONE
TZID:Asia/Hong_Kong
BEGIN:STANDARD
TZOFFSETFROM:+0800
TZOFFSETTO:+0800
TZNAME:HKT
DTSTART:20210101T000000
END:STANDARD
END:VTIMEZONE
BEGIN:VEVENT
DTSTART;TZID=Asia/Hong_Kong:20220619T110000
DTEND;TZID=Asia/Hong_Kong:20220619T180000
DTSTAMP:20260424T015416
CREATED:20220425T004558Z
LAST-MODIFIED:20220616T052157Z
UID:8288-1655636400-1655661600@www.handmadehongkong.com
SUMMARY:Discovery Bay North Market – 19th June 2022
DESCRIPTION:The DB North Market will feature a “Food\, Beverage and Fathers Day” theme this month. \nVendor applications now closed. \nPlease email register@handmadehongkong.com if you would like to be added to the vendor waitlist. \nPlease note that our market is covered by the HK government’s vaccine pass requirements.  More information can be found here. \nHere is the vendor map for our 19th June 2022 DB North market: \n \nSee below for a list of all of the vendors who will be at this market\, please click on the name to reach their website: \n2NU Sunglasses\n30 Degrees South\nA.MORE Collection\nAfrica to Asia Ltd\nAfrican Cannamed\nAitch’s Biltong\nBubbleMe Hard Seltzer\nCandle Up\nCHEESE CLUB\nCircles by Jonathan\nDrover’s Thirst\nEllmerWoodWorks\nEtterfly\nGloBilly\nGOODD Organic chocolates\nGreenmont Kids\nHaishang\nHandmade by Hatten\nHandmade Hong Kong\nHealthy Living\nHyphen Studio\nIndie Global\nIsland Life\nJHAAROKHA\nJUNE 19\nLIQRBOX\nM Station\nMerry Go Shop by CECES\nminami.de.room\nMore Tea hong Kong\nNgs family leather crafts\nOn Paper Lab\nOn The Wagon Kombucha + Glory Dough\nPet Space\nPetit Chat Noir\nPirita\nPRESTIGIOUS\nPuptails\nPuressentiel\nQicha\nrangehennaaa\nSakeholic\nSANTO\nScarflit\nSeremiti\nSodacoo\nSoft Bright Moment\nStay Collapse\nSteps To The Future\nStyle Loft\nStyle Standard\nSuchness\nTahanan Crafts\nTatting 1010\nTouchableembroidery\nVanilla Dreams\nVenture Studios\nViCACC\nVintage Time\nYASS COOKIES\nZASHA Handmade Jewellery
URL:https://www.handmadehongkong.com/event/discovery-bay-north-market-19th-june-2022/
LOCATION:DB North Plaza\, 92 Siena Avenue\, Discovery Bay\, Hong Kong
CATEGORIES:Discovery Bay North Plaza,Markets
ATTACH;FMTTYPE=image/jpeg:https://www.handmadehongkong.com/wp-content/uploads/2022/04/2021_04_25_Market_1-scaled.jpg
ORGANIZER;CN="Handmade Hong Kong":MAILTO:connect@handmadehongkong.com
END:VEVENT
END:VCALENDAR