BEGIN:VCALENDAR
VERSION:2.0
PRODID:-//Handmade Hong Kong - ECPv6.15.20//NONSGML v1.0//EN
CALSCALE:GREGORIAN
METHOD:PUBLISH
X-WR-CALNAME:Handmade Hong Kong
X-ORIGINAL-URL:https://www.handmadehongkong.com
X-WR-CALDESC:Events for Handmade Hong Kong
REFRESH-INTERVAL;VALUE=DURATION:PT1H
X-Robots-Tag:noindex
X-PUBLISHED-TTL:PT1H
BEGIN:VTIMEZONE
TZID:Asia/Hong_Kong
BEGIN:STANDARD
TZOFFSETFROM:+0800
TZOFFSETTO:+0800
TZNAME:HKT
DTSTART:20240101T000000
END:STANDARD
END:VTIMEZONE
BEGIN:VEVENT
DTSTART;TZID=Asia/Hong_Kong:20250413T110000
DTEND;TZID=Asia/Hong_Kong:20250413T180000
DTSTAMP:20260424T051844
CREATED:20241010T064133Z
LAST-MODIFIED:20250412T131920Z
UID:10709-1744542000-1744567200@www.handmadehongkong.com
SUMMARY:Discovery Bay Easter Market - April 2025
DESCRIPTION:If you would like to join us as a vendor at this market\, please email us on register@handmadehongkong.com for more information. \nHere is the vendor map for our 13th April 2025 DB Sunday market: \n \nSee below for a list of all of the vendors who will be at this market\, please click on the name to reach their website: \nAI Dogroomspet x Rainbow Pet\nAlisper\nangel Wong Image\nArt-Tastic Hobbies Centre Ltd.\nARTIZENSE & By.Namuas\nAtelier mami\nAYNA\nBakedClay\nbangbangBOO\nBe Mysig\nBlacktortoise Embroidery\nBorgovivo Limited\nBotani Bloom\nBy Kati\nCacacard\nCalling for chains\ncandy.accessories_shop\ncc.lia\nChomade\nCrochet N Honey\nCurio Cubs\nDAVID FASHIONS\nDazzleDrobe\nDBBREW\nDwaMucHandMade\nEat-ate-Eaten Trading\nEggbernedict\nEk Cup Chai with Jesus\nELSARTOV\nEra trading\nEtoile brillante\nFelix & Mina Your Family Store\nGaia Harvest\nGallery Nail Tip\nGloBilly\nGloria & Step Face Paint\nGoosebump\nGreenmont Kids\nHandmade Hong Kong\nHealthy Living\nHello Woof\nHK RECORDING STUDIO\nHonnih – Microfood Indonesia\nHuggieGarden\nIndie Global\nJOURNOSE\nJust Mud Studio\nKalasiddhiart\nKidvolio\nLABELS PLUS\nLelejewelz\nLetter Nie Calligraphy\nLorraine’s Soul Art\nM Arts & Crafts\nMandatory Provident Fund Schemes Authority\nManique\nMetonceoffate\nMuddy Buddies\nNeon Athletica\nNiks & Tiks Collection\nOMJ Premium Homemade Dried Dog Food\nOrient Concepts\nPehnaawa.my\nPET_NATURE852\npinkminy\nPoco è poco\nPortuguese Spot\nResin Rebel HK\nRichard Crosbie Art\nRIKA SHIOYA .BOUTIQUE\nROLLING BOOKS\nRoygypsy\nSave Jewellery\nSports Lab\nSteak King Holdings Limited\nSugoi Fun Crafts\nTanzsi\nTara Neilson\nThe Candleman Hk\nThe Golden Ages and Kafenomad\nThe Jocosus\nThe Needle Nook\nUA Handcrafts\nVenture Studios\nVernette Lai\nVictoria’s facepainting\nWAAVE adaptogenic drinks\nWaiting Art Corner\nWalk & Talk® / DL Handmade Dog Wear\nWasai H&N\nWhispers of wicks\nWinifred’s elf handmade soap shop\nWorld Vision\nYan’s Yarn Crafts\nYu_Clover.store\n拾芳一念
URL:https://www.handmadehongkong.com/event/discovery-bay-easter-market-april-2025/
LOCATION:DB Plaza\, Discovery Bay Plaza\, Discovery Bay Road\, Discovery Bay\, Hong Kong
ATTACH;FMTTYPE=image/jpeg:https://www.handmadehongkong.com/wp-content/uploads/2024/06/Handmade-HK-60-21.jpg
ORGANIZER;CN="Handmade Hong Kong":MAILTO:connect@handmadehongkong.com
END:VEVENT
END:VCALENDAR