BEGIN:VCALENDAR
VERSION:2.0
PRODID:-//Handmade Hong Kong - ECPv6.15.20//NONSGML v1.0//EN
CALSCALE:GREGORIAN
METHOD:PUBLISH
X-WR-CALNAME:Handmade Hong Kong
X-ORIGINAL-URL:https://www.handmadehongkong.com
X-WR-CALDESC:Events for Handmade Hong Kong
REFRESH-INTERVAL;VALUE=DURATION:PT1H
X-Robots-Tag:noindex
X-PUBLISHED-TTL:PT1H
BEGIN:VTIMEZONE
TZID:Asia/Hong_Kong
BEGIN:STANDARD
TZOFFSETFROM:+0800
TZOFFSETTO:+0800
TZNAME:HKT
DTSTART:20210101T000000
END:STANDARD
END:VTIMEZONE
BEGIN:VEVENT
DTSTART;TZID=Asia/Hong_Kong:20220410T110000
DTEND;TZID=Asia/Hong_Kong:20220410T180000
DTSTAMP:20260424T030935
CREATED:20210706T034450Z
LAST-MODIFIED:20220223T032645Z
UID:5759-1649588400-1649613600@www.handmadehongkong.com
SUMMARY:CANCELLED : Discovery Bay Easter Market – April 2022
DESCRIPTION:Unfortunately\, due to the extension of the current social distancing measures\, our April DB Market has been cancelled.  We hope to see you again soon.
URL:https://www.handmadehongkong.com/event/discovery-bay-easter-market-april-2022/
LOCATION:DB Plaza\, Discovery Bay Plaza\, Discovery Bay Road\, Discovery Bay\, Hong Kong
CATEGORIES:Discovery Bay Main Plaza,Markets
ATTACH;FMTTYPE=image/png:https://www.handmadehongkong.com/wp-content/uploads/2021/07/Screenshot-2022-01-06-at-3.23.07-PM.png
ORGANIZER;CN="Handmade Hong Kong":MAILTO:connect@handmadehongkong.com
END:VEVENT
END:VCALENDAR