BEGIN:VCALENDAR
VERSION:2.0
PRODID:-//Handmade Hong Kong - ECPv6.15.20//NONSGML v1.0//EN
CALSCALE:GREGORIAN
METHOD:PUBLISH
X-WR-CALNAME:Handmade Hong Kong
X-ORIGINAL-URL:https://www.handmadehongkong.com
X-WR-CALDESC:Events for Handmade Hong Kong
REFRESH-INTERVAL;VALUE=DURATION:PT1H
X-Robots-Tag:noindex
X-PUBLISHED-TTL:PT1H
BEGIN:VTIMEZONE
TZID:Asia/Hong_Kong
BEGIN:STANDARD
TZOFFSETFROM:+0800
TZOFFSETTO:+0800
TZNAME:HKT
DTSTART:20220101T000000
END:STANDARD
END:VTIMEZONE
BEGIN:VEVENT
DTSTART;TZID=Asia/Hong_Kong:20231210T110000
DTEND;TZID=Asia/Hong_Kong:20231210T180000
DTSTAMP:20260424T004805
CREATED:20221014T103127Z
LAST-MODIFIED:20231209T044028Z
UID:8586-1702206000-1702231200@www.handmadehongkong.com
SUMMARY:Discovery Bay Christmas Market – 10th December 2023
DESCRIPTION:Vendor applications are now closed and this market is already fully booked.  If you would like to join the waitlist\, please email us on register@handmadehongkong.com for more information. \nHere is the vendor map for our 10th December 2023 DB Christmas market: \n \nSee below for a list of all of the vendors who will be at this market\, please click on the name to reach their website: \n2nu Sunglasses\n3sisko\n5FEET2 Jewellery\n852 & Beyond\nA-MORE collection\nAITCH’S BILTONG\nAlice Randell\nAmber Projects\nAmygdala Zen\nAnginess\nAnkyra Home\nAnna Smith Pottery\nAroma Seeker\nAromaa Blendss\nAtelier Dahlia\nAtNiche\nAWS\nAyna\nBarefoot Buddies\nBeam Bold\nBegleitan\nBESONDERHEIT. Kids Clothing\nBibish\nBig Bang Incorporation Limited\nBlack Cat Badges\nBlack Sugar Coffee\nBluyonda / Picture Finders\nBoudica\nBubbles&Spells\nBy Mamalaterre\nCALI & LOU\nCandle Up\nCARY Regimen\nCha Chaan Mart\nChangani Couture\nCheese Club\nChromatic Apparel & Jewellery\nCitiScent\nCommon Lotus\nCookieMon+\nCraftable (The Nesbitt Centre)\nCrafted Creations\nCristallo\nCrystal D’Amor\nDee Gogh\nDeen Deen Dei\nDettyfingers\nDhallyBake\nDL handmade dog wear / walk n talk\nDolphin Decor House\nDorsia decor\nDots.hk\nDwaMucHandMade\nDWD art\nETTERFLY\nEye Market\nFour Grams Cookies\nGinsanity\nGloBilly\nGlory Dough Bakery\ngo play! hk\nGolden Wood\nGood Vibes Designer\nGoosebump\nGrabNat\nHanabi Workshop\nHandmade Hong Kong\nHealthy Living\nHerbal Mama\nhi\,Love\nHILX Eyewear Co. ltd.\nHimalayas Craft Limited\nHiraya Scent & Co.\nHKCopperBrass\nhkwinenot\nHong Kong Puzzle Mystery\nHunter James Candles\nHw2 creations\nIce of Jadeite\nIndie Global\nInner Bliss Designs\nJan’s Aesthetics of Nature\nJUM\nKalasiddhiart Concepts\nKapuhala Space Ltd\nKigumi Group\nKosen Tuckshop\nLammaste\nLea james Purse organizers\nLelejewelz\nLetter J\nLilly&Co.\nLittle Island Learning\nLittle Miss Louw\nLittle sketch studio\nLittlemoliu\nLoganMami Handmaking\nMad Jelly Chilli\nMade in Peru\nMahika’s label (MAL)\nMake and Do HK\nMalt Uncle\nmeraki design\nMiliMilu\nminboxes.com\nMMOable\nMommy’s Bag\nMore Tea Hong Kong\nMusclejazzy\nMuseek Studio Hong Kong\nMy Casa Decor\nmy Song\nNaked Soap\nNess Matthews Handmade\nNick Gleitzman photographs\nOh My Gem\nohmylk\nOMJ Premium Homemade Dried Dog Food\nONESEC Eyewear\nOselia.decor\nOther..Worldly Candle\nOwlisssh\nOZZIE COZZIE\nPaper-Roses\nPassion For Pearls\nPAU PAU accessories\nPBWoodenware\nPersian Carpets and Crafts\nPetitshop\nPlayful Socks\nPOPKOI\nR florist\nRambler Craft\nRichard Crosbie Art\nROCK ATOLL\nRotary Club Discovery Bay\nScribble & Scrawl\nSeabee Gift Shop\nSIS_LIFETIME\nSissy Lam\nSmall Good Coffee & Baked Goods\nsolevenir\nSolidayz Hats & Scarves\nSoo’s Doodle\nSophCrafts\nSOULRELLE\nSteps To The Future\nSusu beads\, Blessed Tree 幸之桐\, Sakura Anestesia 櫻之美學\nSwedish’s Handmade Bodycare\nThe Flanders Tapestry Collection\nThe happi bean + The Blomstre + Letcha + leleandmonkey\nThe Kookē\nThe Organic Collective\nThe Quiet Place Art & kuzu.hk\nTiARA Cosmetics\nTin’s Ceramicology\nTranquility & Unveil\nUpcycled by michal\nVeni Vidi Amavi Candle\nVenture Studios\nVi Galerie\nVINO – Artisan Italian Wine\nWaWa Shop\nWay.b Florist\nWAYS OUT HONG KONG\nWoodbury Revival\nYASS COOKIES
URL:https://www.handmadehongkong.com/event/discovery-bay-christmas-market-december-2023/
LOCATION:DB Plaza\, Discovery Bay Plaza\, Discovery Bay Road\, Discovery Bay\, Hong Kong
CATEGORIES:Discovery Bay Main Plaza,Markets
ATTACH;FMTTYPE=image/jpeg:https://www.handmadehongkong.com/wp-content/uploads/2022/10/WhatsApp-Image-2021-12-13-at-12.14.57-PM.jpeg
ORGANIZER;CN="Handmade Hong Kong":MAILTO:connect@handmadehongkong.com
END:VEVENT
END:VCALENDAR