BEGIN:VCALENDAR
VERSION:2.0
PRODID:-//Handmade Hong Kong - ECPv6.15.20//NONSGML v1.0//EN
CALSCALE:GREGORIAN
METHOD:PUBLISH
X-WR-CALNAME:Handmade Hong Kong
X-ORIGINAL-URL:https://www.handmadehongkong.com
X-WR-CALDESC:Events for Handmade Hong Kong
REFRESH-INTERVAL;VALUE=DURATION:PT1H
X-Robots-Tag:noindex
X-PUBLISHED-TTL:PT1H
BEGIN:VTIMEZONE
TZID:Asia/Hong_Kong
BEGIN:STANDARD
TZOFFSETFROM:+0800
TZOFFSETTO:+0800
TZNAME:HKT
DTSTART:20220101T000000
END:STANDARD
END:VTIMEZONE
BEGIN:VEVENT
DTSTART;TZID=Asia/Hong_Kong:20231217T110000
DTEND;TZID=Asia/Hong_Kong:20231217T180000
DTSTAMP:20260424T004827
CREATED:20231006T022430Z
LAST-MODIFIED:20231215T084127Z
UID:9887-1702810800-1702836000@www.handmadehongkong.com
SUMMARY:Discovery Bay Christmas Market - 17th December 2023
DESCRIPTION:This is the new date for the postponed 8th October DB Market\, which was cancelled due to typhoon Koinu. \nIf you would like to join us as a vendor at this market\, please email us on register@handmadehongkong.com for more information. \nHere is the vendor map for our 17th December 2023 DB Christmas market: \n \nSee below for a list of all of the vendors who will be at this market\, please click on the name to reach their website: \n+bread Bakery\n6 Scents\nAlice Randell\nAmber Projects\nAMBER’S CREATION\nAMREEN JEWELLERY\nAmygdala Zen\nANETIK\nAnginess\nANKA TASTE\nAnkyra Home\nAquarium and Plants\nARTwithHEART FROM kamala\nASTER X Jewelry\nAVRA\nAyna\nBaker’s Secret\nBAKINGJADES\nBath & Balms\nBee Australian HK\nBoho Mix\nBou:3\nBoyii International （Hong Kong）Limited\nBrew Project\nbun Bun Vintage\nBy Ginny\nBy Mamalaterre\nCALI & LOU\nCamilas_Handcrafter\nCandle Up\nCarley Chiu\nCASH-N-CARRY FLEA\nCASPAR HOUSE\nChestnut Corner\nChromatic Apparel & Jewellery\nCircle Walker 周圍行\nCitiScent\nCoffee Omakase\nCOLORFIT/REBELTATTOOS\nCookie Smiles\nCookieMon+\nCRAFTY BITCH\nCrystal d’Amor\nDASK Leathercraft\nDorsia Decor\nDwaMucHandMade\nEat what Ahh\nEearar\nEmilia Gomez\nEnjoy the moment\nEnoteca Italiana Limited\netcetera Hong Kong\nEversoap各有各皂\nFa Fashion Project Ltd\nFitness In Motion\nFriends Valley Handmade Accessories\nGarden Artemis 樂庭\nGinsanity\nGLOBAL FOOD CONSULTING (HK) LIMITED.\nGloBilly\nGood\nGoosebump\nGrabNat\nGraceful Handmade Soap\nGreenmont Kids\nHair Carnival\nHairosophy\nhandmade by hatten\nHandmade Hong Kong\nHANDMADESHIP\nHarf Fragrances\nHealthy Living\nHiraya Scent & Co.\nHK Paws Foundation\nHong Kong Island Landscape\nHong kong Shark Foundation\nHo’o Love and Us\nHunter James Candles\nIce of Jadeite\nIndie Global\nInked Fitness Apparel\nJ.I Studio\nJ&C Shop\nJULES Handmade\nkanhode\nKhajane\nKosen Tuckshop\nLa Flaneur\nLammaste\nLaurence Lai Gallery\nLelejewelz\nLergo The Label\nLimonade Candles\nlinda harrod art\nLiquidz\nLiquorles\nLITD hK\nLittle Fiore\nLittlemoliu\nLittleQnJuice\nLoganmami Handmaking\nLorento 老蘭土\nLove a Bite\nLying On Table Candle\nMacraftastic\nMade in Peru\nMahikaslabel\nMai Crochets\nMalt Uncle\nMet once of fate\nMICHEL DE PARIS\nMilk It Baby\nMINBOXES.COM\nMiramiri\nmonth Ceramic\nMore tea Hong Kong\nMOSAIC ~ Fine Crafts by Su\nMulticultural Connection\nNick Gleitzman photographs\nNina Fleur\nnoworryshop\nOfee\nOh My Gem\nOld HK Lights Candles\nOMJ Premium Homemade Dried Dog Food\nOnson\non the cloud\nOtter With style\nOZZIE COZZIE\nP Jewelry\npassion For Pearls\nPauPau accessories\npearly & purely\nPelican Haven\nPetitshop\nPharaw\nPlayful Socks\nPlume Care\nPristine by monique\nrelovetransport co.\nRichard Crosbie Art\nRising in Aquarius\nRoche Contemporary + Kosmos Aroma\nSanatura\nScarflit\nSeabee Gift Shop\nSeremiti\nSis lifetime\nSolar Moon Laboratory\nSo Lindo Pets\nSOLTY – Pink Salt\nSoo’s Doodle\nSosu village\nSoufflegrooming\nSoule Socks\nSOULRELLE\nSovikahk and Loop the Donkey\nSpicybanana.oil\nStone and Phenomenon\nsyGiftShop\nT.G.I.F. – Turn_girl_into_fabulous\nTea Said\nTHE BLOMSTRE\nThe Candleman Hk\nThe Letter Box Company\nThe Living Mark Ltd.\nThe Scentist HK\nThe Tramline Liquor Co.\nUnion Star Int’l Holdings Ltd.\nWay.b Florist\nWayuu bag asia\nWestgate\nWet Marketing Ltd.\nWhipCreation Ltd.\nWhollycraft Macao\nWinWin Cookies\nWOODCO Candles + Nora Nora Jewelry\nWOOD WATCH HK\nYASS COOKIES\nYour Own Garden\nZunkeri
URL:https://www.handmadehongkong.com/event/discovery-bay-christmas-market-17th-december-2023/
LOCATION:DB Plaza\, Discovery Bay Plaza\, Discovery Bay Road\, Discovery Bay\, Hong Kong
CATEGORIES:Discovery Bay Main Plaza,Markets
ATTACH;FMTTYPE=image/jpeg:https://www.handmadehongkong.com/wp-content/uploads/2023/09/Christmas-1.jpg
ORGANIZER;CN="Handmade Hong Kong":MAILTO:connect@handmadehongkong.com
END:VEVENT
END:VCALENDAR